BEGIN:VCALENDAR
VERSION:2.0
PRODID:-//Chugachmiut - ECPv6.15.17//NONSGML v1.0//EN
CALSCALE:GREGORIAN
METHOD:PUBLISH
X-ORIGINAL-URL:https://www.chugachmiut.org
X-WR-CALDESC:Events for Chugachmiut
REFRESH-INTERVAL;VALUE=DURATION:PT1H
X-Robots-Tag:noindex
X-PUBLISHED-TTL:PT1H
BEGIN:VTIMEZONE
TZID:America/Anchorage
BEGIN:DAYLIGHT
TZOFFSETFROM:-0900
TZOFFSETTO:-0800
TZNAME:AKDT
DTSTART:20250309T110000
END:DAYLIGHT
BEGIN:STANDARD
TZOFFSETFROM:-0800
TZOFFSETTO:-0900
TZNAME:AKST
DTSTART:20251102T100000
END:STANDARD
BEGIN:DAYLIGHT
TZOFFSETFROM:-0900
TZOFFSETTO:-0800
TZNAME:AKDT
DTSTART:20260308T110000
END:DAYLIGHT
BEGIN:STANDARD
TZOFFSETFROM:-0800
TZOFFSETTO:-0900
TZNAME:AKST
DTSTART:20261101T100000
END:STANDARD
BEGIN:DAYLIGHT
TZOFFSETFROM:-0900
TZOFFSETTO:-0800
TZNAME:AKDT
DTSTART:20270314T110000
END:DAYLIGHT
BEGIN:STANDARD
TZOFFSETFROM:-0800
TZOFFSETTO:-0900
TZNAME:AKST
DTSTART:20271107T100000
END:STANDARD
END:VTIMEZONE
BEGIN:VEVENT
DTSTART;TZID=America/Anchorage:20260326T150000
DTEND;TZID=America/Anchorage:20260326T170000
DTSTAMP:20260419T041142
CREATED:20251231T183754Z
LAST-MODIFIED:20260318T171109Z
UID:10005760-1774537200-1774544400@www.chugachmiut.org
SUMMARY:Chenega Day Holiday Early Office Closure
DESCRIPTION:Cama’i! Chugachmiut will be closed on Friday\, March 27\, for Chenega Day and Monday\, March 30\, for Seward’s Day. Regular business hours will resume on Tuesday\, March 31. \nJan Vanderpool\, Executive Director\, has approved the early closure of Chugachmiut offices and clinics on Thursday\, March 26\, at 3:00 p.m. For clinical staff and VPSOs: Please follow the on-call emergency procedures during early closure and holidays. \nHave a happy and safe holiday!
URL:https://www.chugachmiut.org/event/chenega-day-holiday-early-office-closure-2/
LOCATION:AK
CATEGORIES:Administration
END:VEVENT
BEGIN:VEVENT
DTSTART;VALUE=DATE:20260327
DTEND;VALUE=DATE:20260328
DTSTAMP:20260419T041142
CREATED:20251231T183854Z
LAST-MODIFIED:20251231T201617Z
UID:10005761-1774569600-1774655999@www.chugachmiut.org
SUMMARY:Chenega Day Holiday
DESCRIPTION:Cama’i! Chugachmiut will be closed on Friday\, March 27\, for Chenega Day and Monday\, March 30\, for Seward’s Day. Regular business hours will resume on Tuesday\, March 31. \nJan Vanderpool\, Executive Director\, has approved the early closure of Chugachmiut offices and clinics on Thursday\, March 26\, at 3:00 p.m. For clinical staff and VPSOs: Please follow the on-call emergency procedures during early closure and holidays. \nHave a happy and safe holiday!
URL:https://www.chugachmiut.org/event/chenega-day-holiday-3/
LOCATION:AK
CATEGORIES:Administration
END:VEVENT
BEGIN:VEVENT
DTSTART;VALUE=DATE:20260330
DTEND;VALUE=DATE:20260331
DTSTAMP:20260419T041142
CREATED:20251231T184041Z
LAST-MODIFIED:20260318T171438Z
UID:10005762-1774828800-1774915199@www.chugachmiut.org
SUMMARY:Seward’s Day Holiday
DESCRIPTION:Cama’i! Chugachmiut will be closed on Friday\, March 27\, for Chenega Day and Monday\, March 30\, for Seward’s Day. Regular business hours will resume on Tuesday\, March 31. \nJan Vanderpool\, Executive Director\, has approved the early closure of Chugachmiut offices and clinics on Thursday\, March 26\, at 3:00 p.m. For clinical staff and VPSOs: Please follow the on-call emergency procedures during early closure and holidays. \nHave a happy and safe holiday!
URL:https://www.chugachmiut.org/event/sewards-day-holiday-3/
LOCATION:AK
CATEGORIES:Administration
END:VEVENT
END:VCALENDAR