BEGIN:VCALENDAR
VERSION:2.0
PRODID:-//Chugachmiut - ECPv6.15.17//NONSGML v1.0//EN
CALSCALE:GREGORIAN
METHOD:PUBLISH
X-ORIGINAL-URL:https://www.chugachmiut.org
X-WR-CALDESC:Events for Chugachmiut
REFRESH-INTERVAL;VALUE=DURATION:PT1H
X-Robots-Tag:noindex
X-PUBLISHED-TTL:PT1H
BEGIN:VTIMEZONE
TZID:America/Anchorage
BEGIN:DAYLIGHT
TZOFFSETFROM:-0900
TZOFFSETTO:-0800
TZNAME:AKDT
DTSTART:20250309T110000
END:DAYLIGHT
BEGIN:STANDARD
TZOFFSETFROM:-0800
TZOFFSETTO:-0900
TZNAME:AKST
DTSTART:20251102T100000
END:STANDARD
BEGIN:DAYLIGHT
TZOFFSETFROM:-0900
TZOFFSETTO:-0800
TZNAME:AKDT
DTSTART:20260308T110000
END:DAYLIGHT
BEGIN:STANDARD
TZOFFSETFROM:-0800
TZOFFSETTO:-0900
TZNAME:AKST
DTSTART:20261101T100000
END:STANDARD
BEGIN:DAYLIGHT
TZOFFSETFROM:-0900
TZOFFSETTO:-0800
TZNAME:AKDT
DTSTART:20270314T110000
END:DAYLIGHT
BEGIN:STANDARD
TZOFFSETFROM:-0800
TZOFFSETTO:-0900
TZNAME:AKST
DTSTART:20271107T100000
END:STANDARD
END:VTIMEZONE
BEGIN:VEVENT
DTSTART;TZID=America/Anchorage:20260522T153000
DTEND;TZID=America/Anchorage:20260522T170000
DTSTAMP:20260421T072241
CREATED:20251231T184229Z
LAST-MODIFIED:20251231T184229Z
UID:10005763-1779463800-1779469200@www.chugachmiut.org
SUMMARY:Memorial Day Holiday Early Office Closure
DESCRIPTION:Cama’i! Chugachmiut will be closed on Monday\, May 25\, in observance of Memorial Day. We will resume regular business hours on Tuesday\, May 26. \nJan Vanderpool\, Executive Director\, has approved the early closure of Chugachmiut offices and clinics on Friday\, May 22\, at 3:30 p.m. For clinical staff and Village Public Safety Officers (VPSOs): Please follow the on-call emergency procedures during the early closure and holiday periods. \nHave a happy and safe holiday!
URL:https://www.chugachmiut.org/event/memorial-day-holiday-early-office-closure-3/
LOCATION:AK
CATEGORIES:Administration
END:VEVENT
BEGIN:VEVENT
DTSTART;VALUE=DATE:20260525
DTEND;VALUE=DATE:20260526
DTSTAMP:20260421T072241
CREATED:20251231T184402Z
LAST-MODIFIED:20251231T201810Z
UID:10005764-1779667200-1779753599@www.chugachmiut.org
SUMMARY:Memorial Day Holiday
DESCRIPTION:Cama’i! Chugachmiut will be closed on Monday\, May 25\, in observance of Memorial Day. We will resume regular business hours on Tuesday\, May 26. \nJan Vanderpool\, Executive Director\, has approved the early closure of Chugachmiut offices and clinics on Friday\, May 22\, at 3:30 p.m. For clinical staff and Village Public Safety Officers (VPSOs): Please follow the on-call emergency procedures during the early closure and holiday periods. \nHave a happy and safe holiday!
URL:https://www.chugachmiut.org/event/memorial-day-holiday-3/
LOCATION:AK
CATEGORIES:Administration
END:VEVENT
END:VCALENDAR