BEGIN:VCALENDAR
VERSION:2.0
PRODID:-//Chugachmiut - ECPv6.15.17//NONSGML v1.0//EN
CALSCALE:GREGORIAN
METHOD:PUBLISH
X-ORIGINAL-URL:https://www.chugachmiut.org
X-WR-CALDESC:Events for Chugachmiut
REFRESH-INTERVAL;VALUE=DURATION:PT1H
X-Robots-Tag:noindex
X-PUBLISHED-TTL:PT1H
BEGIN:VTIMEZONE
TZID:America/Anchorage
BEGIN:DAYLIGHT
TZOFFSETFROM:-0900
TZOFFSETTO:-0800
TZNAME:AKDT
DTSTART:20250309T110000
END:DAYLIGHT
BEGIN:STANDARD
TZOFFSETFROM:-0800
TZOFFSETTO:-0900
TZNAME:AKST
DTSTART:20251102T100000
END:STANDARD
BEGIN:DAYLIGHT
TZOFFSETFROM:-0900
TZOFFSETTO:-0800
TZNAME:AKDT
DTSTART:20260308T110000
END:DAYLIGHT
BEGIN:STANDARD
TZOFFSETFROM:-0800
TZOFFSETTO:-0900
TZNAME:AKST
DTSTART:20261101T100000
END:STANDARD
BEGIN:DAYLIGHT
TZOFFSETFROM:-0900
TZOFFSETTO:-0800
TZNAME:AKDT
DTSTART:20270314T110000
END:DAYLIGHT
BEGIN:STANDARD
TZOFFSETFROM:-0800
TZOFFSETTO:-0900
TZNAME:AKST
DTSTART:20271107T100000
END:STANDARD
END:VTIMEZONE
BEGIN:VEVENT
DTSTART;TZID=America/Anchorage:20260904T153000
DTEND;TZID=America/Anchorage:20260904T170000
DTSTAMP:20260421T144238
CREATED:20251231T200158Z
LAST-MODIFIED:20251231T200158Z
UID:10005769-1788535800-1788541200@www.chugachmiut.org
SUMMARY:Labor Day Holiday Early Office Closure
DESCRIPTION:Cama’i! Chugachmiut will be closed on Monday\, Sept. 7\, in observance of Labor Day. We will resume regular business hours on Tuesday\, Sept. 8. \nJan Vanderpool\, Executive Director\, has approved the early closure of Chugachmiut offices and clinics on Friday\, Sept. 4\, at 3:30 p.m.  For clinical staff and Village Public Safety Officers (VPSOs): Please follow on-call emergency procedures during the early closure and the holiday. \nHave a happy and safe holiday!
URL:https://www.chugachmiut.org/event/labor-day-holiday-early-office-closure-2/
LOCATION:AK
CATEGORIES:Administration
END:VEVENT
BEGIN:VEVENT
DTSTART;VALUE=DATE:20260907
DTEND;VALUE=DATE:20260908
DTSTAMP:20260421T144238
CREATED:20251231T200305Z
LAST-MODIFIED:20251231T200305Z
UID:10005770-1788739200-1788825599@www.chugachmiut.org
SUMMARY:Labor Day Holiday
DESCRIPTION:Cama’i! Chugachmiut will be closed on Monday\, Sept. 7\, in observance of Labor Day. We will resume regular business hours on Tuesday\, Sept. 8. \nJan Vanderpool\, Executive Director\, has approved the early closure of Chugachmiut offices and clinics on Friday\, Sept. 4\, at 3:30 p.m.  For clinical staff and Village Public Safety Officers (VPSOs): Please follow on-call emergency procedures during the early closure and the holiday. \nHave a happy and safe holiday!
URL:https://www.chugachmiut.org/event/labor-day-holiday-4/
LOCATION:AK
CATEGORIES:Administration
END:VEVENT
END:VCALENDAR