BEGIN:VCALENDAR
VERSION:2.0
PRODID:-//Chugachmiut - ECPv6.15.17//NONSGML v1.0//EN
CALSCALE:GREGORIAN
METHOD:PUBLISH
X-WR-CALNAME:Chugachmiut
X-ORIGINAL-URL:https://www.chugachmiut.org
X-WR-CALDESC:Events for Chugachmiut
REFRESH-INTERVAL;VALUE=DURATION:PT1H
X-Robots-Tag:noindex
X-PUBLISHED-TTL:PT1H
BEGIN:VTIMEZONE
TZID:America/Anchorage
BEGIN:DAYLIGHT
TZOFFSETFROM:-0900
TZOFFSETTO:-0800
TZNAME:AKDT
DTSTART:20250309T110000
END:DAYLIGHT
BEGIN:STANDARD
TZOFFSETFROM:-0800
TZOFFSETTO:-0900
TZNAME:AKST
DTSTART:20251102T100000
END:STANDARD
BEGIN:DAYLIGHT
TZOFFSETFROM:-0900
TZOFFSETTO:-0800
TZNAME:AKDT
DTSTART:20260308T110000
END:DAYLIGHT
BEGIN:STANDARD
TZOFFSETFROM:-0800
TZOFFSETTO:-0900
TZNAME:AKST
DTSTART:20261101T100000
END:STANDARD
BEGIN:DAYLIGHT
TZOFFSETFROM:-0900
TZOFFSETTO:-0800
TZNAME:AKDT
DTSTART:20270314T110000
END:DAYLIGHT
BEGIN:STANDARD
TZOFFSETFROM:-0800
TZOFFSETTO:-0900
TZNAME:AKST
DTSTART:20271107T100000
END:STANDARD
BEGIN:DAYLIGHT
TZOFFSETFROM:-0900
TZOFFSETTO:-0800
TZNAME:AKDT
DTSTART:20280312T110000
END:DAYLIGHT
BEGIN:STANDARD
TZOFFSETFROM:-0800
TZOFFSETTO:-0900
TZNAME:AKST
DTSTART:20281105T100000
END:STANDARD
END:VTIMEZONE
BEGIN:VEVENT
DTSTART;VALUE=DATE:20261111
DTEND;VALUE=DATE:20261112
DTSTAMP:20260419T070634
CREATED:20251231T200540Z
LAST-MODIFIED:20251231T200540Z
UID:10005772-1794355200-1794441599@www.chugachmiut.org
SUMMARY:Veterans Day Holiday
DESCRIPTION:Cama’i! Chugachmiut will be closed on Wednesday\, Nov. 11\, in observance of Veterans Day. We will resume regular business hours on Thursday\, Nov. 12. \nJan Vanderpool\, Executive Director\, has granted the early closure of Chugachmiut offices and clinics on Tuesday\, Nov. 10\, at 3:30 p.m. For clinical staff and Village Public Safety Officers (VPSOs): Please follow on-call emergency procedures during the early closure and the holiday. \nHave a happy and safe holiday!
URL:https://www.chugachmiut.org/event/veterans-day-holiday-3/
CATEGORIES:Administration
END:VEVENT
BEGIN:VEVENT
DTSTART;TZID=America/Anchorage:20261125T120000
DTEND;TZID=America/Anchorage:20261125T170000
DTSTAMP:20260419T070634
CREATED:20251231T200724Z
LAST-MODIFIED:20251231T200724Z
UID:10005773-1795608000-1795626000@www.chugachmiut.org
SUMMARY:Thanksgiving Day Early Closure
DESCRIPTION:Cama’i! Chugachmiut will be closed on Nov. 26-27\, in observance of Thanksgiving Day. We will resume regular business hours on Monday\, Nov. 30. \nJan Vanderpool\, Executive Director\, has granted the early closure of Chugachmiut offices and clinics on Wednesday\, Nov. 25\, at 12:00 p.m. For clinical staff and Village Public Safety Officers (VPSOs): Please follow on-call emergency procedures during the early closure and the holiday. \nHave a happy and safe holiday!
URL:https://www.chugachmiut.org/event/thanksgiving-day-early-closure-4/
CATEGORIES:Administration
END:VEVENT
BEGIN:VEVENT
DTSTART;VALUE=DATE:20261126
DTEND;VALUE=DATE:20261128
DTSTAMP:20260419T070634
CREATED:20251231T200852Z
LAST-MODIFIED:20251231T200852Z
UID:10005774-1795651200-1795823999@www.chugachmiut.org
SUMMARY:Thanksgiving Day + Day After Thanksgiving Holiday
DESCRIPTION:Cama’i! Chugachmiut will be closed on Nov. 26-27\, in observance of Thanksgiving Day. We will resume regular business hours on Monday\, Nov. 30. \nJan Vanderpool\, Executive Director\, has granted the early closure of Chugachmiut offices and clinics on Wednesday\, Nov. 25\, at 12:00 p.m. For clinical staff and Village Public Safety Officers (VPSOs): Please follow on-call emergency procedures during the early closure and the holiday. \nHave a happy and safe holiday!
URL:https://www.chugachmiut.org/event/thanksgiving-day-day-after-thanksgiving-holiday-2/
CATEGORIES:Administration
END:VEVENT
BEGIN:VEVENT
DTSTART;TZID=America/Anchorage:20261224T120000
DTEND;TZID=America/Anchorage:20261224T170000
DTSTAMP:20260419T070634
CREATED:20251231T201041Z
LAST-MODIFIED:20251231T201041Z
UID:10005775-1798113600-1798131600@www.chugachmiut.org
SUMMARY:Christmas Day Holiday Early Office Closure
DESCRIPTION:Cama’i! Chugachmiut will be closed on Friday\, Dec. 25\, in observance of Christmas Day. We will resume regular business hours on Monday\, Dec. 28. \nJan Vanderpool\, Executive Director\, has granted the early closure of Chugachmiut offices and clinics on Thursday\, Dec. 24\, at 12:00 p.m. For clinical staff and Village Public Safety Officers (VPSOs): Please follow the on-call emergency procedures during early closures and holidays. \nHave a happy and safe holiday!
URL:https://www.chugachmiut.org/event/christmas-day-holiday-early-office-closure-2/
CATEGORIES:Administration
END:VEVENT
BEGIN:VEVENT
DTSTART;VALUE=DATE:20261225
DTEND;VALUE=DATE:20261226
DTSTAMP:20260419T070634
CREATED:20251231T201202Z
LAST-MODIFIED:20251231T201202Z
UID:10005776-1798156800-1798243199@www.chugachmiut.org
SUMMARY:Christmas Day Holiday
DESCRIPTION:Cama’i! Chugachmiut will be closed on Friday\, Dec. 25\, in observance of Christmas Day. We will resume regular business hours on Monday\, Dec. 28. \nJan Vanderpool\, Executive Director\, has granted the early closure of Chugachmiut offices and clinics on Thursday\, Dec. 24\, at 12:00 p.m. For clinical staff and Village Public Safety Officers (VPSOs): Please follow the on-call emergency procedures during early closures and holidays. \nHave a happy and safe holiday!
URL:https://www.chugachmiut.org/event/christmas-day-holiday-4/
CATEGORIES:Administration
END:VEVENT
BEGIN:VEVENT
DTSTART;TZID=America/Anchorage:20261231T153000
DTEND;TZID=America/Anchorage:20261231T170000
DTSTAMP:20260419T070634
CREATED:20251231T013045Z
LAST-MODIFIED:20251231T013045Z
UID:10005754-1798731000-1798736400@www.chugachmiut.org
SUMMARY:New Year's Day Early Office Closure
DESCRIPTION:Chugachmiut offices will be closed on Friday\, Jan. 1\, 2027\, in observance of New Year’s Day. Regular business hours will resume on Monday\, Jan. 4\, 2027. \nJan Vanderpool\, Executive Director\, has approved the early closure of all Chugachmiut offices and clinics on Thursday\, Dec. 31\, at 3:30 p.m. \nFor clinical staff and Village Public Safety Officers (VPSOs): Please follow on-call emergency procedures during the early closure and holiday. \nHave a happy and safe holiday! \n 
URL:https://www.chugachmiut.org/event/new-years-day-early-office-closure-4/
CATEGORIES:Administration
END:VEVENT
BEGIN:VEVENT
DTSTART;VALUE=DATE:20270101
DTEND;VALUE=DATE:20270102
DTSTAMP:20260419T070634
CREATED:20251231T013641Z
LAST-MODIFIED:20251231T013641Z
UID:10005755-1798761600-1798847999@www.chugachmiut.org
SUMMARY:New Year's Day Holiday
DESCRIPTION:Chugachmiut offices will be closed on Friday\, Jan. 1\, 2027\, in observance of New Year’s Day. Regular business hours will resume on Monday\, Jan. 4\, 2027. \nJan Vanderpool\, Executive Director\, has approved the early closure of all Chugachmiut offices and clinics on Thursday\, Dec. 31\, at 3:30 p.m. \nFor clinical staff and Village Public Safety Officers (VPSOs): Please follow on-call emergency procedures during the early closure and holiday. \nHave a happy and safe holiday!
URL:https://www.chugachmiut.org/event/new-years-day-holiday-4/
CATEGORIES:Administration
END:VEVENT
END:VCALENDAR