BEGIN:VCALENDAR
VERSION:2.0
PRODID:-//Chugachmiut - ECPv6.15.17//NONSGML v1.0//EN
CALSCALE:GREGORIAN
METHOD:PUBLISH
X-WR-CALNAME:Chugachmiut
X-ORIGINAL-URL:https://www.chugachmiut.org
X-WR-CALDESC:Events for Chugachmiut
REFRESH-INTERVAL;VALUE=DURATION:PT1H
X-Robots-Tag:noindex
X-PUBLISHED-TTL:PT1H
BEGIN:VTIMEZONE
TZID:America/Anchorage
BEGIN:DAYLIGHT
TZOFFSETFROM:-0900
TZOFFSETTO:-0800
TZNAME:AKDT
DTSTART:20230312T110000
END:DAYLIGHT
BEGIN:STANDARD
TZOFFSETFROM:-0800
TZOFFSETTO:-0900
TZNAME:AKST
DTSTART:20231105T100000
END:STANDARD
BEGIN:DAYLIGHT
TZOFFSETFROM:-0900
TZOFFSETTO:-0800
TZNAME:AKDT
DTSTART:20240310T110000
END:DAYLIGHT
BEGIN:STANDARD
TZOFFSETFROM:-0800
TZOFFSETTO:-0900
TZNAME:AKST
DTSTART:20241103T100000
END:STANDARD
BEGIN:DAYLIGHT
TZOFFSETFROM:-0900
TZOFFSETTO:-0800
TZNAME:AKDT
DTSTART:20250309T110000
END:DAYLIGHT
BEGIN:STANDARD
TZOFFSETFROM:-0800
TZOFFSETTO:-0900
TZNAME:AKST
DTSTART:20251102T100000
END:STANDARD
END:VTIMEZONE
BEGIN:VEVENT
DTSTART;TZID=America/Anchorage:20241107T180000
DTEND;TZID=America/Anchorage:20241107T190000
DTSTAMP:20260421T211341
CREATED:20241104T200411Z
LAST-MODIFIED:20241104T200846Z
UID:10005682-1731002400-1731006000@www.chugachmiut.org
SUMMARY:Food Prep Class - Breakfast
DESCRIPTION:Join our Food Prep Class on “Quick and Easy Breakfast” with Joe Nyholm\, Registered Dietitian! Learn how to make overnight oats with a variety of flavors! Bonus: From 5 to 6 pm\, Joe will hold a free prediabetes screening event. Stop by early for a free blood sugar test! Contact the Nanwalek Clinic at (907) 281-2250 with any questions.
URL:https://www.chugachmiut.org/event/food-prep-class-breakfast/
LOCATION:AK
CATEGORIES:Health Services
END:VEVENT
BEGIN:VEVENT
DTSTART;TZID=America/Anchorage:20241113T140000
DTEND;TZID=America/Anchorage:20241113T150000
DTSTAMP:20260421T211341
CREATED:20241105T193925Z
LAST-MODIFIED:20241105T193925Z
UID:10005683-1731506400-1731510000@www.chugachmiut.org
SUMMARY:Laugh and Learn with Joe Nyholm
DESCRIPTION:Cama’i! Happy Diabetes Awareness Month! \nJoin us for a virtual Laugh & Learn session on Wednesday\, Nov. 13\, at 2 p.m. Registered Dietitian Joe Nyholm will discuss the connection between mental health and diabetes. \nDon’t miss this inspiring session on Zoom! Contact Sandra Kleven at sandrak@chugachmiut.org ahead of time to receive the Zoom link. Quyanaa/AwA’ahdah!
URL:https://www.chugachmiut.org/event/laugh-and-learn-with-joe-nyholm/
LOCATION:Zoom
CATEGORIES:Health Services,Social Services
END:VEVENT
BEGIN:VEVENT
DTSTART;TZID=America/Anchorage:20241120T180000
DTEND;TZID=America/Anchorage:20241120T190000
DTSTAMP:20260421T211341
CREATED:20241114T015115Z
LAST-MODIFIED:20241114T015129Z
UID:10005684-1732125600-1732129200@www.chugachmiut.org
SUMMARY:Food Prep Class on Quick and Easy Breakfasts
DESCRIPTION:Join us for a Food Prep Class on “Quick and Easy Breakfasts” with Registered Dietitian Joe Nyholm on Thursday\, Nov. 20\, at 6 p.m. in Port Graham! Learn how to make overnight oats with a variety of flavors! \nBonus: From 5 to 6 p.m.\, Joe will offer a free prediabetes screening event. Stop by early for a free blood sugar test!
URL:https://www.chugachmiut.org/event/food-prep-class-on-quick-and-easy-breakfasts/
LOCATION:Port Graham – ANESIA ANAHONAK MOONIN CLINIC\, 5530 Main Street\, Port Graham\, AK\, 99603\, United States
CATEGORIES:Health Services
END:VEVENT
END:VCALENDAR