BEGIN:VCALENDAR
VERSION:2.0
PRODID:-//Chugachmiut - ECPv6.15.17//NONSGML v1.0//EN
CALSCALE:GREGORIAN
METHOD:PUBLISH
X-ORIGINAL-URL:https://www.chugachmiut.org
X-WR-CALDESC:Events for Chugachmiut
REFRESH-INTERVAL;VALUE=DURATION:PT1H
X-Robots-Tag:noindex
X-PUBLISHED-TTL:PT1H
BEGIN:VTIMEZONE
TZID:America/Anchorage
BEGIN:DAYLIGHT
TZOFFSETFROM:-0900
TZOFFSETTO:-0800
TZNAME:AKDT
DTSTART:20240310T110000
END:DAYLIGHT
BEGIN:STANDARD
TZOFFSETFROM:-0800
TZOFFSETTO:-0900
TZNAME:AKST
DTSTART:20241103T100000
END:STANDARD
BEGIN:DAYLIGHT
TZOFFSETFROM:-0900
TZOFFSETTO:-0800
TZNAME:AKDT
DTSTART:20250309T110000
END:DAYLIGHT
BEGIN:STANDARD
TZOFFSETFROM:-0800
TZOFFSETTO:-0900
TZNAME:AKST
DTSTART:20251102T100000
END:STANDARD
BEGIN:DAYLIGHT
TZOFFSETFROM:-0900
TZOFFSETTO:-0800
TZNAME:AKDT
DTSTART:20260308T110000
END:DAYLIGHT
BEGIN:STANDARD
TZOFFSETFROM:-0800
TZOFFSETTO:-0900
TZNAME:AKST
DTSTART:20261101T100000
END:STANDARD
END:VTIMEZONE
BEGIN:VEVENT
DTSTART;VALUE=DATE:20251201
DTEND;VALUE=DATE:20251208
DTSTAMP:20260420T141024
CREATED:20251021T184429Z
LAST-MODIFIED:20251021T184524Z
UID:10005744-1764547200-1765151999@www.chugachmiut.org
SUMMARY:Emergency Trauma Technician Class - Port Graham
DESCRIPTION:*ATTN: Port Graham Residents* \nInterested in learning the essential life-saving skills needed to assist with patient care and stabilize injuries that may arise during a community emergency? Join us for an Emergency Trauma Technician Class from December 1-7\, 2025\, in Port Graham. \n\nOpen to Port Graham residents\nAge requirement: 14 years old and above\nFree attendance is limited to 10 attendees\n\nTo sign up for the ETT course or CPR-only option\, contact: \n\nAnesia Anahonak Moonin Clinic: (907) 284-2241\nRob Bowler\, EMS Training Officer: robertb@chugachmiut.org
URL:https://www.chugachmiut.org/event/emergency-trauma-technician-class-2/
LOCATION:Port Graham Council Building\, Port Graham\, AK\, United States
CATEGORIES:Health Services
END:VEVENT
BEGIN:VEVENT
DTSTART;VALUE=DATE:20251203
DTEND;VALUE=DATE:20251213
DTSTAMP:20260420T141024
CREATED:20251125T010109Z
LAST-MODIFIED:20251125T010109Z
UID:10005749-1764720000-1765583999@www.chugachmiut.org
SUMMARY:Dental Services in Nanwalek
DESCRIPTION:Dr. Graham will be in Nanwalek December 3–12 to provide dental services for adults 18 and older. This is a great time to get caught up on checkups\, cleanings\, and other dental care to help keep your smile healthy. Call the Nanwalek Clinic at (907) 281-2250 to schedule your appointment. Please share with family and friends who may be due for a visit!
URL:https://www.chugachmiut.org/event/dental-services-in-nanwalek/
LOCATION:Nanwalek\, Nanwalek\, AK\, United States
CATEGORIES:Health Services
END:VEVENT
END:VCALENDAR