BEGIN:VCALENDAR
VERSION:2.0
PRODID:-//Chugachmiut - ECPv6.15.17//NONSGML v1.0//EN
CALSCALE:GREGORIAN
METHOD:PUBLISH
X-WR-CALNAME:Chugachmiut
X-ORIGINAL-URL:https://www.chugachmiut.org
X-WR-CALDESC:Events for Chugachmiut
REFRESH-INTERVAL;VALUE=DURATION:PT1H
X-Robots-Tag:noindex
X-PUBLISHED-TTL:PT1H
BEGIN:VTIMEZONE
TZID:America/Anchorage
BEGIN:DAYLIGHT
TZOFFSETFROM:-0900
TZOFFSETTO:-0800
TZNAME:AKDT
DTSTART:20240310T110000
END:DAYLIGHT
BEGIN:STANDARD
TZOFFSETFROM:-0800
TZOFFSETTO:-0900
TZNAME:AKST
DTSTART:20241103T100000
END:STANDARD
BEGIN:DAYLIGHT
TZOFFSETFROM:-0900
TZOFFSETTO:-0800
TZNAME:AKDT
DTSTART:20250309T110000
END:DAYLIGHT
BEGIN:STANDARD
TZOFFSETFROM:-0800
TZOFFSETTO:-0900
TZNAME:AKST
DTSTART:20251102T100000
END:STANDARD
BEGIN:DAYLIGHT
TZOFFSETFROM:-0900
TZOFFSETTO:-0800
TZNAME:AKDT
DTSTART:20260308T110000
END:DAYLIGHT
BEGIN:STANDARD
TZOFFSETFROM:-0800
TZOFFSETTO:-0900
TZNAME:AKST
DTSTART:20261101T100000
END:STANDARD
END:VTIMEZONE
BEGIN:VEVENT
DTSTART;TZID=America/Anchorage:20251002T130000
DTEND;TZID=America/Anchorage:20251002T140000
DTSTAMP:20260424T124646
CREATED:20240507T215547Z
LAST-MODIFIED:20240507T215636Z
UID:10005255-1759410000-1759413600@www.chugachmiut.org
SUMMARY:Regional Alcoholic Anonymous Meetings
DESCRIPTION:Cama’i! Join us every Tuesday and Thursday at 1 pm for our Chugachmiut Regional Alcoholic Anonymous Meetings! \nYou can join us on zoom by clicking the link below:\nhttps://www.chugachmiut-org.zoom.us/j/7487646244 \nMeeting ID: 748 764 6244 \nContact us at (907) 562-4155 with any questions. Quyanaa/AwA’ahdah!
URL:https://www.chugachmiut.org/event/regional-alcoholic-anonymous-meetings-2/2025-10-02/
LOCATION:Zoom
CATEGORIES:Social Services
ATTACH;FMTTYPE=image/png:https://www.chugachmiut.org/wp-content/uploads/2021/06/AA-Meetings-flyer-5-24.png
END:VEVENT
BEGIN:VEVENT
DTSTART;TZID=America/Anchorage:20251007T130000
DTEND;TZID=America/Anchorage:20251007T140000
DTSTAMP:20260424T124646
CREATED:20240507T215547Z
LAST-MODIFIED:20240507T215636Z
UID:10005256-1759842000-1759845600@www.chugachmiut.org
SUMMARY:Regional Alcoholic Anonymous Meetings
DESCRIPTION:Cama’i! Join us every Tuesday and Thursday at 1 pm for our Chugachmiut Regional Alcoholic Anonymous Meetings! \nYou can join us on zoom by clicking the link below:\nhttps://www.chugachmiut-org.zoom.us/j/7487646244 \nMeeting ID: 748 764 6244 \nContact us at (907) 562-4155 with any questions. Quyanaa/AwA’ahdah!
URL:https://www.chugachmiut.org/event/regional-alcoholic-anonymous-meetings-2/2025-10-07/
LOCATION:Zoom
CATEGORIES:Social Services
ATTACH;FMTTYPE=image/png:https://www.chugachmiut.org/wp-content/uploads/2021/06/AA-Meetings-flyer-5-24.png
END:VEVENT
BEGIN:VEVENT
DTSTART;TZID=America/Anchorage:20251009T130000
DTEND;TZID=America/Anchorage:20251009T140000
DTSTAMP:20260424T124646
CREATED:20240507T215547Z
LAST-MODIFIED:20240507T215636Z
UID:10005257-1760014800-1760018400@www.chugachmiut.org
SUMMARY:Regional Alcoholic Anonymous Meetings
DESCRIPTION:Cama’i! Join us every Tuesday and Thursday at 1 pm for our Chugachmiut Regional Alcoholic Anonymous Meetings! \nYou can join us on zoom by clicking the link below:\nhttps://www.chugachmiut-org.zoom.us/j/7487646244 \nMeeting ID: 748 764 6244 \nContact us at (907) 562-4155 with any questions. Quyanaa/AwA’ahdah!
URL:https://www.chugachmiut.org/event/regional-alcoholic-anonymous-meetings-2/2025-10-09/
LOCATION:Zoom
CATEGORIES:Social Services
ATTACH;FMTTYPE=image/png:https://www.chugachmiut.org/wp-content/uploads/2021/06/AA-Meetings-flyer-5-24.png
END:VEVENT
BEGIN:VEVENT
DTSTART;TZID=America/Anchorage:20251014T130000
DTEND;TZID=America/Anchorage:20251014T140000
DTSTAMP:20260424T124646
CREATED:20240507T215547Z
LAST-MODIFIED:20240507T215636Z
UID:10005258-1760446800-1760450400@www.chugachmiut.org
SUMMARY:Regional Alcoholic Anonymous Meetings
DESCRIPTION:Cama’i! Join us every Tuesday and Thursday at 1 pm for our Chugachmiut Regional Alcoholic Anonymous Meetings! \nYou can join us on zoom by clicking the link below:\nhttps://www.chugachmiut-org.zoom.us/j/7487646244 \nMeeting ID: 748 764 6244 \nContact us at (907) 562-4155 with any questions. Quyanaa/AwA’ahdah!
URL:https://www.chugachmiut.org/event/regional-alcoholic-anonymous-meetings-2/2025-10-14/
LOCATION:Zoom
CATEGORIES:Social Services
ATTACH;FMTTYPE=image/png:https://www.chugachmiut.org/wp-content/uploads/2021/06/AA-Meetings-flyer-5-24.png
END:VEVENT
BEGIN:VEVENT
DTSTART;TZID=America/Anchorage:20251014T183000
DTEND;TZID=America/Anchorage:20251014T193000
DTSTAMP:20260424T124646
CREATED:20251013T220205Z
LAST-MODIFIED:20251013T220205Z
UID:10005741-1760466600-1760470200@www.chugachmiut.org
SUMMARY:Port Graham Resume Workshop
DESCRIPTION:Attention Port Graham Families! Need help creating or updating your resume? Join us for a free Resume Workshop at the Port Graham Community Hall! \n\nTuesday\, October 14 at 6:30 pm\nWednesday\, October 15 at 10:30 am\n\nOpen to everyone – no pre-registration required. Questions? Email tvr@chugachmiut.org.
URL:https://www.chugachmiut.org/event/port-graham-resume-workshop/2025-10-14/
LOCATION:Port Graham Council Building\, Port Graham\, AK\, United States
CATEGORIES:Social Services
END:VEVENT
BEGIN:VEVENT
DTSTART;TZID=America/Anchorage:20251015T103000
DTEND;TZID=America/Anchorage:20251015T113000
DTSTAMP:20260424T124646
CREATED:20251013T220205Z
LAST-MODIFIED:20251013T220205Z
UID:10005742-1760524200-1760527800@www.chugachmiut.org
SUMMARY:Port Graham Resume Workshop
DESCRIPTION:Attention Port Graham Families! Need help creating or updating your resume? Join us for a free Resume Workshop at the Port Graham Community Hall! \n\nTuesday\, October 14 at 6:30 pm\nWednesday\, October 15 at 10:30 am\n\nOpen to everyone – no pre-registration required. Questions? Email tvr@chugachmiut.org.
URL:https://www.chugachmiut.org/event/port-graham-resume-workshop/2025-10-15/
LOCATION:Port Graham Council Building\, Port Graham\, AK\, United States
CATEGORIES:Social Services
END:VEVENT
BEGIN:VEVENT
DTSTART;TZID=America/Anchorage:20251015T103000
DTEND;TZID=America/Anchorage:20251015T133000
DTSTAMP:20260424T124646
CREATED:20251014T225440Z
LAST-MODIFIED:20251014T225440Z
UID:10005743-1760524200-1760535000@www.chugachmiut.org
SUMMARY:477 Program Community Visit
DESCRIPTION:Ryan Clayton with Chugachmiut’s 477 Program will be at the Nanwalek Community Center on Wednesday\, October 15\, 10:30 AM–1:30 PM.Stop by with your questions about General Assistance\, scholarships\, or other support programs. Light refreshments provided!
URL:https://www.chugachmiut.org/event/477-program-community-visit/
LOCATION:Nanwalek Community Building\, Nanwalek\, AK\, United States
CATEGORIES:Social Services
END:VEVENT
BEGIN:VEVENT
DTSTART;TZID=America/Anchorage:20251016T130000
DTEND;TZID=America/Anchorage:20251016T140000
DTSTAMP:20260424T124646
CREATED:20240507T215547Z
LAST-MODIFIED:20240507T215636Z
UID:10005259-1760619600-1760623200@www.chugachmiut.org
SUMMARY:Regional Alcoholic Anonymous Meetings
DESCRIPTION:Cama’i! Join us every Tuesday and Thursday at 1 pm for our Chugachmiut Regional Alcoholic Anonymous Meetings! \nYou can join us on zoom by clicking the link below:\nhttps://www.chugachmiut-org.zoom.us/j/7487646244 \nMeeting ID: 748 764 6244 \nContact us at (907) 562-4155 with any questions. Quyanaa/AwA’ahdah!
URL:https://www.chugachmiut.org/event/regional-alcoholic-anonymous-meetings-2/2025-10-16/
LOCATION:Zoom
CATEGORIES:Social Services
ATTACH;FMTTYPE=image/png:https://www.chugachmiut.org/wp-content/uploads/2021/06/AA-Meetings-flyer-5-24.png
END:VEVENT
BEGIN:VEVENT
DTSTART;TZID=America/Anchorage:20251021T130000
DTEND;TZID=America/Anchorage:20251021T140000
DTSTAMP:20260424T124646
CREATED:20240507T215547Z
LAST-MODIFIED:20240507T215636Z
UID:10005260-1761051600-1761055200@www.chugachmiut.org
SUMMARY:Regional Alcoholic Anonymous Meetings
DESCRIPTION:Cama’i! Join us every Tuesday and Thursday at 1 pm for our Chugachmiut Regional Alcoholic Anonymous Meetings! \nYou can join us on zoom by clicking the link below:\nhttps://www.chugachmiut-org.zoom.us/j/7487646244 \nMeeting ID: 748 764 6244 \nContact us at (907) 562-4155 with any questions. Quyanaa/AwA’ahdah!
URL:https://www.chugachmiut.org/event/regional-alcoholic-anonymous-meetings-2/2025-10-21/
LOCATION:Zoom
CATEGORIES:Social Services
ATTACH;FMTTYPE=image/png:https://www.chugachmiut.org/wp-content/uploads/2021/06/AA-Meetings-flyer-5-24.png
END:VEVENT
BEGIN:VEVENT
DTSTART;TZID=America/Anchorage:20251023T130000
DTEND;TZID=America/Anchorage:20251023T140000
DTSTAMP:20260424T124646
CREATED:20240507T215547Z
LAST-MODIFIED:20240507T215636Z
UID:10005261-1761224400-1761228000@www.chugachmiut.org
SUMMARY:Regional Alcoholic Anonymous Meetings
DESCRIPTION:Cama’i! Join us every Tuesday and Thursday at 1 pm for our Chugachmiut Regional Alcoholic Anonymous Meetings! \nYou can join us on zoom by clicking the link below:\nhttps://www.chugachmiut-org.zoom.us/j/7487646244 \nMeeting ID: 748 764 6244 \nContact us at (907) 562-4155 with any questions. Quyanaa/AwA’ahdah!
URL:https://www.chugachmiut.org/event/regional-alcoholic-anonymous-meetings-2/2025-10-23/
LOCATION:Zoom
CATEGORIES:Social Services
ATTACH;FMTTYPE=image/png:https://www.chugachmiut.org/wp-content/uploads/2021/06/AA-Meetings-flyer-5-24.png
END:VEVENT
BEGIN:VEVENT
DTSTART;TZID=America/Anchorage:20251028T130000
DTEND;TZID=America/Anchorage:20251028T140000
DTSTAMP:20260424T124646
CREATED:20240507T215547Z
LAST-MODIFIED:20240507T215636Z
UID:10005262-1761656400-1761660000@www.chugachmiut.org
SUMMARY:Regional Alcoholic Anonymous Meetings
DESCRIPTION:Cama’i! Join us every Tuesday and Thursday at 1 pm for our Chugachmiut Regional Alcoholic Anonymous Meetings! \nYou can join us on zoom by clicking the link below:\nhttps://www.chugachmiut-org.zoom.us/j/7487646244 \nMeeting ID: 748 764 6244 \nContact us at (907) 562-4155 with any questions. Quyanaa/AwA’ahdah!
URL:https://www.chugachmiut.org/event/regional-alcoholic-anonymous-meetings-2/2025-10-28/
LOCATION:Zoom
CATEGORIES:Social Services
ATTACH;FMTTYPE=image/png:https://www.chugachmiut.org/wp-content/uploads/2021/06/AA-Meetings-flyer-5-24.png
END:VEVENT
BEGIN:VEVENT
DTSTART;TZID=America/Anchorage:20251030T130000
DTEND;TZID=America/Anchorage:20251030T140000
DTSTAMP:20260424T124646
CREATED:20240507T215547Z
LAST-MODIFIED:20240507T215636Z
UID:10005263-1761829200-1761832800@www.chugachmiut.org
SUMMARY:Regional Alcoholic Anonymous Meetings
DESCRIPTION:Cama’i! Join us every Tuesday and Thursday at 1 pm for our Chugachmiut Regional Alcoholic Anonymous Meetings! \nYou can join us on zoom by clicking the link below:\nhttps://www.chugachmiut-org.zoom.us/j/7487646244 \nMeeting ID: 748 764 6244 \nContact us at (907) 562-4155 with any questions. Quyanaa/AwA’ahdah!
URL:https://www.chugachmiut.org/event/regional-alcoholic-anonymous-meetings-2/2025-10-30/
LOCATION:Zoom
CATEGORIES:Social Services
ATTACH;FMTTYPE=image/png:https://www.chugachmiut.org/wp-content/uploads/2021/06/AA-Meetings-flyer-5-24.png
END:VEVENT
END:VCALENDAR