BEGIN:VCALENDAR
VERSION:2.0
PRODID:-//Chugachmiut - ECPv6.15.17//NONSGML v1.0//EN
CALSCALE:GREGORIAN
METHOD:PUBLISH
X-WR-CALNAME:Chugachmiut
X-ORIGINAL-URL:https://www.chugachmiut.org
X-WR-CALDESC:Events for Chugachmiut
REFRESH-INTERVAL;VALUE=DURATION:PT1H
X-Robots-Tag:noindex
X-PUBLISHED-TTL:PT1H
BEGIN:VTIMEZONE
TZID:America/Anchorage
BEGIN:DAYLIGHT
TZOFFSETFROM:-0900
TZOFFSETTO:-0800
TZNAME:AKDT
DTSTART:20250309T110000
END:DAYLIGHT
BEGIN:STANDARD
TZOFFSETFROM:-0800
TZOFFSETTO:-0900
TZNAME:AKST
DTSTART:20251102T100000
END:STANDARD
BEGIN:DAYLIGHT
TZOFFSETFROM:-0900
TZOFFSETTO:-0800
TZNAME:AKDT
DTSTART:20260308T110000
END:DAYLIGHT
BEGIN:STANDARD
TZOFFSETFROM:-0800
TZOFFSETTO:-0900
TZNAME:AKST
DTSTART:20261101T100000
END:STANDARD
BEGIN:DAYLIGHT
TZOFFSETFROM:-0900
TZOFFSETTO:-0800
TZNAME:AKDT
DTSTART:20270314T110000
END:DAYLIGHT
BEGIN:STANDARD
TZOFFSETFROM:-0800
TZOFFSETTO:-0900
TZNAME:AKST
DTSTART:20271107T100000
END:STANDARD
END:VTIMEZONE
BEGIN:VEVENT
DTSTART;TZID=America/Anchorage:20261103T130000
DTEND;TZID=America/Anchorage:20261103T140000
DTSTAMP:20260420T135126
CREATED:20240507T215547Z
LAST-MODIFIED:20240507T215636Z
UID:10005368-1793710800-1793714400@www.chugachmiut.org
SUMMARY:Regional Alcoholic Anonymous Meetings
DESCRIPTION:Cama’i! Join us every Tuesday and Thursday at 1 pm for our Chugachmiut Regional Alcoholic Anonymous Meetings! \nYou can join us on zoom by clicking the link below:\nhttps://www.chugachmiut-org.zoom.us/j/7487646244 \nMeeting ID: 748 764 6244 \nContact us at (907) 562-4155 with any questions. Quyanaa/AwA’ahdah!
URL:https://www.chugachmiut.org/event/regional-alcoholic-anonymous-meetings-2/2026-11-03/
LOCATION:Zoom
CATEGORIES:Social Services
ATTACH;FMTTYPE=image/png:https://www.chugachmiut.org/wp-content/uploads/2021/06/AA-Meetings-flyer-5-24.png
END:VEVENT
BEGIN:VEVENT
DTSTART;TZID=America/Anchorage:20261105T130000
DTEND;TZID=America/Anchorage:20261105T140000
DTSTAMP:20260420T135126
CREATED:20240507T215547Z
LAST-MODIFIED:20240507T215636Z
UID:10005369-1793883600-1793887200@www.chugachmiut.org
SUMMARY:Regional Alcoholic Anonymous Meetings
DESCRIPTION:Cama’i! Join us every Tuesday and Thursday at 1 pm for our Chugachmiut Regional Alcoholic Anonymous Meetings! \nYou can join us on zoom by clicking the link below:\nhttps://www.chugachmiut-org.zoom.us/j/7487646244 \nMeeting ID: 748 764 6244 \nContact us at (907) 562-4155 with any questions. Quyanaa/AwA’ahdah!
URL:https://www.chugachmiut.org/event/regional-alcoholic-anonymous-meetings-2/2026-11-05/
LOCATION:Zoom
CATEGORIES:Social Services
ATTACH;FMTTYPE=image/png:https://www.chugachmiut.org/wp-content/uploads/2021/06/AA-Meetings-flyer-5-24.png
END:VEVENT
BEGIN:VEVENT
DTSTART;TZID=America/Anchorage:20261110T130000
DTEND;TZID=America/Anchorage:20261110T140000
DTSTAMP:20260420T135126
CREATED:20240507T215547Z
LAST-MODIFIED:20240507T215636Z
UID:10005370-1794315600-1794319200@www.chugachmiut.org
SUMMARY:Regional Alcoholic Anonymous Meetings
DESCRIPTION:Cama’i! Join us every Tuesday and Thursday at 1 pm for our Chugachmiut Regional Alcoholic Anonymous Meetings! \nYou can join us on zoom by clicking the link below:\nhttps://www.chugachmiut-org.zoom.us/j/7487646244 \nMeeting ID: 748 764 6244 \nContact us at (907) 562-4155 with any questions. Quyanaa/AwA’ahdah!
URL:https://www.chugachmiut.org/event/regional-alcoholic-anonymous-meetings-2/2026-11-10/
LOCATION:Zoom
CATEGORIES:Social Services
ATTACH;FMTTYPE=image/png:https://www.chugachmiut.org/wp-content/uploads/2021/06/AA-Meetings-flyer-5-24.png
END:VEVENT
BEGIN:VEVENT
DTSTART;TZID=America/Anchorage:20261112T130000
DTEND;TZID=America/Anchorage:20261112T140000
DTSTAMP:20260420T135126
CREATED:20240507T215547Z
LAST-MODIFIED:20240507T215636Z
UID:10005371-1794488400-1794492000@www.chugachmiut.org
SUMMARY:Regional Alcoholic Anonymous Meetings
DESCRIPTION:Cama’i! Join us every Tuesday and Thursday at 1 pm for our Chugachmiut Regional Alcoholic Anonymous Meetings! \nYou can join us on zoom by clicking the link below:\nhttps://www.chugachmiut-org.zoom.us/j/7487646244 \nMeeting ID: 748 764 6244 \nContact us at (907) 562-4155 with any questions. Quyanaa/AwA’ahdah!
URL:https://www.chugachmiut.org/event/regional-alcoholic-anonymous-meetings-2/2026-11-12/
LOCATION:Zoom
CATEGORIES:Social Services
ATTACH;FMTTYPE=image/png:https://www.chugachmiut.org/wp-content/uploads/2021/06/AA-Meetings-flyer-5-24.png
END:VEVENT
BEGIN:VEVENT
DTSTART;TZID=America/Anchorage:20261117T130000
DTEND;TZID=America/Anchorage:20261117T140000
DTSTAMP:20260420T135126
CREATED:20240507T215547Z
LAST-MODIFIED:20240507T215636Z
UID:10005372-1794920400-1794924000@www.chugachmiut.org
SUMMARY:Regional Alcoholic Anonymous Meetings
DESCRIPTION:Cama’i! Join us every Tuesday and Thursday at 1 pm for our Chugachmiut Regional Alcoholic Anonymous Meetings! \nYou can join us on zoom by clicking the link below:\nhttps://www.chugachmiut-org.zoom.us/j/7487646244 \nMeeting ID: 748 764 6244 \nContact us at (907) 562-4155 with any questions. Quyanaa/AwA’ahdah!
URL:https://www.chugachmiut.org/event/regional-alcoholic-anonymous-meetings-2/2026-11-17/
LOCATION:Zoom
CATEGORIES:Social Services
ATTACH;FMTTYPE=image/png:https://www.chugachmiut.org/wp-content/uploads/2021/06/AA-Meetings-flyer-5-24.png
END:VEVENT
BEGIN:VEVENT
DTSTART;TZID=America/Anchorage:20261119T130000
DTEND;TZID=America/Anchorage:20261119T140000
DTSTAMP:20260420T135126
CREATED:20240507T215547Z
LAST-MODIFIED:20240507T215636Z
UID:10005373-1795093200-1795096800@www.chugachmiut.org
SUMMARY:Regional Alcoholic Anonymous Meetings
DESCRIPTION:Cama’i! Join us every Tuesday and Thursday at 1 pm for our Chugachmiut Regional Alcoholic Anonymous Meetings! \nYou can join us on zoom by clicking the link below:\nhttps://www.chugachmiut-org.zoom.us/j/7487646244 \nMeeting ID: 748 764 6244 \nContact us at (907) 562-4155 with any questions. Quyanaa/AwA’ahdah!
URL:https://www.chugachmiut.org/event/regional-alcoholic-anonymous-meetings-2/2026-11-19/
LOCATION:Zoom
CATEGORIES:Social Services
ATTACH;FMTTYPE=image/png:https://www.chugachmiut.org/wp-content/uploads/2021/06/AA-Meetings-flyer-5-24.png
END:VEVENT
BEGIN:VEVENT
DTSTART;TZID=America/Anchorage:20261124T130000
DTEND;TZID=America/Anchorage:20261124T140000
DTSTAMP:20260420T135126
CREATED:20240507T215547Z
LAST-MODIFIED:20240507T215636Z
UID:10005374-1795525200-1795528800@www.chugachmiut.org
SUMMARY:Regional Alcoholic Anonymous Meetings
DESCRIPTION:Cama’i! Join us every Tuesday and Thursday at 1 pm for our Chugachmiut Regional Alcoholic Anonymous Meetings! \nYou can join us on zoom by clicking the link below:\nhttps://www.chugachmiut-org.zoom.us/j/7487646244 \nMeeting ID: 748 764 6244 \nContact us at (907) 562-4155 with any questions. Quyanaa/AwA’ahdah!
URL:https://www.chugachmiut.org/event/regional-alcoholic-anonymous-meetings-2/2026-11-24/
LOCATION:Zoom
CATEGORIES:Social Services
ATTACH;FMTTYPE=image/png:https://www.chugachmiut.org/wp-content/uploads/2021/06/AA-Meetings-flyer-5-24.png
END:VEVENT
BEGIN:VEVENT
DTSTART;TZID=America/Anchorage:20261126T130000
DTEND;TZID=America/Anchorage:20261126T140000
DTSTAMP:20260420T135126
CREATED:20240507T215547Z
LAST-MODIFIED:20240507T215636Z
UID:10005375-1795698000-1795701600@www.chugachmiut.org
SUMMARY:Regional Alcoholic Anonymous Meetings
DESCRIPTION:Cama’i! Join us every Tuesday and Thursday at 1 pm for our Chugachmiut Regional Alcoholic Anonymous Meetings! \nYou can join us on zoom by clicking the link below:\nhttps://www.chugachmiut-org.zoom.us/j/7487646244 \nMeeting ID: 748 764 6244 \nContact us at (907) 562-4155 with any questions. Quyanaa/AwA’ahdah!
URL:https://www.chugachmiut.org/event/regional-alcoholic-anonymous-meetings-2/2026-11-26/
LOCATION:Zoom
CATEGORIES:Social Services
ATTACH;FMTTYPE=image/png:https://www.chugachmiut.org/wp-content/uploads/2021/06/AA-Meetings-flyer-5-24.png
END:VEVENT
END:VCALENDAR