BEGIN:VCALENDAR
VERSION:2.0
PRODID:-//Chugachmiut - ECPv6.15.17//NONSGML v1.0//EN
CALSCALE:GREGORIAN
METHOD:PUBLISH
X-ORIGINAL-URL:https://www.chugachmiut.org
X-WR-CALDESC:Events for Chugachmiut
REFRESH-INTERVAL;VALUE=DURATION:PT1H
X-Robots-Tag:noindex
X-PUBLISHED-TTL:PT1H
BEGIN:VTIMEZONE
TZID:America/Anchorage
BEGIN:DAYLIGHT
TZOFFSETFROM:-0900
TZOFFSETTO:-0800
TZNAME:AKDT
DTSTART:20260308T110000
END:DAYLIGHT
BEGIN:STANDARD
TZOFFSETFROM:-0800
TZOFFSETTO:-0900
TZNAME:AKST
DTSTART:20261101T100000
END:STANDARD
BEGIN:DAYLIGHT
TZOFFSETFROM:-0900
TZOFFSETTO:-0800
TZNAME:AKDT
DTSTART:20270314T110000
END:DAYLIGHT
BEGIN:STANDARD
TZOFFSETFROM:-0800
TZOFFSETTO:-0900
TZNAME:AKST
DTSTART:20271107T100000
END:STANDARD
BEGIN:DAYLIGHT
TZOFFSETFROM:-0900
TZOFFSETTO:-0800
TZNAME:AKDT
DTSTART:20280312T110000
END:DAYLIGHT
BEGIN:STANDARD
TZOFFSETFROM:-0800
TZOFFSETTO:-0900
TZNAME:AKST
DTSTART:20281105T100000
END:STANDARD
END:VTIMEZONE
BEGIN:VEVENT
DTSTART;TZID=America/Anchorage:20270601T130000
DTEND;TZID=America/Anchorage:20270601T140000
DTSTAMP:20260421T005448
CREATED:20240507T215547Z
LAST-MODIFIED:20240507T215636Z
UID:10005428-1811854800-1811858400@www.chugachmiut.org
SUMMARY:Regional Alcoholic Anonymous Meetings
DESCRIPTION:Cama’i! Join us every Tuesday and Thursday at 1 pm for our Chugachmiut Regional Alcoholic Anonymous Meetings! \nYou can join us on zoom by clicking the link below:\nhttps://www.chugachmiut-org.zoom.us/j/7487646244 \nMeeting ID: 748 764 6244 \nContact us at (907) 562-4155 with any questions. Quyanaa/AwA’ahdah!
URL:https://www.chugachmiut.org/event/regional-alcoholic-anonymous-meetings-2/2027-06-01/
LOCATION:Zoom
CATEGORIES:Social Services
ATTACH;FMTTYPE=image/png:https://www.chugachmiut.org/wp-content/uploads/2021/06/AA-Meetings-flyer-5-24.png
END:VEVENT
BEGIN:VEVENT
DTSTART;TZID=America/Anchorage:20270603T130000
DTEND;TZID=America/Anchorage:20270603T140000
DTSTAMP:20260421T005448
CREATED:20240507T215547Z
LAST-MODIFIED:20240507T215636Z
UID:10005429-1812027600-1812031200@www.chugachmiut.org
SUMMARY:Regional Alcoholic Anonymous Meetings
DESCRIPTION:Cama’i! Join us every Tuesday and Thursday at 1 pm for our Chugachmiut Regional Alcoholic Anonymous Meetings! \nYou can join us on zoom by clicking the link below:\nhttps://www.chugachmiut-org.zoom.us/j/7487646244 \nMeeting ID: 748 764 6244 \nContact us at (907) 562-4155 with any questions. Quyanaa/AwA’ahdah!
URL:https://www.chugachmiut.org/event/regional-alcoholic-anonymous-meetings-2/2027-06-03/
LOCATION:Zoom
CATEGORIES:Social Services
ATTACH;FMTTYPE=image/png:https://www.chugachmiut.org/wp-content/uploads/2021/06/AA-Meetings-flyer-5-24.png
END:VEVENT
BEGIN:VEVENT
DTSTART;TZID=America/Anchorage:20270608T130000
DTEND;TZID=America/Anchorage:20270608T140000
DTSTAMP:20260421T005448
CREATED:20240507T215547Z
LAST-MODIFIED:20240507T215636Z
UID:10005430-1812459600-1812463200@www.chugachmiut.org
SUMMARY:Regional Alcoholic Anonymous Meetings
DESCRIPTION:Cama’i! Join us every Tuesday and Thursday at 1 pm for our Chugachmiut Regional Alcoholic Anonymous Meetings! \nYou can join us on zoom by clicking the link below:\nhttps://www.chugachmiut-org.zoom.us/j/7487646244 \nMeeting ID: 748 764 6244 \nContact us at (907) 562-4155 with any questions. Quyanaa/AwA’ahdah!
URL:https://www.chugachmiut.org/event/regional-alcoholic-anonymous-meetings-2/2027-06-08/
LOCATION:Zoom
CATEGORIES:Social Services
ATTACH;FMTTYPE=image/png:https://www.chugachmiut.org/wp-content/uploads/2021/06/AA-Meetings-flyer-5-24.png
END:VEVENT
BEGIN:VEVENT
DTSTART;TZID=America/Anchorage:20270610T130000
DTEND;TZID=America/Anchorage:20270610T140000
DTSTAMP:20260421T005448
CREATED:20240507T215547Z
LAST-MODIFIED:20240507T215636Z
UID:10005431-1812632400-1812636000@www.chugachmiut.org
SUMMARY:Regional Alcoholic Anonymous Meetings
DESCRIPTION:Cama’i! Join us every Tuesday and Thursday at 1 pm for our Chugachmiut Regional Alcoholic Anonymous Meetings! \nYou can join us on zoom by clicking the link below:\nhttps://www.chugachmiut-org.zoom.us/j/7487646244 \nMeeting ID: 748 764 6244 \nContact us at (907) 562-4155 with any questions. Quyanaa/AwA’ahdah!
URL:https://www.chugachmiut.org/event/regional-alcoholic-anonymous-meetings-2/2027-06-10/
LOCATION:Zoom
CATEGORIES:Social Services
ATTACH;FMTTYPE=image/png:https://www.chugachmiut.org/wp-content/uploads/2021/06/AA-Meetings-flyer-5-24.png
END:VEVENT
BEGIN:VEVENT
DTSTART;TZID=America/Anchorage:20270615T130000
DTEND;TZID=America/Anchorage:20270615T140000
DTSTAMP:20260421T005448
CREATED:20240507T215547Z
LAST-MODIFIED:20240507T215636Z
UID:10005432-1813064400-1813068000@www.chugachmiut.org
SUMMARY:Regional Alcoholic Anonymous Meetings
DESCRIPTION:Cama’i! Join us every Tuesday and Thursday at 1 pm for our Chugachmiut Regional Alcoholic Anonymous Meetings! \nYou can join us on zoom by clicking the link below:\nhttps://www.chugachmiut-org.zoom.us/j/7487646244 \nMeeting ID: 748 764 6244 \nContact us at (907) 562-4155 with any questions. Quyanaa/AwA’ahdah!
URL:https://www.chugachmiut.org/event/regional-alcoholic-anonymous-meetings-2/2027-06-15/
LOCATION:Zoom
CATEGORIES:Social Services
ATTACH;FMTTYPE=image/png:https://www.chugachmiut.org/wp-content/uploads/2021/06/AA-Meetings-flyer-5-24.png
END:VEVENT
BEGIN:VEVENT
DTSTART;TZID=America/Anchorage:20270617T130000
DTEND;TZID=America/Anchorage:20270617T140000
DTSTAMP:20260421T005448
CREATED:20240507T215547Z
LAST-MODIFIED:20240507T215636Z
UID:10005433-1813237200-1813240800@www.chugachmiut.org
SUMMARY:Regional Alcoholic Anonymous Meetings
DESCRIPTION:Cama’i! Join us every Tuesday and Thursday at 1 pm for our Chugachmiut Regional Alcoholic Anonymous Meetings! \nYou can join us on zoom by clicking the link below:\nhttps://www.chugachmiut-org.zoom.us/j/7487646244 \nMeeting ID: 748 764 6244 \nContact us at (907) 562-4155 with any questions. Quyanaa/AwA’ahdah!
URL:https://www.chugachmiut.org/event/regional-alcoholic-anonymous-meetings-2/2027-06-17/
LOCATION:Zoom
CATEGORIES:Social Services
ATTACH;FMTTYPE=image/png:https://www.chugachmiut.org/wp-content/uploads/2021/06/AA-Meetings-flyer-5-24.png
END:VEVENT
BEGIN:VEVENT
DTSTART;TZID=America/Anchorage:20270622T130000
DTEND;TZID=America/Anchorage:20270622T140000
DTSTAMP:20260421T005448
CREATED:20240507T215547Z
LAST-MODIFIED:20240507T215636Z
UID:10005434-1813669200-1813672800@www.chugachmiut.org
SUMMARY:Regional Alcoholic Anonymous Meetings
DESCRIPTION:Cama’i! Join us every Tuesday and Thursday at 1 pm for our Chugachmiut Regional Alcoholic Anonymous Meetings! \nYou can join us on zoom by clicking the link below:\nhttps://www.chugachmiut-org.zoom.us/j/7487646244 \nMeeting ID: 748 764 6244 \nContact us at (907) 562-4155 with any questions. Quyanaa/AwA’ahdah!
URL:https://www.chugachmiut.org/event/regional-alcoholic-anonymous-meetings-2/2027-06-22/
LOCATION:Zoom
CATEGORIES:Social Services
ATTACH;FMTTYPE=image/png:https://www.chugachmiut.org/wp-content/uploads/2021/06/AA-Meetings-flyer-5-24.png
END:VEVENT
BEGIN:VEVENT
DTSTART;TZID=America/Anchorage:20270624T130000
DTEND;TZID=America/Anchorage:20270624T140000
DTSTAMP:20260421T005448
CREATED:20240507T215547Z
LAST-MODIFIED:20240507T215636Z
UID:10005435-1813842000-1813845600@www.chugachmiut.org
SUMMARY:Regional Alcoholic Anonymous Meetings
DESCRIPTION:Cama’i! Join us every Tuesday and Thursday at 1 pm for our Chugachmiut Regional Alcoholic Anonymous Meetings! \nYou can join us on zoom by clicking the link below:\nhttps://www.chugachmiut-org.zoom.us/j/7487646244 \nMeeting ID: 748 764 6244 \nContact us at (907) 562-4155 with any questions. Quyanaa/AwA’ahdah!
URL:https://www.chugachmiut.org/event/regional-alcoholic-anonymous-meetings-2/2027-06-24/
LOCATION:Zoom
CATEGORIES:Social Services
ATTACH;FMTTYPE=image/png:https://www.chugachmiut.org/wp-content/uploads/2021/06/AA-Meetings-flyer-5-24.png
END:VEVENT
BEGIN:VEVENT
DTSTART;TZID=America/Anchorage:20270629T130000
DTEND;TZID=America/Anchorage:20270629T140000
DTSTAMP:20260421T005448
CREATED:20240507T215547Z
LAST-MODIFIED:20240507T215636Z
UID:10005436-1814274000-1814277600@www.chugachmiut.org
SUMMARY:Regional Alcoholic Anonymous Meetings
DESCRIPTION:Cama’i! Join us every Tuesday and Thursday at 1 pm for our Chugachmiut Regional Alcoholic Anonymous Meetings! \nYou can join us on zoom by clicking the link below:\nhttps://www.chugachmiut-org.zoom.us/j/7487646244 \nMeeting ID: 748 764 6244 \nContact us at (907) 562-4155 with any questions. Quyanaa/AwA’ahdah!
URL:https://www.chugachmiut.org/event/regional-alcoholic-anonymous-meetings-2/2027-06-29/
LOCATION:Zoom
CATEGORIES:Social Services
ATTACH;FMTTYPE=image/png:https://www.chugachmiut.org/wp-content/uploads/2021/06/AA-Meetings-flyer-5-24.png
END:VEVENT
END:VCALENDAR