BEGIN:VCALENDAR
VERSION:2.0
PRODID:-//Chugachmiut - ECPv6.15.17//NONSGML v1.0//EN
CALSCALE:GREGORIAN
METHOD:PUBLISH
X-WR-CALNAME:Chugachmiut
X-ORIGINAL-URL:https://www.chugachmiut.org
X-WR-CALDESC:Events for Chugachmiut
REFRESH-INTERVAL;VALUE=DURATION:PT1H
X-Robots-Tag:noindex
X-PUBLISHED-TTL:PT1H
BEGIN:VTIMEZONE
TZID:America/Anchorage
BEGIN:DAYLIGHT
TZOFFSETFROM:-0900
TZOFFSETTO:-0800
TZNAME:AKDT
DTSTART:20260308T110000
END:DAYLIGHT
BEGIN:STANDARD
TZOFFSETFROM:-0800
TZOFFSETTO:-0900
TZNAME:AKST
DTSTART:20261101T100000
END:STANDARD
BEGIN:DAYLIGHT
TZOFFSETFROM:-0900
TZOFFSETTO:-0800
TZNAME:AKDT
DTSTART:20270314T110000
END:DAYLIGHT
BEGIN:STANDARD
TZOFFSETFROM:-0800
TZOFFSETTO:-0900
TZNAME:AKST
DTSTART:20271107T100000
END:STANDARD
BEGIN:DAYLIGHT
TZOFFSETFROM:-0900
TZOFFSETTO:-0800
TZNAME:AKDT
DTSTART:20280312T110000
END:DAYLIGHT
BEGIN:STANDARD
TZOFFSETFROM:-0800
TZOFFSETTO:-0900
TZNAME:AKST
DTSTART:20281105T100000
END:STANDARD
END:VTIMEZONE
BEGIN:VEVENT
DTSTART;TZID=America/Anchorage:20270701T130000
DTEND;TZID=America/Anchorage:20270701T140000
DTSTAMP:20260421T034059
CREATED:20240507T215547Z
LAST-MODIFIED:20240507T215636Z
UID:10005437-1814446800-1814450400@www.chugachmiut.org
SUMMARY:Regional Alcoholic Anonymous Meetings
DESCRIPTION:Cama’i! Join us every Tuesday and Thursday at 1 pm for our Chugachmiut Regional Alcoholic Anonymous Meetings! \nYou can join us on zoom by clicking the link below:\nhttps://www.chugachmiut-org.zoom.us/j/7487646244 \nMeeting ID: 748 764 6244 \nContact us at (907) 562-4155 with any questions. Quyanaa/AwA’ahdah!
URL:https://www.chugachmiut.org/event/regional-alcoholic-anonymous-meetings-2/2027-07-01/
LOCATION:Zoom
CATEGORIES:Social Services
ATTACH;FMTTYPE=image/png:https://www.chugachmiut.org/wp-content/uploads/2021/06/AA-Meetings-flyer-5-24.png
END:VEVENT
BEGIN:VEVENT
DTSTART;TZID=America/Anchorage:20270706T130000
DTEND;TZID=America/Anchorage:20270706T140000
DTSTAMP:20260421T034059
CREATED:20240507T215547Z
LAST-MODIFIED:20240507T215636Z
UID:10005438-1814878800-1814882400@www.chugachmiut.org
SUMMARY:Regional Alcoholic Anonymous Meetings
DESCRIPTION:Cama’i! Join us every Tuesday and Thursday at 1 pm for our Chugachmiut Regional Alcoholic Anonymous Meetings! \nYou can join us on zoom by clicking the link below:\nhttps://www.chugachmiut-org.zoom.us/j/7487646244 \nMeeting ID: 748 764 6244 \nContact us at (907) 562-4155 with any questions. Quyanaa/AwA’ahdah!
URL:https://www.chugachmiut.org/event/regional-alcoholic-anonymous-meetings-2/2027-07-06/
LOCATION:Zoom
CATEGORIES:Social Services
ATTACH;FMTTYPE=image/png:https://www.chugachmiut.org/wp-content/uploads/2021/06/AA-Meetings-flyer-5-24.png
END:VEVENT
BEGIN:VEVENT
DTSTART;TZID=America/Anchorage:20270708T130000
DTEND;TZID=America/Anchorage:20270708T140000
DTSTAMP:20260421T034059
CREATED:20240507T215547Z
LAST-MODIFIED:20240507T215636Z
UID:10005439-1815051600-1815055200@www.chugachmiut.org
SUMMARY:Regional Alcoholic Anonymous Meetings
DESCRIPTION:Cama’i! Join us every Tuesday and Thursday at 1 pm for our Chugachmiut Regional Alcoholic Anonymous Meetings! \nYou can join us on zoom by clicking the link below:\nhttps://www.chugachmiut-org.zoom.us/j/7487646244 \nMeeting ID: 748 764 6244 \nContact us at (907) 562-4155 with any questions. Quyanaa/AwA’ahdah!
URL:https://www.chugachmiut.org/event/regional-alcoholic-anonymous-meetings-2/2027-07-08/
LOCATION:Zoom
CATEGORIES:Social Services
ATTACH;FMTTYPE=image/png:https://www.chugachmiut.org/wp-content/uploads/2021/06/AA-Meetings-flyer-5-24.png
END:VEVENT
BEGIN:VEVENT
DTSTART;TZID=America/Anchorage:20270713T130000
DTEND;TZID=America/Anchorage:20270713T140000
DTSTAMP:20260421T034059
CREATED:20240507T215547Z
LAST-MODIFIED:20240507T215636Z
UID:10005440-1815483600-1815487200@www.chugachmiut.org
SUMMARY:Regional Alcoholic Anonymous Meetings
DESCRIPTION:Cama’i! Join us every Tuesday and Thursday at 1 pm for our Chugachmiut Regional Alcoholic Anonymous Meetings! \nYou can join us on zoom by clicking the link below:\nhttps://www.chugachmiut-org.zoom.us/j/7487646244 \nMeeting ID: 748 764 6244 \nContact us at (907) 562-4155 with any questions. Quyanaa/AwA’ahdah!
URL:https://www.chugachmiut.org/event/regional-alcoholic-anonymous-meetings-2/2027-07-13/
LOCATION:Zoom
CATEGORIES:Social Services
ATTACH;FMTTYPE=image/png:https://www.chugachmiut.org/wp-content/uploads/2021/06/AA-Meetings-flyer-5-24.png
END:VEVENT
BEGIN:VEVENT
DTSTART;TZID=America/Anchorage:20270715T130000
DTEND;TZID=America/Anchorage:20270715T140000
DTSTAMP:20260421T034059
CREATED:20240507T215547Z
LAST-MODIFIED:20240507T215636Z
UID:10005441-1815656400-1815660000@www.chugachmiut.org
SUMMARY:Regional Alcoholic Anonymous Meetings
DESCRIPTION:Cama’i! Join us every Tuesday and Thursday at 1 pm for our Chugachmiut Regional Alcoholic Anonymous Meetings! \nYou can join us on zoom by clicking the link below:\nhttps://www.chugachmiut-org.zoom.us/j/7487646244 \nMeeting ID: 748 764 6244 \nContact us at (907) 562-4155 with any questions. Quyanaa/AwA’ahdah!
URL:https://www.chugachmiut.org/event/regional-alcoholic-anonymous-meetings-2/2027-07-15/
LOCATION:Zoom
CATEGORIES:Social Services
ATTACH;FMTTYPE=image/png:https://www.chugachmiut.org/wp-content/uploads/2021/06/AA-Meetings-flyer-5-24.png
END:VEVENT
BEGIN:VEVENT
DTSTART;TZID=America/Anchorage:20270720T130000
DTEND;TZID=America/Anchorage:20270720T140000
DTSTAMP:20260421T034059
CREATED:20240507T215547Z
LAST-MODIFIED:20240507T215636Z
UID:10005442-1816088400-1816092000@www.chugachmiut.org
SUMMARY:Regional Alcoholic Anonymous Meetings
DESCRIPTION:Cama’i! Join us every Tuesday and Thursday at 1 pm for our Chugachmiut Regional Alcoholic Anonymous Meetings! \nYou can join us on zoom by clicking the link below:\nhttps://www.chugachmiut-org.zoom.us/j/7487646244 \nMeeting ID: 748 764 6244 \nContact us at (907) 562-4155 with any questions. Quyanaa/AwA’ahdah!
URL:https://www.chugachmiut.org/event/regional-alcoholic-anonymous-meetings-2/2027-07-20/
LOCATION:Zoom
CATEGORIES:Social Services
ATTACH;FMTTYPE=image/png:https://www.chugachmiut.org/wp-content/uploads/2021/06/AA-Meetings-flyer-5-24.png
END:VEVENT
BEGIN:VEVENT
DTSTART;TZID=America/Anchorage:20270722T130000
DTEND;TZID=America/Anchorage:20270722T140000
DTSTAMP:20260421T034059
CREATED:20240507T215547Z
LAST-MODIFIED:20240507T215636Z
UID:10005443-1816261200-1816264800@www.chugachmiut.org
SUMMARY:Regional Alcoholic Anonymous Meetings
DESCRIPTION:Cama’i! Join us every Tuesday and Thursday at 1 pm for our Chugachmiut Regional Alcoholic Anonymous Meetings! \nYou can join us on zoom by clicking the link below:\nhttps://www.chugachmiut-org.zoom.us/j/7487646244 \nMeeting ID: 748 764 6244 \nContact us at (907) 562-4155 with any questions. Quyanaa/AwA’ahdah!
URL:https://www.chugachmiut.org/event/regional-alcoholic-anonymous-meetings-2/2027-07-22/
LOCATION:Zoom
CATEGORIES:Social Services
ATTACH;FMTTYPE=image/png:https://www.chugachmiut.org/wp-content/uploads/2021/06/AA-Meetings-flyer-5-24.png
END:VEVENT
BEGIN:VEVENT
DTSTART;TZID=America/Anchorage:20270727T130000
DTEND;TZID=America/Anchorage:20270727T140000
DTSTAMP:20260421T034059
CREATED:20240507T215547Z
LAST-MODIFIED:20240507T215636Z
UID:10005444-1816693200-1816696800@www.chugachmiut.org
SUMMARY:Regional Alcoholic Anonymous Meetings
DESCRIPTION:Cama’i! Join us every Tuesday and Thursday at 1 pm for our Chugachmiut Regional Alcoholic Anonymous Meetings! \nYou can join us on zoom by clicking the link below:\nhttps://www.chugachmiut-org.zoom.us/j/7487646244 \nMeeting ID: 748 764 6244 \nContact us at (907) 562-4155 with any questions. Quyanaa/AwA’ahdah!
URL:https://www.chugachmiut.org/event/regional-alcoholic-anonymous-meetings-2/2027-07-27/
LOCATION:Zoom
CATEGORIES:Social Services
ATTACH;FMTTYPE=image/png:https://www.chugachmiut.org/wp-content/uploads/2021/06/AA-Meetings-flyer-5-24.png
END:VEVENT
BEGIN:VEVENT
DTSTART;TZID=America/Anchorage:20270729T130000
DTEND;TZID=America/Anchorage:20270729T140000
DTSTAMP:20260421T034059
CREATED:20240507T215547Z
LAST-MODIFIED:20240507T215636Z
UID:10005445-1816866000-1816869600@www.chugachmiut.org
SUMMARY:Regional Alcoholic Anonymous Meetings
DESCRIPTION:Cama’i! Join us every Tuesday and Thursday at 1 pm for our Chugachmiut Regional Alcoholic Anonymous Meetings! \nYou can join us on zoom by clicking the link below:\nhttps://www.chugachmiut-org.zoom.us/j/7487646244 \nMeeting ID: 748 764 6244 \nContact us at (907) 562-4155 with any questions. Quyanaa/AwA’ahdah!
URL:https://www.chugachmiut.org/event/regional-alcoholic-anonymous-meetings-2/2027-07-29/
LOCATION:Zoom
CATEGORIES:Social Services
ATTACH;FMTTYPE=image/png:https://www.chugachmiut.org/wp-content/uploads/2021/06/AA-Meetings-flyer-5-24.png
END:VEVENT
END:VCALENDAR