BEGIN:VCALENDAR
VERSION:2.0
PRODID:-//Chugachmiut - ECPv6.15.17//NONSGML v1.0//EN
CALSCALE:GREGORIAN
METHOD:PUBLISH
X-ORIGINAL-URL:https://www.chugachmiut.org
X-WR-CALDESC:Events for Chugachmiut
REFRESH-INTERVAL;VALUE=DURATION:PT1H
X-Robots-Tag:noindex
X-PUBLISHED-TTL:PT1H
BEGIN:VTIMEZONE
TZID:America/Anchorage
BEGIN:DAYLIGHT
TZOFFSETFROM:-0900
TZOFFSETTO:-0800
TZNAME:AKDT
DTSTART:20280312T110000
END:DAYLIGHT
BEGIN:STANDARD
TZOFFSETFROM:-0800
TZOFFSETTO:-0900
TZNAME:AKST
DTSTART:20281105T100000
END:STANDARD
BEGIN:DAYLIGHT
TZOFFSETFROM:-0900
TZOFFSETTO:-0800
TZNAME:AKDT
DTSTART:20290311T110000
END:DAYLIGHT
BEGIN:STANDARD
TZOFFSETFROM:-0800
TZOFFSETTO:-0900
TZNAME:AKST
DTSTART:20291104T100000
END:STANDARD
BEGIN:DAYLIGHT
TZOFFSETFROM:-0900
TZOFFSETTO:-0800
TZNAME:AKDT
DTSTART:20300310T110000
END:DAYLIGHT
BEGIN:STANDARD
TZOFFSETFROM:-0800
TZOFFSETTO:-0900
TZNAME:AKST
DTSTART:20301103T100000
END:STANDARD
END:VTIMEZONE
BEGIN:VEVENT
DTSTART;TZID=America/Anchorage:20290419T130000
DTEND;TZID=America/Anchorage:20290419T140000
DTSTAMP:20260422T140745
CREATED:20240507T215547Z
LAST-MODIFIED:20240507T215636Z
UID:10005625-1871298000-1871301600@www.chugachmiut.org
SUMMARY:Regional Alcoholic Anonymous Meetings
DESCRIPTION:Cama’i! Join us every Tuesday and Thursday at 1 pm for our Chugachmiut Regional Alcoholic Anonymous Meetings! \nYou can join us on zoom by clicking the link below:\nhttps://www.chugachmiut-org.zoom.us/j/7487646244 \nMeeting ID: 748 764 6244 \nContact us at (907) 562-4155 with any questions. Quyanaa/AwA’ahdah!
URL:https://www.chugachmiut.org/event/regional-alcoholic-anonymous-meetings-2/2029-04-19/
LOCATION:Zoom
CATEGORIES:Social Services
ATTACH;FMTTYPE=image/png:https://www.chugachmiut.org/wp-content/uploads/2021/06/AA-Meetings-flyer-5-24.png
END:VEVENT
BEGIN:VEVENT
DTSTART;TZID=America/Anchorage:20290424T130000
DTEND;TZID=America/Anchorage:20290424T140000
DTSTAMP:20260422T140745
CREATED:20240507T215547Z
LAST-MODIFIED:20240507T215636Z
UID:10005626-1871730000-1871733600@www.chugachmiut.org
SUMMARY:Regional Alcoholic Anonymous Meetings
DESCRIPTION:Cama’i! Join us every Tuesday and Thursday at 1 pm for our Chugachmiut Regional Alcoholic Anonymous Meetings! \nYou can join us on zoom by clicking the link below:\nhttps://www.chugachmiut-org.zoom.us/j/7487646244 \nMeeting ID: 748 764 6244 \nContact us at (907) 562-4155 with any questions. Quyanaa/AwA’ahdah!
URL:https://www.chugachmiut.org/event/regional-alcoholic-anonymous-meetings-2/2029-04-24/
LOCATION:Zoom
CATEGORIES:Social Services
ATTACH;FMTTYPE=image/png:https://www.chugachmiut.org/wp-content/uploads/2021/06/AA-Meetings-flyer-5-24.png
END:VEVENT
BEGIN:VEVENT
DTSTART;TZID=America/Anchorage:20290426T130000
DTEND;TZID=America/Anchorage:20290426T140000
DTSTAMP:20260422T140745
CREATED:20240507T215547Z
LAST-MODIFIED:20240507T215636Z
UID:10005627-1871902800-1871906400@www.chugachmiut.org
SUMMARY:Regional Alcoholic Anonymous Meetings
DESCRIPTION:Cama’i! Join us every Tuesday and Thursday at 1 pm for our Chugachmiut Regional Alcoholic Anonymous Meetings! \nYou can join us on zoom by clicking the link below:\nhttps://www.chugachmiut-org.zoom.us/j/7487646244 \nMeeting ID: 748 764 6244 \nContact us at (907) 562-4155 with any questions. Quyanaa/AwA’ahdah!
URL:https://www.chugachmiut.org/event/regional-alcoholic-anonymous-meetings-2/2029-04-26/
LOCATION:Zoom
CATEGORIES:Social Services
ATTACH;FMTTYPE=image/png:https://www.chugachmiut.org/wp-content/uploads/2021/06/AA-Meetings-flyer-5-24.png
END:VEVENT
BEGIN:VEVENT
DTSTART;TZID=America/Anchorage:20290501T130000
DTEND;TZID=America/Anchorage:20290501T140000
DTSTAMP:20260422T140745
CREATED:20240507T215547Z
LAST-MODIFIED:20240507T215636Z
UID:10005628-1872334800-1872338400@www.chugachmiut.org
SUMMARY:Regional Alcoholic Anonymous Meetings
DESCRIPTION:Cama’i! Join us every Tuesday and Thursday at 1 pm for our Chugachmiut Regional Alcoholic Anonymous Meetings! \nYou can join us on zoom by clicking the link below:\nhttps://www.chugachmiut-org.zoom.us/j/7487646244 \nMeeting ID: 748 764 6244 \nContact us at (907) 562-4155 with any questions. Quyanaa/AwA’ahdah!
URL:https://www.chugachmiut.org/event/regional-alcoholic-anonymous-meetings-2/2029-05-01/
LOCATION:Zoom
CATEGORIES:Social Services
ATTACH;FMTTYPE=image/png:https://www.chugachmiut.org/wp-content/uploads/2021/06/AA-Meetings-flyer-5-24.png
END:VEVENT
BEGIN:VEVENT
DTSTART;TZID=America/Anchorage:20290503T130000
DTEND;TZID=America/Anchorage:20290503T140000
DTSTAMP:20260422T140745
CREATED:20240507T215547Z
LAST-MODIFIED:20240507T215636Z
UID:10005629-1872507600-1872511200@www.chugachmiut.org
SUMMARY:Regional Alcoholic Anonymous Meetings
DESCRIPTION:Cama’i! Join us every Tuesday and Thursday at 1 pm for our Chugachmiut Regional Alcoholic Anonymous Meetings! \nYou can join us on zoom by clicking the link below:\nhttps://www.chugachmiut-org.zoom.us/j/7487646244 \nMeeting ID: 748 764 6244 \nContact us at (907) 562-4155 with any questions. Quyanaa/AwA’ahdah!
URL:https://www.chugachmiut.org/event/regional-alcoholic-anonymous-meetings-2/2029-05-03/
LOCATION:Zoom
CATEGORIES:Social Services
ATTACH;FMTTYPE=image/png:https://www.chugachmiut.org/wp-content/uploads/2021/06/AA-Meetings-flyer-5-24.png
END:VEVENT
END:VCALENDAR