BEGIN:VCALENDAR
VERSION:2.0
PRODID:-//Chugachmiut - ECPv6.15.17//NONSGML v1.0//EN
CALSCALE:GREGORIAN
METHOD:PUBLISH
X-ORIGINAL-URL:https://www.chugachmiut.org
X-WR-CALDESC:Events for Chugachmiut
REFRESH-INTERVAL;VALUE=DURATION:PT1H
X-Robots-Tag:noindex
X-PUBLISHED-TTL:PT1H
BEGIN:VTIMEZONE
TZID:America/Anchorage
BEGIN:DAYLIGHT
TZOFFSETFROM:-0900
TZOFFSETTO:-0800
TZNAME:AKDT
DTSTART:20270314T110000
END:DAYLIGHT
BEGIN:STANDARD
TZOFFSETFROM:-0800
TZOFFSETTO:-0900
TZNAME:AKST
DTSTART:20271107T100000
END:STANDARD
BEGIN:DAYLIGHT
TZOFFSETFROM:-0900
TZOFFSETTO:-0800
TZNAME:AKDT
DTSTART:20280312T110000
END:DAYLIGHT
BEGIN:STANDARD
TZOFFSETFROM:-0800
TZOFFSETTO:-0900
TZNAME:AKST
DTSTART:20281105T100000
END:STANDARD
BEGIN:DAYLIGHT
TZOFFSETFROM:-0900
TZOFFSETTO:-0800
TZNAME:AKDT
DTSTART:20290311T110000
END:DAYLIGHT
BEGIN:STANDARD
TZOFFSETFROM:-0800
TZOFFSETTO:-0900
TZNAME:AKST
DTSTART:20291104T100000
END:STANDARD
BEGIN:DAYLIGHT
TZOFFSETFROM:-0900
TZOFFSETTO:-0800
TZNAME:AKDT
DTSTART:20300310T110000
END:DAYLIGHT
BEGIN:STANDARD
TZOFFSETFROM:-0800
TZOFFSETTO:-0900
TZNAME:AKST
DTSTART:20301103T100000
END:STANDARD
END:VTIMEZONE
BEGIN:VEVENT
DTSTART;TZID=America/Anchorage:20281031T130000
DTEND;TZID=America/Anchorage:20281031T140000
DTSTAMP:20260422T011207
CREATED:20240507T215547Z
LAST-MODIFIED:20240507T215636Z
UID:10005576-1856610000-1856613600@www.chugachmiut.org
SUMMARY:Regional Alcoholic Anonymous Meetings
DESCRIPTION:Cama’i! Join us every Tuesday and Thursday at 1 pm for our Chugachmiut Regional Alcoholic Anonymous Meetings! \nYou can join us on zoom by clicking the link below:\nhttps://www.chugachmiut-org.zoom.us/j/7487646244 \nMeeting ID: 748 764 6244 \nContact us at (907) 562-4155 with any questions. Quyanaa/AwA’ahdah!
URL:https://www.chugachmiut.org/event/regional-alcoholic-anonymous-meetings-2/2028-10-31/
LOCATION:Zoom
CATEGORIES:Social Services
ATTACH;FMTTYPE=image/png:https://www.chugachmiut.org/wp-content/uploads/2021/06/AA-Meetings-flyer-5-24.png
END:VEVENT
BEGIN:VEVENT
DTSTART;TZID=America/Anchorage:20281102T130000
DTEND;TZID=America/Anchorage:20281102T140000
DTSTAMP:20260422T011207
CREATED:20240507T215547Z
LAST-MODIFIED:20240507T215636Z
UID:10005577-1856782800-1856786400@www.chugachmiut.org
SUMMARY:Regional Alcoholic Anonymous Meetings
DESCRIPTION:Cama’i! Join us every Tuesday and Thursday at 1 pm for our Chugachmiut Regional Alcoholic Anonymous Meetings! \nYou can join us on zoom by clicking the link below:\nhttps://www.chugachmiut-org.zoom.us/j/7487646244 \nMeeting ID: 748 764 6244 \nContact us at (907) 562-4155 with any questions. Quyanaa/AwA’ahdah!
URL:https://www.chugachmiut.org/event/regional-alcoholic-anonymous-meetings-2/2028-11-02/
LOCATION:Zoom
CATEGORIES:Social Services
ATTACH;FMTTYPE=image/png:https://www.chugachmiut.org/wp-content/uploads/2021/06/AA-Meetings-flyer-5-24.png
END:VEVENT
BEGIN:VEVENT
DTSTART;TZID=America/Anchorage:20281107T130000
DTEND;TZID=America/Anchorage:20281107T140000
DTSTAMP:20260422T011207
CREATED:20240507T215547Z
LAST-MODIFIED:20240507T215636Z
UID:10005578-1857214800-1857218400@www.chugachmiut.org
SUMMARY:Regional Alcoholic Anonymous Meetings
DESCRIPTION:Cama’i! Join us every Tuesday and Thursday at 1 pm for our Chugachmiut Regional Alcoholic Anonymous Meetings! \nYou can join us on zoom by clicking the link below:\nhttps://www.chugachmiut-org.zoom.us/j/7487646244 \nMeeting ID: 748 764 6244 \nContact us at (907) 562-4155 with any questions. Quyanaa/AwA’ahdah!
URL:https://www.chugachmiut.org/event/regional-alcoholic-anonymous-meetings-2/2028-11-07/
LOCATION:Zoom
CATEGORIES:Social Services
ATTACH;FMTTYPE=image/png:https://www.chugachmiut.org/wp-content/uploads/2021/06/AA-Meetings-flyer-5-24.png
END:VEVENT
BEGIN:VEVENT
DTSTART;TZID=America/Anchorage:20281109T130000
DTEND;TZID=America/Anchorage:20281109T140000
DTSTAMP:20260422T011207
CREATED:20240507T215547Z
LAST-MODIFIED:20240507T215636Z
UID:10005579-1857387600-1857391200@www.chugachmiut.org
SUMMARY:Regional Alcoholic Anonymous Meetings
DESCRIPTION:Cama’i! Join us every Tuesday and Thursday at 1 pm for our Chugachmiut Regional Alcoholic Anonymous Meetings! \nYou can join us on zoom by clicking the link below:\nhttps://www.chugachmiut-org.zoom.us/j/7487646244 \nMeeting ID: 748 764 6244 \nContact us at (907) 562-4155 with any questions. Quyanaa/AwA’ahdah!
URL:https://www.chugachmiut.org/event/regional-alcoholic-anonymous-meetings-2/2028-11-09/
LOCATION:Zoom
CATEGORIES:Social Services
ATTACH;FMTTYPE=image/png:https://www.chugachmiut.org/wp-content/uploads/2021/06/AA-Meetings-flyer-5-24.png
END:VEVENT
BEGIN:VEVENT
DTSTART;TZID=America/Anchorage:20281114T130000
DTEND;TZID=America/Anchorage:20281114T140000
DTSTAMP:20260422T011207
CREATED:20240507T215547Z
LAST-MODIFIED:20240507T215636Z
UID:10005580-1857819600-1857823200@www.chugachmiut.org
SUMMARY:Regional Alcoholic Anonymous Meetings
DESCRIPTION:Cama’i! Join us every Tuesday and Thursday at 1 pm for our Chugachmiut Regional Alcoholic Anonymous Meetings! \nYou can join us on zoom by clicking the link below:\nhttps://www.chugachmiut-org.zoom.us/j/7487646244 \nMeeting ID: 748 764 6244 \nContact us at (907) 562-4155 with any questions. Quyanaa/AwA’ahdah!
URL:https://www.chugachmiut.org/event/regional-alcoholic-anonymous-meetings-2/2028-11-14/
LOCATION:Zoom
CATEGORIES:Social Services
ATTACH;FMTTYPE=image/png:https://www.chugachmiut.org/wp-content/uploads/2021/06/AA-Meetings-flyer-5-24.png
END:VEVENT
BEGIN:VEVENT
DTSTART;TZID=America/Anchorage:20281116T130000
DTEND;TZID=America/Anchorage:20281116T140000
DTSTAMP:20260422T011207
CREATED:20240507T215547Z
LAST-MODIFIED:20240507T215636Z
UID:10005581-1857992400-1857996000@www.chugachmiut.org
SUMMARY:Regional Alcoholic Anonymous Meetings
DESCRIPTION:Cama’i! Join us every Tuesday and Thursday at 1 pm for our Chugachmiut Regional Alcoholic Anonymous Meetings! \nYou can join us on zoom by clicking the link below:\nhttps://www.chugachmiut-org.zoom.us/j/7487646244 \nMeeting ID: 748 764 6244 \nContact us at (907) 562-4155 with any questions. Quyanaa/AwA’ahdah!
URL:https://www.chugachmiut.org/event/regional-alcoholic-anonymous-meetings-2/2028-11-16/
LOCATION:Zoom
CATEGORIES:Social Services
ATTACH;FMTTYPE=image/png:https://www.chugachmiut.org/wp-content/uploads/2021/06/AA-Meetings-flyer-5-24.png
END:VEVENT
BEGIN:VEVENT
DTSTART;TZID=America/Anchorage:20281121T130000
DTEND;TZID=America/Anchorage:20281121T140000
DTSTAMP:20260422T011207
CREATED:20240507T215547Z
LAST-MODIFIED:20240507T215636Z
UID:10005582-1858424400-1858428000@www.chugachmiut.org
SUMMARY:Regional Alcoholic Anonymous Meetings
DESCRIPTION:Cama’i! Join us every Tuesday and Thursday at 1 pm for our Chugachmiut Regional Alcoholic Anonymous Meetings! \nYou can join us on zoom by clicking the link below:\nhttps://www.chugachmiut-org.zoom.us/j/7487646244 \nMeeting ID: 748 764 6244 \nContact us at (907) 562-4155 with any questions. Quyanaa/AwA’ahdah!
URL:https://www.chugachmiut.org/event/regional-alcoholic-anonymous-meetings-2/2028-11-21/
LOCATION:Zoom
CATEGORIES:Social Services
ATTACH;FMTTYPE=image/png:https://www.chugachmiut.org/wp-content/uploads/2021/06/AA-Meetings-flyer-5-24.png
END:VEVENT
BEGIN:VEVENT
DTSTART;TZID=America/Anchorage:20281123T130000
DTEND;TZID=America/Anchorage:20281123T140000
DTSTAMP:20260422T011207
CREATED:20240507T215547Z
LAST-MODIFIED:20240507T215636Z
UID:10005583-1858597200-1858600800@www.chugachmiut.org
SUMMARY:Regional Alcoholic Anonymous Meetings
DESCRIPTION:Cama’i! Join us every Tuesday and Thursday at 1 pm for our Chugachmiut Regional Alcoholic Anonymous Meetings! \nYou can join us on zoom by clicking the link below:\nhttps://www.chugachmiut-org.zoom.us/j/7487646244 \nMeeting ID: 748 764 6244 \nContact us at (907) 562-4155 with any questions. Quyanaa/AwA’ahdah!
URL:https://www.chugachmiut.org/event/regional-alcoholic-anonymous-meetings-2/2028-11-23/
LOCATION:Zoom
CATEGORIES:Social Services
ATTACH;FMTTYPE=image/png:https://www.chugachmiut.org/wp-content/uploads/2021/06/AA-Meetings-flyer-5-24.png
END:VEVENT
BEGIN:VEVENT
DTSTART;TZID=America/Anchorage:20281128T130000
DTEND;TZID=America/Anchorage:20281128T140000
DTSTAMP:20260422T011207
CREATED:20240507T215547Z
LAST-MODIFIED:20240507T215636Z
UID:10005584-1859029200-1859032800@www.chugachmiut.org
SUMMARY:Regional Alcoholic Anonymous Meetings
DESCRIPTION:Cama’i! Join us every Tuesday and Thursday at 1 pm for our Chugachmiut Regional Alcoholic Anonymous Meetings! \nYou can join us on zoom by clicking the link below:\nhttps://www.chugachmiut-org.zoom.us/j/7487646244 \nMeeting ID: 748 764 6244 \nContact us at (907) 562-4155 with any questions. Quyanaa/AwA’ahdah!
URL:https://www.chugachmiut.org/event/regional-alcoholic-anonymous-meetings-2/2028-11-28/
LOCATION:Zoom
CATEGORIES:Social Services
ATTACH;FMTTYPE=image/png:https://www.chugachmiut.org/wp-content/uploads/2021/06/AA-Meetings-flyer-5-24.png
END:VEVENT
BEGIN:VEVENT
DTSTART;TZID=America/Anchorage:20281130T130000
DTEND;TZID=America/Anchorage:20281130T140000
DTSTAMP:20260422T011207
CREATED:20240507T215547Z
LAST-MODIFIED:20240507T215636Z
UID:10005585-1859202000-1859205600@www.chugachmiut.org
SUMMARY:Regional Alcoholic Anonymous Meetings
DESCRIPTION:Cama’i! Join us every Tuesday and Thursday at 1 pm for our Chugachmiut Regional Alcoholic Anonymous Meetings! \nYou can join us on zoom by clicking the link below:\nhttps://www.chugachmiut-org.zoom.us/j/7487646244 \nMeeting ID: 748 764 6244 \nContact us at (907) 562-4155 with any questions. Quyanaa/AwA’ahdah!
URL:https://www.chugachmiut.org/event/regional-alcoholic-anonymous-meetings-2/2028-11-30/
LOCATION:Zoom
CATEGORIES:Social Services
ATTACH;FMTTYPE=image/png:https://www.chugachmiut.org/wp-content/uploads/2021/06/AA-Meetings-flyer-5-24.png
END:VEVENT
BEGIN:VEVENT
DTSTART;TZID=America/Anchorage:20281205T130000
DTEND;TZID=America/Anchorage:20281205T140000
DTSTAMP:20260422T011207
CREATED:20240507T215547Z
LAST-MODIFIED:20240507T215636Z
UID:10005586-1859634000-1859637600@www.chugachmiut.org
SUMMARY:Regional Alcoholic Anonymous Meetings
DESCRIPTION:Cama’i! Join us every Tuesday and Thursday at 1 pm for our Chugachmiut Regional Alcoholic Anonymous Meetings! \nYou can join us on zoom by clicking the link below:\nhttps://www.chugachmiut-org.zoom.us/j/7487646244 \nMeeting ID: 748 764 6244 \nContact us at (907) 562-4155 with any questions. Quyanaa/AwA’ahdah!
URL:https://www.chugachmiut.org/event/regional-alcoholic-anonymous-meetings-2/2028-12-05/
LOCATION:Zoom
CATEGORIES:Social Services
ATTACH;FMTTYPE=image/png:https://www.chugachmiut.org/wp-content/uploads/2021/06/AA-Meetings-flyer-5-24.png
END:VEVENT
BEGIN:VEVENT
DTSTART;TZID=America/Anchorage:20281207T130000
DTEND;TZID=America/Anchorage:20281207T140000
DTSTAMP:20260422T011207
CREATED:20240507T215547Z
LAST-MODIFIED:20240507T215636Z
UID:10005587-1859806800-1859810400@www.chugachmiut.org
SUMMARY:Regional Alcoholic Anonymous Meetings
DESCRIPTION:Cama’i! Join us every Tuesday and Thursday at 1 pm for our Chugachmiut Regional Alcoholic Anonymous Meetings! \nYou can join us on zoom by clicking the link below:\nhttps://www.chugachmiut-org.zoom.us/j/7487646244 \nMeeting ID: 748 764 6244 \nContact us at (907) 562-4155 with any questions. Quyanaa/AwA’ahdah!
URL:https://www.chugachmiut.org/event/regional-alcoholic-anonymous-meetings-2/2028-12-07/
LOCATION:Zoom
CATEGORIES:Social Services
ATTACH;FMTTYPE=image/png:https://www.chugachmiut.org/wp-content/uploads/2021/06/AA-Meetings-flyer-5-24.png
END:VEVENT
BEGIN:VEVENT
DTSTART;TZID=America/Anchorage:20281212T130000
DTEND;TZID=America/Anchorage:20281212T140000
DTSTAMP:20260422T011207
CREATED:20240507T215547Z
LAST-MODIFIED:20240507T215636Z
UID:10005588-1860238800-1860242400@www.chugachmiut.org
SUMMARY:Regional Alcoholic Anonymous Meetings
DESCRIPTION:Cama’i! Join us every Tuesday and Thursday at 1 pm for our Chugachmiut Regional Alcoholic Anonymous Meetings! \nYou can join us on zoom by clicking the link below:\nhttps://www.chugachmiut-org.zoom.us/j/7487646244 \nMeeting ID: 748 764 6244 \nContact us at (907) 562-4155 with any questions. Quyanaa/AwA’ahdah!
URL:https://www.chugachmiut.org/event/regional-alcoholic-anonymous-meetings-2/2028-12-12/
LOCATION:Zoom
CATEGORIES:Social Services
ATTACH;FMTTYPE=image/png:https://www.chugachmiut.org/wp-content/uploads/2021/06/AA-Meetings-flyer-5-24.png
END:VEVENT
BEGIN:VEVENT
DTSTART;TZID=America/Anchorage:20281214T130000
DTEND;TZID=America/Anchorage:20281214T140000
DTSTAMP:20260422T011207
CREATED:20240507T215547Z
LAST-MODIFIED:20240507T215636Z
UID:10005589-1860411600-1860415200@www.chugachmiut.org
SUMMARY:Regional Alcoholic Anonymous Meetings
DESCRIPTION:Cama’i! Join us every Tuesday and Thursday at 1 pm for our Chugachmiut Regional Alcoholic Anonymous Meetings! \nYou can join us on zoom by clicking the link below:\nhttps://www.chugachmiut-org.zoom.us/j/7487646244 \nMeeting ID: 748 764 6244 \nContact us at (907) 562-4155 with any questions. Quyanaa/AwA’ahdah!
URL:https://www.chugachmiut.org/event/regional-alcoholic-anonymous-meetings-2/2028-12-14/
LOCATION:Zoom
CATEGORIES:Social Services
ATTACH;FMTTYPE=image/png:https://www.chugachmiut.org/wp-content/uploads/2021/06/AA-Meetings-flyer-5-24.png
END:VEVENT
BEGIN:VEVENT
DTSTART;TZID=America/Anchorage:20281219T130000
DTEND;TZID=America/Anchorage:20281219T140000
DTSTAMP:20260422T011207
CREATED:20240507T215547Z
LAST-MODIFIED:20240507T215636Z
UID:10005590-1860843600-1860847200@www.chugachmiut.org
SUMMARY:Regional Alcoholic Anonymous Meetings
DESCRIPTION:Cama’i! Join us every Tuesday and Thursday at 1 pm for our Chugachmiut Regional Alcoholic Anonymous Meetings! \nYou can join us on zoom by clicking the link below:\nhttps://www.chugachmiut-org.zoom.us/j/7487646244 \nMeeting ID: 748 764 6244 \nContact us at (907) 562-4155 with any questions. Quyanaa/AwA’ahdah!
URL:https://www.chugachmiut.org/event/regional-alcoholic-anonymous-meetings-2/2028-12-19/
LOCATION:Zoom
CATEGORIES:Social Services
ATTACH;FMTTYPE=image/png:https://www.chugachmiut.org/wp-content/uploads/2021/06/AA-Meetings-flyer-5-24.png
END:VEVENT
BEGIN:VEVENT
DTSTART;TZID=America/Anchorage:20281221T130000
DTEND;TZID=America/Anchorage:20281221T140000
DTSTAMP:20260422T011207
CREATED:20240507T215547Z
LAST-MODIFIED:20240507T215636Z
UID:10005591-1861016400-1861020000@www.chugachmiut.org
SUMMARY:Regional Alcoholic Anonymous Meetings
DESCRIPTION:Cama’i! Join us every Tuesday and Thursday at 1 pm for our Chugachmiut Regional Alcoholic Anonymous Meetings! \nYou can join us on zoom by clicking the link below:\nhttps://www.chugachmiut-org.zoom.us/j/7487646244 \nMeeting ID: 748 764 6244 \nContact us at (907) 562-4155 with any questions. Quyanaa/AwA’ahdah!
URL:https://www.chugachmiut.org/event/regional-alcoholic-anonymous-meetings-2/2028-12-21/
LOCATION:Zoom
CATEGORIES:Social Services
ATTACH;FMTTYPE=image/png:https://www.chugachmiut.org/wp-content/uploads/2021/06/AA-Meetings-flyer-5-24.png
END:VEVENT
BEGIN:VEVENT
DTSTART;TZID=America/Anchorage:20281226T130000
DTEND;TZID=America/Anchorage:20281226T140000
DTSTAMP:20260422T011207
CREATED:20240507T215547Z
LAST-MODIFIED:20240507T215636Z
UID:10005592-1861448400-1861452000@www.chugachmiut.org
SUMMARY:Regional Alcoholic Anonymous Meetings
DESCRIPTION:Cama’i! Join us every Tuesday and Thursday at 1 pm for our Chugachmiut Regional Alcoholic Anonymous Meetings! \nYou can join us on zoom by clicking the link below:\nhttps://www.chugachmiut-org.zoom.us/j/7487646244 \nMeeting ID: 748 764 6244 \nContact us at (907) 562-4155 with any questions. Quyanaa/AwA’ahdah!
URL:https://www.chugachmiut.org/event/regional-alcoholic-anonymous-meetings-2/2028-12-26/
LOCATION:Zoom
CATEGORIES:Social Services
ATTACH;FMTTYPE=image/png:https://www.chugachmiut.org/wp-content/uploads/2021/06/AA-Meetings-flyer-5-24.png
END:VEVENT
BEGIN:VEVENT
DTSTART;TZID=America/Anchorage:20281228T130000
DTEND;TZID=America/Anchorage:20281228T140000
DTSTAMP:20260422T011207
CREATED:20240507T215547Z
LAST-MODIFIED:20240507T215636Z
UID:10005593-1861621200-1861624800@www.chugachmiut.org
SUMMARY:Regional Alcoholic Anonymous Meetings
DESCRIPTION:Cama’i! Join us every Tuesday and Thursday at 1 pm for our Chugachmiut Regional Alcoholic Anonymous Meetings! \nYou can join us on zoom by clicking the link below:\nhttps://www.chugachmiut-org.zoom.us/j/7487646244 \nMeeting ID: 748 764 6244 \nContact us at (907) 562-4155 with any questions. Quyanaa/AwA’ahdah!
URL:https://www.chugachmiut.org/event/regional-alcoholic-anonymous-meetings-2/2028-12-28/
LOCATION:Zoom
CATEGORIES:Social Services
ATTACH;FMTTYPE=image/png:https://www.chugachmiut.org/wp-content/uploads/2021/06/AA-Meetings-flyer-5-24.png
END:VEVENT
BEGIN:VEVENT
DTSTART;TZID=America/Anchorage:20290102T130000
DTEND;TZID=America/Anchorage:20290102T140000
DTSTAMP:20260422T011207
CREATED:20240507T215547Z
LAST-MODIFIED:20240507T215636Z
UID:10005594-1862053200-1862056800@www.chugachmiut.org
SUMMARY:Regional Alcoholic Anonymous Meetings
DESCRIPTION:Cama’i! Join us every Tuesday and Thursday at 1 pm for our Chugachmiut Regional Alcoholic Anonymous Meetings! \nYou can join us on zoom by clicking the link below:\nhttps://www.chugachmiut-org.zoom.us/j/7487646244 \nMeeting ID: 748 764 6244 \nContact us at (907) 562-4155 with any questions. Quyanaa/AwA’ahdah!
URL:https://www.chugachmiut.org/event/regional-alcoholic-anonymous-meetings-2/2029-01-02/
LOCATION:Zoom
CATEGORIES:Social Services
ATTACH;FMTTYPE=image/png:https://www.chugachmiut.org/wp-content/uploads/2021/06/AA-Meetings-flyer-5-24.png
END:VEVENT
BEGIN:VEVENT
DTSTART;TZID=America/Anchorage:20290104T130000
DTEND;TZID=America/Anchorage:20290104T140000
DTSTAMP:20260422T011207
CREATED:20240507T215547Z
LAST-MODIFIED:20240507T215636Z
UID:10005595-1862226000-1862229600@www.chugachmiut.org
SUMMARY:Regional Alcoholic Anonymous Meetings
DESCRIPTION:Cama’i! Join us every Tuesday and Thursday at 1 pm for our Chugachmiut Regional Alcoholic Anonymous Meetings! \nYou can join us on zoom by clicking the link below:\nhttps://www.chugachmiut-org.zoom.us/j/7487646244 \nMeeting ID: 748 764 6244 \nContact us at (907) 562-4155 with any questions. Quyanaa/AwA’ahdah!
URL:https://www.chugachmiut.org/event/regional-alcoholic-anonymous-meetings-2/2029-01-04/
LOCATION:Zoom
CATEGORIES:Social Services
ATTACH;FMTTYPE=image/png:https://www.chugachmiut.org/wp-content/uploads/2021/06/AA-Meetings-flyer-5-24.png
END:VEVENT
BEGIN:VEVENT
DTSTART;TZID=America/Anchorage:20290109T130000
DTEND;TZID=America/Anchorage:20290109T140000
DTSTAMP:20260422T011207
CREATED:20240507T215547Z
LAST-MODIFIED:20240507T215636Z
UID:10005596-1862658000-1862661600@www.chugachmiut.org
SUMMARY:Regional Alcoholic Anonymous Meetings
DESCRIPTION:Cama’i! Join us every Tuesday and Thursday at 1 pm for our Chugachmiut Regional Alcoholic Anonymous Meetings! \nYou can join us on zoom by clicking the link below:\nhttps://www.chugachmiut-org.zoom.us/j/7487646244 \nMeeting ID: 748 764 6244 \nContact us at (907) 562-4155 with any questions. Quyanaa/AwA’ahdah!
URL:https://www.chugachmiut.org/event/regional-alcoholic-anonymous-meetings-2/2029-01-09/
LOCATION:Zoom
CATEGORIES:Social Services
ATTACH;FMTTYPE=image/png:https://www.chugachmiut.org/wp-content/uploads/2021/06/AA-Meetings-flyer-5-24.png
END:VEVENT
BEGIN:VEVENT
DTSTART;TZID=America/Anchorage:20290111T130000
DTEND;TZID=America/Anchorage:20290111T140000
DTSTAMP:20260422T011207
CREATED:20240507T215547Z
LAST-MODIFIED:20240507T215636Z
UID:10005597-1862830800-1862834400@www.chugachmiut.org
SUMMARY:Regional Alcoholic Anonymous Meetings
DESCRIPTION:Cama’i! Join us every Tuesday and Thursday at 1 pm for our Chugachmiut Regional Alcoholic Anonymous Meetings! \nYou can join us on zoom by clicking the link below:\nhttps://www.chugachmiut-org.zoom.us/j/7487646244 \nMeeting ID: 748 764 6244 \nContact us at (907) 562-4155 with any questions. Quyanaa/AwA’ahdah!
URL:https://www.chugachmiut.org/event/regional-alcoholic-anonymous-meetings-2/2029-01-11/
LOCATION:Zoom
CATEGORIES:Social Services
ATTACH;FMTTYPE=image/png:https://www.chugachmiut.org/wp-content/uploads/2021/06/AA-Meetings-flyer-5-24.png
END:VEVENT
BEGIN:VEVENT
DTSTART;TZID=America/Anchorage:20290116T130000
DTEND;TZID=America/Anchorage:20290116T140000
DTSTAMP:20260422T011207
CREATED:20240507T215547Z
LAST-MODIFIED:20240507T215636Z
UID:10005598-1863262800-1863266400@www.chugachmiut.org
SUMMARY:Regional Alcoholic Anonymous Meetings
DESCRIPTION:Cama’i! Join us every Tuesday and Thursday at 1 pm for our Chugachmiut Regional Alcoholic Anonymous Meetings! \nYou can join us on zoom by clicking the link below:\nhttps://www.chugachmiut-org.zoom.us/j/7487646244 \nMeeting ID: 748 764 6244 \nContact us at (907) 562-4155 with any questions. Quyanaa/AwA’ahdah!
URL:https://www.chugachmiut.org/event/regional-alcoholic-anonymous-meetings-2/2029-01-16/
LOCATION:Zoom
CATEGORIES:Social Services
ATTACH;FMTTYPE=image/png:https://www.chugachmiut.org/wp-content/uploads/2021/06/AA-Meetings-flyer-5-24.png
END:VEVENT
BEGIN:VEVENT
DTSTART;TZID=America/Anchorage:20290118T130000
DTEND;TZID=America/Anchorage:20290118T140000
DTSTAMP:20260422T011207
CREATED:20240507T215547Z
LAST-MODIFIED:20240507T215636Z
UID:10005599-1863435600-1863439200@www.chugachmiut.org
SUMMARY:Regional Alcoholic Anonymous Meetings
DESCRIPTION:Cama’i! Join us every Tuesday and Thursday at 1 pm for our Chugachmiut Regional Alcoholic Anonymous Meetings! \nYou can join us on zoom by clicking the link below:\nhttps://www.chugachmiut-org.zoom.us/j/7487646244 \nMeeting ID: 748 764 6244 \nContact us at (907) 562-4155 with any questions. Quyanaa/AwA’ahdah!
URL:https://www.chugachmiut.org/event/regional-alcoholic-anonymous-meetings-2/2029-01-18/
LOCATION:Zoom
CATEGORIES:Social Services
ATTACH;FMTTYPE=image/png:https://www.chugachmiut.org/wp-content/uploads/2021/06/AA-Meetings-flyer-5-24.png
END:VEVENT
BEGIN:VEVENT
DTSTART;TZID=America/Anchorage:20290123T130000
DTEND;TZID=America/Anchorage:20290123T140000
DTSTAMP:20260422T011207
CREATED:20240507T215547Z
LAST-MODIFIED:20240507T215636Z
UID:10005600-1863867600-1863871200@www.chugachmiut.org
SUMMARY:Regional Alcoholic Anonymous Meetings
DESCRIPTION:Cama’i! Join us every Tuesday and Thursday at 1 pm for our Chugachmiut Regional Alcoholic Anonymous Meetings! \nYou can join us on zoom by clicking the link below:\nhttps://www.chugachmiut-org.zoom.us/j/7487646244 \nMeeting ID: 748 764 6244 \nContact us at (907) 562-4155 with any questions. Quyanaa/AwA’ahdah!
URL:https://www.chugachmiut.org/event/regional-alcoholic-anonymous-meetings-2/2029-01-23/
LOCATION:Zoom
CATEGORIES:Social Services
ATTACH;FMTTYPE=image/png:https://www.chugachmiut.org/wp-content/uploads/2021/06/AA-Meetings-flyer-5-24.png
END:VEVENT
BEGIN:VEVENT
DTSTART;TZID=America/Anchorage:20290125T130000
DTEND;TZID=America/Anchorage:20290125T140000
DTSTAMP:20260422T011207
CREATED:20240507T215547Z
LAST-MODIFIED:20240507T215636Z
UID:10005601-1864040400-1864044000@www.chugachmiut.org
SUMMARY:Regional Alcoholic Anonymous Meetings
DESCRIPTION:Cama’i! Join us every Tuesday and Thursday at 1 pm for our Chugachmiut Regional Alcoholic Anonymous Meetings! \nYou can join us on zoom by clicking the link below:\nhttps://www.chugachmiut-org.zoom.us/j/7487646244 \nMeeting ID: 748 764 6244 \nContact us at (907) 562-4155 with any questions. Quyanaa/AwA’ahdah!
URL:https://www.chugachmiut.org/event/regional-alcoholic-anonymous-meetings-2/2029-01-25/
LOCATION:Zoom
CATEGORIES:Social Services
ATTACH;FMTTYPE=image/png:https://www.chugachmiut.org/wp-content/uploads/2021/06/AA-Meetings-flyer-5-24.png
END:VEVENT
BEGIN:VEVENT
DTSTART;TZID=America/Anchorage:20290130T130000
DTEND;TZID=America/Anchorage:20290130T140000
DTSTAMP:20260422T011207
CREATED:20240507T215547Z
LAST-MODIFIED:20240507T215636Z
UID:10005602-1864472400-1864476000@www.chugachmiut.org
SUMMARY:Regional Alcoholic Anonymous Meetings
DESCRIPTION:Cama’i! Join us every Tuesday and Thursday at 1 pm for our Chugachmiut Regional Alcoholic Anonymous Meetings! \nYou can join us on zoom by clicking the link below:\nhttps://www.chugachmiut-org.zoom.us/j/7487646244 \nMeeting ID: 748 764 6244 \nContact us at (907) 562-4155 with any questions. Quyanaa/AwA’ahdah!
URL:https://www.chugachmiut.org/event/regional-alcoholic-anonymous-meetings-2/2029-01-30/
LOCATION:Zoom
CATEGORIES:Social Services
ATTACH;FMTTYPE=image/png:https://www.chugachmiut.org/wp-content/uploads/2021/06/AA-Meetings-flyer-5-24.png
END:VEVENT
BEGIN:VEVENT
DTSTART;TZID=America/Anchorage:20290201T130000
DTEND;TZID=America/Anchorage:20290201T140000
DTSTAMP:20260422T011207
CREATED:20240507T215547Z
LAST-MODIFIED:20240507T215636Z
UID:10005603-1864645200-1864648800@www.chugachmiut.org
SUMMARY:Regional Alcoholic Anonymous Meetings
DESCRIPTION:Cama’i! Join us every Tuesday and Thursday at 1 pm for our Chugachmiut Regional Alcoholic Anonymous Meetings! \nYou can join us on zoom by clicking the link below:\nhttps://www.chugachmiut-org.zoom.us/j/7487646244 \nMeeting ID: 748 764 6244 \nContact us at (907) 562-4155 with any questions. Quyanaa/AwA’ahdah!
URL:https://www.chugachmiut.org/event/regional-alcoholic-anonymous-meetings-2/2029-02-01/
LOCATION:Zoom
CATEGORIES:Social Services
ATTACH;FMTTYPE=image/png:https://www.chugachmiut.org/wp-content/uploads/2021/06/AA-Meetings-flyer-5-24.png
END:VEVENT
BEGIN:VEVENT
DTSTART;TZID=America/Anchorage:20290206T130000
DTEND;TZID=America/Anchorage:20290206T140000
DTSTAMP:20260422T011207
CREATED:20240507T215547Z
LAST-MODIFIED:20240507T215636Z
UID:10005604-1865077200-1865080800@www.chugachmiut.org
SUMMARY:Regional Alcoholic Anonymous Meetings
DESCRIPTION:Cama’i! Join us every Tuesday and Thursday at 1 pm for our Chugachmiut Regional Alcoholic Anonymous Meetings! \nYou can join us on zoom by clicking the link below:\nhttps://www.chugachmiut-org.zoom.us/j/7487646244 \nMeeting ID: 748 764 6244 \nContact us at (907) 562-4155 with any questions. Quyanaa/AwA’ahdah!
URL:https://www.chugachmiut.org/event/regional-alcoholic-anonymous-meetings-2/2029-02-06/
LOCATION:Zoom
CATEGORIES:Social Services
ATTACH;FMTTYPE=image/png:https://www.chugachmiut.org/wp-content/uploads/2021/06/AA-Meetings-flyer-5-24.png
END:VEVENT
BEGIN:VEVENT
DTSTART;TZID=America/Anchorage:20290208T130000
DTEND;TZID=America/Anchorage:20290208T140000
DTSTAMP:20260422T011207
CREATED:20240507T215547Z
LAST-MODIFIED:20240507T215636Z
UID:10005605-1865250000-1865253600@www.chugachmiut.org
SUMMARY:Regional Alcoholic Anonymous Meetings
DESCRIPTION:Cama’i! Join us every Tuesday and Thursday at 1 pm for our Chugachmiut Regional Alcoholic Anonymous Meetings! \nYou can join us on zoom by clicking the link below:\nhttps://www.chugachmiut-org.zoom.us/j/7487646244 \nMeeting ID: 748 764 6244 \nContact us at (907) 562-4155 with any questions. Quyanaa/AwA’ahdah!
URL:https://www.chugachmiut.org/event/regional-alcoholic-anonymous-meetings-2/2029-02-08/
LOCATION:Zoom
CATEGORIES:Social Services
ATTACH;FMTTYPE=image/png:https://www.chugachmiut.org/wp-content/uploads/2021/06/AA-Meetings-flyer-5-24.png
END:VEVENT
END:VCALENDAR