BEGIN:VCALENDAR
VERSION:2.0
PRODID:-//Chugachmiut - ECPv6.15.17//NONSGML v1.0//EN
CALSCALE:GREGORIAN
METHOD:PUBLISH
X-ORIGINAL-URL:https://www.chugachmiut.org
X-WR-CALDESC:Events for Chugachmiut
REFRESH-INTERVAL;VALUE=DURATION:PT1H
X-Robots-Tag:noindex
X-PUBLISHED-TTL:PT1H
BEGIN:VTIMEZONE
TZID:America/Anchorage
BEGIN:DAYLIGHT
TZOFFSETFROM:-0900
TZOFFSETTO:-0800
TZNAME:AKDT
DTSTART:20250309T110000
END:DAYLIGHT
BEGIN:STANDARD
TZOFFSETFROM:-0800
TZOFFSETTO:-0900
TZNAME:AKST
DTSTART:20251102T100000
END:STANDARD
BEGIN:DAYLIGHT
TZOFFSETFROM:-0900
TZOFFSETTO:-0800
TZNAME:AKDT
DTSTART:20260308T110000
END:DAYLIGHT
BEGIN:STANDARD
TZOFFSETFROM:-0800
TZOFFSETTO:-0900
TZNAME:AKST
DTSTART:20261101T100000
END:STANDARD
BEGIN:DAYLIGHT
TZOFFSETFROM:-0900
TZOFFSETTO:-0800
TZNAME:AKDT
DTSTART:20270314T110000
END:DAYLIGHT
BEGIN:STANDARD
TZOFFSETFROM:-0800
TZOFFSETTO:-0900
TZNAME:AKST
DTSTART:20271107T100000
END:STANDARD
END:VTIMEZONE
BEGIN:VEVENT
DTSTART;TZID=America/Anchorage:20260108T130000
DTEND;TZID=America/Anchorage:20260108T140000
DTSTAMP:20260424T124853
CREATED:20240507T215547Z
LAST-MODIFIED:20240507T215636Z
UID:10005283-1767877200-1767880800@www.chugachmiut.org
SUMMARY:Regional Alcoholic Anonymous Meetings
DESCRIPTION:Cama’i! Join us every Tuesday and Thursday at 1 pm for our Chugachmiut Regional Alcoholic Anonymous Meetings! \nYou can join us on zoom by clicking the link below:\nhttps://www.chugachmiut-org.zoom.us/j/7487646244 \nMeeting ID: 748 764 6244 \nContact us at (907) 562-4155 with any questions. Quyanaa/AwA’ahdah!
URL:https://www.chugachmiut.org/event/regional-alcoholic-anonymous-meetings-2/2026-01-08/
LOCATION:Zoom
CATEGORIES:Social Services
ATTACH;FMTTYPE=image/png:https://www.chugachmiut.org/wp-content/uploads/2021/06/AA-Meetings-flyer-5-24.png
END:VEVENT
BEGIN:VEVENT
DTSTART;TZID=America/Anchorage:20260113T130000
DTEND;TZID=America/Anchorage:20260113T140000
DTSTAMP:20260424T124853
CREATED:20240507T215547Z
LAST-MODIFIED:20240507T215636Z
UID:10005284-1768309200-1768312800@www.chugachmiut.org
SUMMARY:Regional Alcoholic Anonymous Meetings
DESCRIPTION:Cama’i! Join us every Tuesday and Thursday at 1 pm for our Chugachmiut Regional Alcoholic Anonymous Meetings! \nYou can join us on zoom by clicking the link below:\nhttps://www.chugachmiut-org.zoom.us/j/7487646244 \nMeeting ID: 748 764 6244 \nContact us at (907) 562-4155 with any questions. Quyanaa/AwA’ahdah!
URL:https://www.chugachmiut.org/event/regional-alcoholic-anonymous-meetings-2/2026-01-13/
LOCATION:Zoom
CATEGORIES:Social Services
ATTACH;FMTTYPE=image/png:https://www.chugachmiut.org/wp-content/uploads/2021/06/AA-Meetings-flyer-5-24.png
END:VEVENT
BEGIN:VEVENT
DTSTART;TZID=America/Anchorage:20260115T130000
DTEND;TZID=America/Anchorage:20260115T140000
DTSTAMP:20260424T124853
CREATED:20240507T215547Z
LAST-MODIFIED:20240507T215636Z
UID:10005285-1768482000-1768485600@www.chugachmiut.org
SUMMARY:Regional Alcoholic Anonymous Meetings
DESCRIPTION:Cama’i! Join us every Tuesday and Thursday at 1 pm for our Chugachmiut Regional Alcoholic Anonymous Meetings! \nYou can join us on zoom by clicking the link below:\nhttps://www.chugachmiut-org.zoom.us/j/7487646244 \nMeeting ID: 748 764 6244 \nContact us at (907) 562-4155 with any questions. Quyanaa/AwA’ahdah!
URL:https://www.chugachmiut.org/event/regional-alcoholic-anonymous-meetings-2/2026-01-15/
LOCATION:Zoom
CATEGORIES:Social Services
ATTACH;FMTTYPE=image/png:https://www.chugachmiut.org/wp-content/uploads/2021/06/AA-Meetings-flyer-5-24.png
END:VEVENT
BEGIN:VEVENT
DTSTART;TZID=America/Anchorage:20260120T130000
DTEND;TZID=America/Anchorage:20260120T140000
DTSTAMP:20260424T124853
CREATED:20240507T215547Z
LAST-MODIFIED:20240507T215636Z
UID:10005286-1768914000-1768917600@www.chugachmiut.org
SUMMARY:Regional Alcoholic Anonymous Meetings
DESCRIPTION:Cama’i! Join us every Tuesday and Thursday at 1 pm for our Chugachmiut Regional Alcoholic Anonymous Meetings! \nYou can join us on zoom by clicking the link below:\nhttps://www.chugachmiut-org.zoom.us/j/7487646244 \nMeeting ID: 748 764 6244 \nContact us at (907) 562-4155 with any questions. Quyanaa/AwA’ahdah!
URL:https://www.chugachmiut.org/event/regional-alcoholic-anonymous-meetings-2/2026-01-20/
LOCATION:Zoom
CATEGORIES:Social Services
ATTACH;FMTTYPE=image/png:https://www.chugachmiut.org/wp-content/uploads/2021/06/AA-Meetings-flyer-5-24.png
END:VEVENT
BEGIN:VEVENT
DTSTART;TZID=America/Anchorage:20260121T150000
DTEND;TZID=America/Anchorage:20260121T190000
DTSTAMP:20260424T124853
CREATED:20251211T010125Z
LAST-MODIFIED:20251211T010125Z
UID:10005751-1769007600-1769022000@www.chugachmiut.org
SUMMARY:Behavioral Health Open House
DESCRIPTION:Join us for a Behavioral Health Open House at the new Chugachmiut Regional Health Center in Seward! Enjoy great food\, refreshments\, and a warm\, welcoming space to explore our new behavioral health area. \nCome by to: \n\nTour our new behavioral health spaces\nMeet our team\nLearn about the behavioral health services we offer for individuals and families\n\nOur behavioral health program provides support for mental wellness\, emotional health\, and life challenges in a respectful\, culturally responsive environment. \n\n\n\nLocation & Contact\n\n\nChugachmiut Behavioral Health\nat Chugachmiut Regional Health Center\n2035 Seward Highway\nSeward\, AK 99664\naliciaa@chugachmiut.org\n907-334-0157\n\n\n\nCome support us and discover how we can help you and your family thrive!
URL:https://www.chugachmiut.org/event/behavioral-health-open-house/
LOCATION:Chugachmiut Regional Health Center\, 2035 Seward Highway\, Seward\, AK\, 99677\, United States
CATEGORIES:Social Services
END:VEVENT
BEGIN:VEVENT
DTSTART;TZID=America/Anchorage:20260122T130000
DTEND;TZID=America/Anchorage:20260122T140000
DTSTAMP:20260424T124853
CREATED:20240507T215547Z
LAST-MODIFIED:20240507T215636Z
UID:10005287-1769086800-1769090400@www.chugachmiut.org
SUMMARY:Regional Alcoholic Anonymous Meetings
DESCRIPTION:Cama’i! Join us every Tuesday and Thursday at 1 pm for our Chugachmiut Regional Alcoholic Anonymous Meetings! \nYou can join us on zoom by clicking the link below:\nhttps://www.chugachmiut-org.zoom.us/j/7487646244 \nMeeting ID: 748 764 6244 \nContact us at (907) 562-4155 with any questions. Quyanaa/AwA’ahdah!
URL:https://www.chugachmiut.org/event/regional-alcoholic-anonymous-meetings-2/2026-01-22/
LOCATION:Zoom
CATEGORIES:Social Services
ATTACH;FMTTYPE=image/png:https://www.chugachmiut.org/wp-content/uploads/2021/06/AA-Meetings-flyer-5-24.png
END:VEVENT
BEGIN:VEVENT
DTSTART;TZID=America/Anchorage:20260127T130000
DTEND;TZID=America/Anchorage:20260127T140000
DTSTAMP:20260424T124853
CREATED:20240507T215547Z
LAST-MODIFIED:20240507T215636Z
UID:10005288-1769518800-1769522400@www.chugachmiut.org
SUMMARY:Regional Alcoholic Anonymous Meetings
DESCRIPTION:Cama’i! Join us every Tuesday and Thursday at 1 pm for our Chugachmiut Regional Alcoholic Anonymous Meetings! \nYou can join us on zoom by clicking the link below:\nhttps://www.chugachmiut-org.zoom.us/j/7487646244 \nMeeting ID: 748 764 6244 \nContact us at (907) 562-4155 with any questions. Quyanaa/AwA’ahdah!
URL:https://www.chugachmiut.org/event/regional-alcoholic-anonymous-meetings-2/2026-01-27/
LOCATION:Zoom
CATEGORIES:Social Services
ATTACH;FMTTYPE=image/png:https://www.chugachmiut.org/wp-content/uploads/2021/06/AA-Meetings-flyer-5-24.png
END:VEVENT
BEGIN:VEVENT
DTSTART;TZID=America/Anchorage:20260129T130000
DTEND;TZID=America/Anchorage:20260129T140000
DTSTAMP:20260424T124853
CREATED:20240507T215547Z
LAST-MODIFIED:20240507T215636Z
UID:10005289-1769691600-1769695200@www.chugachmiut.org
SUMMARY:Regional Alcoholic Anonymous Meetings
DESCRIPTION:Cama’i! Join us every Tuesday and Thursday at 1 pm for our Chugachmiut Regional Alcoholic Anonymous Meetings! \nYou can join us on zoom by clicking the link below:\nhttps://www.chugachmiut-org.zoom.us/j/7487646244 \nMeeting ID: 748 764 6244 \nContact us at (907) 562-4155 with any questions. Quyanaa/AwA’ahdah!
URL:https://www.chugachmiut.org/event/regional-alcoholic-anonymous-meetings-2/2026-01-29/
LOCATION:Zoom
CATEGORIES:Social Services
ATTACH;FMTTYPE=image/png:https://www.chugachmiut.org/wp-content/uploads/2021/06/AA-Meetings-flyer-5-24.png
END:VEVENT
BEGIN:VEVENT
DTSTART;VALUE=DATE:20260202
DTEND;VALUE=DATE:20260217
DTSTAMP:20260424T124853
CREATED:20251113T224307Z
LAST-MODIFIED:20251113T230105Z
UID:10005748-1769990400-1771286399@www.chugachmiut.org
SUMMARY:Llangarwik Recovery Camp
DESCRIPTION:Healing\, connection\, and support are at the heart of Llangarwik Recovery Camp. \nLlangarwik Recovery CampFebruary 2–16\, 2026Kenai Fire Camp \nWhether you’re facing alcoholism\, addiction\, depression\, anxiety\, or trauma\, you don’t have to walk this path alone. Join us for two weeks of healing and wellness that blend proven approaches with meditation\, art\, crafts\, singing\, games\, and time on the land. \nParticipants will: \n\nBuild a supportive circle of friends\nShare stories\, laughter\, tears\, and hope\nEnjoy nutritious homemade meals\nTake time for reflection\, dialogue\, and cultural respect\nGain tools to move forward on a positive path\n\nApplications are available at your local clinic. \nInterested or have questions?Contact Alicia Ambrosio(907) 334-0157 | Toll-free (800) 478-4155AliciaA@chugachmiut.org
URL:https://www.chugachmiut.org/event/llangarwik-recovery-camp-5/
LOCATION:Kenai
CATEGORIES:Social Services
END:VEVENT
BEGIN:VEVENT
DTSTART;TZID=America/Anchorage:20260203T130000
DTEND;TZID=America/Anchorage:20260203T140000
DTSTAMP:20260424T124853
CREATED:20240507T215547Z
LAST-MODIFIED:20240507T215636Z
UID:10005290-1770123600-1770127200@www.chugachmiut.org
SUMMARY:Regional Alcoholic Anonymous Meetings
DESCRIPTION:Cama’i! Join us every Tuesday and Thursday at 1 pm for our Chugachmiut Regional Alcoholic Anonymous Meetings! \nYou can join us on zoom by clicking the link below:\nhttps://www.chugachmiut-org.zoom.us/j/7487646244 \nMeeting ID: 748 764 6244 \nContact us at (907) 562-4155 with any questions. Quyanaa/AwA’ahdah!
URL:https://www.chugachmiut.org/event/regional-alcoholic-anonymous-meetings-2/2026-02-03/
LOCATION:Zoom
CATEGORIES:Social Services
ATTACH;FMTTYPE=image/png:https://www.chugachmiut.org/wp-content/uploads/2021/06/AA-Meetings-flyer-5-24.png
END:VEVENT
BEGIN:VEVENT
DTSTART;TZID=America/Anchorage:20260205T130000
DTEND;TZID=America/Anchorage:20260205T140000
DTSTAMP:20260424T124853
CREATED:20240507T215547Z
LAST-MODIFIED:20240507T215636Z
UID:10005291-1770296400-1770300000@www.chugachmiut.org
SUMMARY:Regional Alcoholic Anonymous Meetings
DESCRIPTION:Cama’i! Join us every Tuesday and Thursday at 1 pm for our Chugachmiut Regional Alcoholic Anonymous Meetings! \nYou can join us on zoom by clicking the link below:\nhttps://www.chugachmiut-org.zoom.us/j/7487646244 \nMeeting ID: 748 764 6244 \nContact us at (907) 562-4155 with any questions. Quyanaa/AwA’ahdah!
URL:https://www.chugachmiut.org/event/regional-alcoholic-anonymous-meetings-2/2026-02-05/
LOCATION:Zoom
CATEGORIES:Social Services
ATTACH;FMTTYPE=image/png:https://www.chugachmiut.org/wp-content/uploads/2021/06/AA-Meetings-flyer-5-24.png
END:VEVENT
BEGIN:VEVENT
DTSTART;TZID=America/Anchorage:20260210T100000
DTEND;TZID=America/Anchorage:20260210T130000
DTSTAMP:20260424T124853
CREATED:20260205T202852Z
LAST-MODIFIED:20260205T202852Z
UID:10005780-1770717600-1770728400@www.chugachmiut.org
SUMMARY:Elder Services Community Visit
DESCRIPTION:ATTN: Port Graham Community\nCama’i! Elder Services is coming to town. Julia Greenfield\, Elder & Vulnerable Adult Coordinator\, will be in Port Graham for a Community Visit on. \nCome say hi\, ask questions\, or just stop by to connect. Individual meetings are also available if you’d like to talk one-on-one. Please share so our Elders and families know this support is available! Quyanaa! \nContact Julia with any questions at 907-250-5156 or JuliaG@Chugachmiut.org.
URL:https://www.chugachmiut.org/event/elder-services-community-visit/
LOCATION:Port Graham Council Building\, Port Graham\, AK\, United States
CATEGORIES:Social Services
END:VEVENT
BEGIN:VEVENT
DTSTART;TZID=America/Anchorage:20260210T130000
DTEND;TZID=America/Anchorage:20260210T140000
DTSTAMP:20260424T124853
CREATED:20240507T215547Z
LAST-MODIFIED:20240507T215636Z
UID:10005292-1770728400-1770732000@www.chugachmiut.org
SUMMARY:Regional Alcoholic Anonymous Meetings
DESCRIPTION:Cama’i! Join us every Tuesday and Thursday at 1 pm for our Chugachmiut Regional Alcoholic Anonymous Meetings! \nYou can join us on zoom by clicking the link below:\nhttps://www.chugachmiut-org.zoom.us/j/7487646244 \nMeeting ID: 748 764 6244 \nContact us at (907) 562-4155 with any questions. Quyanaa/AwA’ahdah!
URL:https://www.chugachmiut.org/event/regional-alcoholic-anonymous-meetings-2/2026-02-10/
LOCATION:Zoom
CATEGORIES:Social Services
ATTACH;FMTTYPE=image/png:https://www.chugachmiut.org/wp-content/uploads/2021/06/AA-Meetings-flyer-5-24.png
END:VEVENT
BEGIN:VEVENT
DTSTART;TZID=America/Anchorage:20260212T130000
DTEND;TZID=America/Anchorage:20260212T140000
DTSTAMP:20260424T124853
CREATED:20240507T215547Z
LAST-MODIFIED:20240507T215636Z
UID:10005293-1770901200-1770904800@www.chugachmiut.org
SUMMARY:Regional Alcoholic Anonymous Meetings
DESCRIPTION:Cama’i! Join us every Tuesday and Thursday at 1 pm for our Chugachmiut Regional Alcoholic Anonymous Meetings! \nYou can join us on zoom by clicking the link below:\nhttps://www.chugachmiut-org.zoom.us/j/7487646244 \nMeeting ID: 748 764 6244 \nContact us at (907) 562-4155 with any questions. Quyanaa/AwA’ahdah!
URL:https://www.chugachmiut.org/event/regional-alcoholic-anonymous-meetings-2/2026-02-12/
LOCATION:Zoom
CATEGORIES:Social Services
ATTACH;FMTTYPE=image/png:https://www.chugachmiut.org/wp-content/uploads/2021/06/AA-Meetings-flyer-5-24.png
END:VEVENT
BEGIN:VEVENT
DTSTART;TZID=America/Anchorage:20260217T130000
DTEND;TZID=America/Anchorage:20260217T140000
DTSTAMP:20260424T124853
CREATED:20240507T215547Z
LAST-MODIFIED:20240507T215636Z
UID:10005294-1771333200-1771336800@www.chugachmiut.org
SUMMARY:Regional Alcoholic Anonymous Meetings
DESCRIPTION:Cama’i! Join us every Tuesday and Thursday at 1 pm for our Chugachmiut Regional Alcoholic Anonymous Meetings! \nYou can join us on zoom by clicking the link below:\nhttps://www.chugachmiut-org.zoom.us/j/7487646244 \nMeeting ID: 748 764 6244 \nContact us at (907) 562-4155 with any questions. Quyanaa/AwA’ahdah!
URL:https://www.chugachmiut.org/event/regional-alcoholic-anonymous-meetings-2/2026-02-17/
LOCATION:Zoom
CATEGORIES:Social Services
ATTACH;FMTTYPE=image/png:https://www.chugachmiut.org/wp-content/uploads/2021/06/AA-Meetings-flyer-5-24.png
END:VEVENT
BEGIN:VEVENT
DTSTART;TZID=America/Anchorage:20260219T130000
DTEND;TZID=America/Anchorage:20260219T140000
DTSTAMP:20260424T124853
CREATED:20240507T215547Z
LAST-MODIFIED:20240507T215636Z
UID:10005295-1771506000-1771509600@www.chugachmiut.org
SUMMARY:Regional Alcoholic Anonymous Meetings
DESCRIPTION:Cama’i! Join us every Tuesday and Thursday at 1 pm for our Chugachmiut Regional Alcoholic Anonymous Meetings! \nYou can join us on zoom by clicking the link below:\nhttps://www.chugachmiut-org.zoom.us/j/7487646244 \nMeeting ID: 748 764 6244 \nContact us at (907) 562-4155 with any questions. Quyanaa/AwA’ahdah!
URL:https://www.chugachmiut.org/event/regional-alcoholic-anonymous-meetings-2/2026-02-19/
LOCATION:Zoom
CATEGORIES:Social Services
ATTACH;FMTTYPE=image/png:https://www.chugachmiut.org/wp-content/uploads/2021/06/AA-Meetings-flyer-5-24.png
END:VEVENT
BEGIN:VEVENT
DTSTART;TZID=America/Anchorage:20260224T130000
DTEND;TZID=America/Anchorage:20260224T140000
DTSTAMP:20260424T124853
CREATED:20240507T215547Z
LAST-MODIFIED:20240507T215636Z
UID:10005296-1771938000-1771941600@www.chugachmiut.org
SUMMARY:Regional Alcoholic Anonymous Meetings
DESCRIPTION:Cama’i! Join us every Tuesday and Thursday at 1 pm for our Chugachmiut Regional Alcoholic Anonymous Meetings! \nYou can join us on zoom by clicking the link below:\nhttps://www.chugachmiut-org.zoom.us/j/7487646244 \nMeeting ID: 748 764 6244 \nContact us at (907) 562-4155 with any questions. Quyanaa/AwA’ahdah!
URL:https://www.chugachmiut.org/event/regional-alcoholic-anonymous-meetings-2/2026-02-24/
LOCATION:Zoom
CATEGORIES:Social Services
ATTACH;FMTTYPE=image/png:https://www.chugachmiut.org/wp-content/uploads/2021/06/AA-Meetings-flyer-5-24.png
END:VEVENT
BEGIN:VEVENT
DTSTART;TZID=America/Anchorage:20260226T130000
DTEND;TZID=America/Anchorage:20260226T140000
DTSTAMP:20260424T124853
CREATED:20240507T215547Z
LAST-MODIFIED:20240507T215636Z
UID:10005297-1772110800-1772114400@www.chugachmiut.org
SUMMARY:Regional Alcoholic Anonymous Meetings
DESCRIPTION:Cama’i! Join us every Tuesday and Thursday at 1 pm for our Chugachmiut Regional Alcoholic Anonymous Meetings! \nYou can join us on zoom by clicking the link below:\nhttps://www.chugachmiut-org.zoom.us/j/7487646244 \nMeeting ID: 748 764 6244 \nContact us at (907) 562-4155 with any questions. Quyanaa/AwA’ahdah!
URL:https://www.chugachmiut.org/event/regional-alcoholic-anonymous-meetings-2/2026-02-26/
LOCATION:Zoom
CATEGORIES:Social Services
ATTACH;FMTTYPE=image/png:https://www.chugachmiut.org/wp-content/uploads/2021/06/AA-Meetings-flyer-5-24.png
END:VEVENT
BEGIN:VEVENT
DTSTART;TZID=America/Anchorage:20260303T130000
DTEND;TZID=America/Anchorage:20260303T140000
DTSTAMP:20260424T124853
CREATED:20240507T215547Z
LAST-MODIFIED:20240507T215636Z
UID:10005298-1772542800-1772546400@www.chugachmiut.org
SUMMARY:Regional Alcoholic Anonymous Meetings
DESCRIPTION:Cama’i! Join us every Tuesday and Thursday at 1 pm for our Chugachmiut Regional Alcoholic Anonymous Meetings! \nYou can join us on zoom by clicking the link below:\nhttps://www.chugachmiut-org.zoom.us/j/7487646244 \nMeeting ID: 748 764 6244 \nContact us at (907) 562-4155 with any questions. Quyanaa/AwA’ahdah!
URL:https://www.chugachmiut.org/event/regional-alcoholic-anonymous-meetings-2/2026-03-03/
LOCATION:Zoom
CATEGORIES:Social Services
ATTACH;FMTTYPE=image/png:https://www.chugachmiut.org/wp-content/uploads/2021/06/AA-Meetings-flyer-5-24.png
END:VEVENT
BEGIN:VEVENT
DTSTART;TZID=America/Anchorage:20260305T130000
DTEND;TZID=America/Anchorage:20260305T140000
DTSTAMP:20260424T124853
CREATED:20240507T215547Z
LAST-MODIFIED:20240507T215636Z
UID:10005299-1772715600-1772719200@www.chugachmiut.org
SUMMARY:Regional Alcoholic Anonymous Meetings
DESCRIPTION:Cama’i! Join us every Tuesday and Thursday at 1 pm for our Chugachmiut Regional Alcoholic Anonymous Meetings! \nYou can join us on zoom by clicking the link below:\nhttps://www.chugachmiut-org.zoom.us/j/7487646244 \nMeeting ID: 748 764 6244 \nContact us at (907) 562-4155 with any questions. Quyanaa/AwA’ahdah!
URL:https://www.chugachmiut.org/event/regional-alcoholic-anonymous-meetings-2/2026-03-05/
LOCATION:Zoom
CATEGORIES:Social Services
ATTACH;FMTTYPE=image/png:https://www.chugachmiut.org/wp-content/uploads/2021/06/AA-Meetings-flyer-5-24.png
END:VEVENT
BEGIN:VEVENT
DTSTART;TZID=America/Anchorage:20260310T130000
DTEND;TZID=America/Anchorage:20260310T140000
DTSTAMP:20260424T124853
CREATED:20240507T215547Z
LAST-MODIFIED:20240507T215636Z
UID:10005300-1773147600-1773151200@www.chugachmiut.org
SUMMARY:Regional Alcoholic Anonymous Meetings
DESCRIPTION:Cama’i! Join us every Tuesday and Thursday at 1 pm for our Chugachmiut Regional Alcoholic Anonymous Meetings! \nYou can join us on zoom by clicking the link below:\nhttps://www.chugachmiut-org.zoom.us/j/7487646244 \nMeeting ID: 748 764 6244 \nContact us at (907) 562-4155 with any questions. Quyanaa/AwA’ahdah!
URL:https://www.chugachmiut.org/event/regional-alcoholic-anonymous-meetings-2/2026-03-10/
LOCATION:Zoom
CATEGORIES:Social Services
ATTACH;FMTTYPE=image/png:https://www.chugachmiut.org/wp-content/uploads/2021/06/AA-Meetings-flyer-5-24.png
END:VEVENT
BEGIN:VEVENT
DTSTART;TZID=America/Anchorage:20260312T130000
DTEND;TZID=America/Anchorage:20260312T140000
DTSTAMP:20260424T124853
CREATED:20240507T215547Z
LAST-MODIFIED:20240507T215636Z
UID:10005301-1773320400-1773324000@www.chugachmiut.org
SUMMARY:Regional Alcoholic Anonymous Meetings
DESCRIPTION:Cama’i! Join us every Tuesday and Thursday at 1 pm for our Chugachmiut Regional Alcoholic Anonymous Meetings! \nYou can join us on zoom by clicking the link below:\nhttps://www.chugachmiut-org.zoom.us/j/7487646244 \nMeeting ID: 748 764 6244 \nContact us at (907) 562-4155 with any questions. Quyanaa/AwA’ahdah!
URL:https://www.chugachmiut.org/event/regional-alcoholic-anonymous-meetings-2/2026-03-12/
LOCATION:Zoom
CATEGORIES:Social Services
ATTACH;FMTTYPE=image/png:https://www.chugachmiut.org/wp-content/uploads/2021/06/AA-Meetings-flyer-5-24.png
END:VEVENT
BEGIN:VEVENT
DTSTART;TZID=America/Anchorage:20260317T130000
DTEND;TZID=America/Anchorage:20260317T140000
DTSTAMP:20260424T124853
CREATED:20240507T215547Z
LAST-MODIFIED:20240507T215636Z
UID:10005302-1773752400-1773756000@www.chugachmiut.org
SUMMARY:Regional Alcoholic Anonymous Meetings
DESCRIPTION:Cama’i! Join us every Tuesday and Thursday at 1 pm for our Chugachmiut Regional Alcoholic Anonymous Meetings! \nYou can join us on zoom by clicking the link below:\nhttps://www.chugachmiut-org.zoom.us/j/7487646244 \nMeeting ID: 748 764 6244 \nContact us at (907) 562-4155 with any questions. Quyanaa/AwA’ahdah!
URL:https://www.chugachmiut.org/event/regional-alcoholic-anonymous-meetings-2/2026-03-17/
LOCATION:Zoom
CATEGORIES:Social Services
ATTACH;FMTTYPE=image/png:https://www.chugachmiut.org/wp-content/uploads/2021/06/AA-Meetings-flyer-5-24.png
END:VEVENT
BEGIN:VEVENT
DTSTART;TZID=America/Anchorage:20260319T130000
DTEND;TZID=America/Anchorage:20260319T140000
DTSTAMP:20260424T124853
CREATED:20240507T215547Z
LAST-MODIFIED:20240507T215636Z
UID:10005303-1773925200-1773928800@www.chugachmiut.org
SUMMARY:Regional Alcoholic Anonymous Meetings
DESCRIPTION:Cama’i! Join us every Tuesday and Thursday at 1 pm for our Chugachmiut Regional Alcoholic Anonymous Meetings! \nYou can join us on zoom by clicking the link below:\nhttps://www.chugachmiut-org.zoom.us/j/7487646244 \nMeeting ID: 748 764 6244 \nContact us at (907) 562-4155 with any questions. Quyanaa/AwA’ahdah!
URL:https://www.chugachmiut.org/event/regional-alcoholic-anonymous-meetings-2/2026-03-19/
LOCATION:Zoom
CATEGORIES:Social Services
ATTACH;FMTTYPE=image/png:https://www.chugachmiut.org/wp-content/uploads/2021/06/AA-Meetings-flyer-5-24.png
END:VEVENT
BEGIN:VEVENT
DTSTART;TZID=America/Anchorage:20260324T130000
DTEND;TZID=America/Anchorage:20260324T140000
DTSTAMP:20260424T124853
CREATED:20240507T215547Z
LAST-MODIFIED:20240507T215636Z
UID:10005304-1774357200-1774360800@www.chugachmiut.org
SUMMARY:Regional Alcoholic Anonymous Meetings
DESCRIPTION:Cama’i! Join us every Tuesday and Thursday at 1 pm for our Chugachmiut Regional Alcoholic Anonymous Meetings! \nYou can join us on zoom by clicking the link below:\nhttps://www.chugachmiut-org.zoom.us/j/7487646244 \nMeeting ID: 748 764 6244 \nContact us at (907) 562-4155 with any questions. Quyanaa/AwA’ahdah!
URL:https://www.chugachmiut.org/event/regional-alcoholic-anonymous-meetings-2/2026-03-24/
LOCATION:Zoom
CATEGORIES:Social Services
ATTACH;FMTTYPE=image/png:https://www.chugachmiut.org/wp-content/uploads/2021/06/AA-Meetings-flyer-5-24.png
END:VEVENT
BEGIN:VEVENT
DTSTART;TZID=America/Anchorage:20260326T130000
DTEND;TZID=America/Anchorage:20260326T140000
DTSTAMP:20260424T124853
CREATED:20240507T215547Z
LAST-MODIFIED:20240507T215636Z
UID:10005305-1774530000-1774533600@www.chugachmiut.org
SUMMARY:Regional Alcoholic Anonymous Meetings
DESCRIPTION:Cama’i! Join us every Tuesday and Thursday at 1 pm for our Chugachmiut Regional Alcoholic Anonymous Meetings! \nYou can join us on zoom by clicking the link below:\nhttps://www.chugachmiut-org.zoom.us/j/7487646244 \nMeeting ID: 748 764 6244 \nContact us at (907) 562-4155 with any questions. Quyanaa/AwA’ahdah!
URL:https://www.chugachmiut.org/event/regional-alcoholic-anonymous-meetings-2/2026-03-26/
LOCATION:Zoom
CATEGORIES:Social Services
ATTACH;FMTTYPE=image/png:https://www.chugachmiut.org/wp-content/uploads/2021/06/AA-Meetings-flyer-5-24.png
END:VEVENT
BEGIN:VEVENT
DTSTART;TZID=America/Anchorage:20260331T130000
DTEND;TZID=America/Anchorage:20260331T140000
DTSTAMP:20260424T124853
CREATED:20240507T215547Z
LAST-MODIFIED:20240507T215636Z
UID:10005306-1774962000-1774965600@www.chugachmiut.org
SUMMARY:Regional Alcoholic Anonymous Meetings
DESCRIPTION:Cama’i! Join us every Tuesday and Thursday at 1 pm for our Chugachmiut Regional Alcoholic Anonymous Meetings! \nYou can join us on zoom by clicking the link below:\nhttps://www.chugachmiut-org.zoom.us/j/7487646244 \nMeeting ID: 748 764 6244 \nContact us at (907) 562-4155 with any questions. Quyanaa/AwA’ahdah!
URL:https://www.chugachmiut.org/event/regional-alcoholic-anonymous-meetings-2/2026-03-31/
LOCATION:Zoom
CATEGORIES:Social Services
ATTACH;FMTTYPE=image/png:https://www.chugachmiut.org/wp-content/uploads/2021/06/AA-Meetings-flyer-5-24.png
END:VEVENT
BEGIN:VEVENT
DTSTART;TZID=America/Anchorage:20260402T130000
DTEND;TZID=America/Anchorage:20260402T140000
DTSTAMP:20260424T124853
CREATED:20240507T215547Z
LAST-MODIFIED:20240507T215636Z
UID:10005307-1775134800-1775138400@www.chugachmiut.org
SUMMARY:Regional Alcoholic Anonymous Meetings
DESCRIPTION:Cama’i! Join us every Tuesday and Thursday at 1 pm for our Chugachmiut Regional Alcoholic Anonymous Meetings! \nYou can join us on zoom by clicking the link below:\nhttps://www.chugachmiut-org.zoom.us/j/7487646244 \nMeeting ID: 748 764 6244 \nContact us at (907) 562-4155 with any questions. Quyanaa/AwA’ahdah!
URL:https://www.chugachmiut.org/event/regional-alcoholic-anonymous-meetings-2/2026-04-02/
LOCATION:Zoom
CATEGORIES:Social Services
ATTACH;FMTTYPE=image/png:https://www.chugachmiut.org/wp-content/uploads/2021/06/AA-Meetings-flyer-5-24.png
END:VEVENT
BEGIN:VEVENT
DTSTART;VALUE=DATE:20260406
DTEND;VALUE=DATE:20260411
DTSTAMP:20260424T124853
CREATED:20260122T005447Z
LAST-MODIFIED:20260123T204958Z
UID:10005778-1775433600-1775865599@www.chugachmiut.org
SUMMARY:AuluklukuNutan Lumacirpet Women’s Gathering
DESCRIPTION:Cama’i! We’re hosting the AuluklukuNutan Lumacirpet Women’s Gathering on April 6–10\, 2026\, in Seward. \nJoin us for a women’s gathering with a variety of activities in a welcoming\, safe environment. This gathering is free of charge for women who currently reside in the Chugach region—airfare and lodging provided. Registration is first-come\, first-served. \nFor more information or to register\, contact Marlene Adams\, Regional DV Coordinator at WomenRetreat@chugachmiut.org\, 907-562-4155 or 800-478-4155.
URL:https://www.chugachmiut.org/event/auluklukunutan-lumacirpet-womens-gathering/
LOCATION:Seward\, AK\, Seward\, AK\, 99677\, United States
CATEGORIES:Social Services
END:VEVENT
BEGIN:VEVENT
DTSTART;TZID=America/Anchorage:20260407T130000
DTEND;TZID=America/Anchorage:20260407T140000
DTSTAMP:20260424T124853
CREATED:20240507T215547Z
LAST-MODIFIED:20240507T215636Z
UID:10005308-1775566800-1775570400@www.chugachmiut.org
SUMMARY:Regional Alcoholic Anonymous Meetings
DESCRIPTION:Cama’i! Join us every Tuesday and Thursday at 1 pm for our Chugachmiut Regional Alcoholic Anonymous Meetings! \nYou can join us on zoom by clicking the link below:\nhttps://www.chugachmiut-org.zoom.us/j/7487646244 \nMeeting ID: 748 764 6244 \nContact us at (907) 562-4155 with any questions. Quyanaa/AwA’ahdah!
URL:https://www.chugachmiut.org/event/regional-alcoholic-anonymous-meetings-2/2026-04-07/
LOCATION:Zoom
CATEGORIES:Social Services
ATTACH;FMTTYPE=image/png:https://www.chugachmiut.org/wp-content/uploads/2021/06/AA-Meetings-flyer-5-24.png
END:VEVENT
END:VCALENDAR