BEGIN:VCALENDAR
VERSION:2.0
PRODID:-//Chugachmiut - ECPv6.15.17//NONSGML v1.0//EN
CALSCALE:GREGORIAN
METHOD:PUBLISH
X-WR-CALNAME:Chugachmiut
X-ORIGINAL-URL:https://www.chugachmiut.org
X-WR-CALDESC:Events for Chugachmiut
REFRESH-INTERVAL;VALUE=DURATION:PT1H
X-Robots-Tag:noindex
X-PUBLISHED-TTL:PT1H
BEGIN:VTIMEZONE
TZID:America/Anchorage
BEGIN:DAYLIGHT
TZOFFSETFROM:-0900
TZOFFSETTO:-0800
TZNAME:AKDT
DTSTART:20200308T110000
END:DAYLIGHT
BEGIN:STANDARD
TZOFFSETFROM:-0800
TZOFFSETTO:-0900
TZNAME:AKST
DTSTART:20201101T100000
END:STANDARD
BEGIN:DAYLIGHT
TZOFFSETFROM:-0900
TZOFFSETTO:-0800
TZNAME:AKDT
DTSTART:20210314T110000
END:DAYLIGHT
BEGIN:STANDARD
TZOFFSETFROM:-0800
TZOFFSETTO:-0900
TZNAME:AKST
DTSTART:20211107T100000
END:STANDARD
BEGIN:DAYLIGHT
TZOFFSETFROM:-0900
TZOFFSETTO:-0800
TZNAME:AKDT
DTSTART:20220313T110000
END:DAYLIGHT
BEGIN:STANDARD
TZOFFSETFROM:-0800
TZOFFSETTO:-0900
TZNAME:AKST
DTSTART:20221106T100000
END:STANDARD
BEGIN:DAYLIGHT
TZOFFSETFROM:-0900
TZOFFSETTO:-0800
TZNAME:AKDT
DTSTART:20230312T110000
END:DAYLIGHT
BEGIN:STANDARD
TZOFFSETFROM:-0800
TZOFFSETTO:-0900
TZNAME:AKST
DTSTART:20231105T100000
END:STANDARD
END:VTIMEZONE
BEGIN:VEVENT
DTSTART;TZID=America/Anchorage:20220128T120000
DTEND;TZID=America/Anchorage:20220128T130000
DTSTAMP:20260421T053755
CREATED:20220114T004951Z
LAST-MODIFIED:20220114T005148Z
UID:10004448-1643371200-1643374800@www.chugachmiut.org
SUMMARY:Virtual Cultural Workshop Series: Ornamental Mittens (Session 2)
DESCRIPTION:
URL:https://www.chugachmiut.org/event/virtual-cultural-workshop-series-ornamental-mittens-session-2/
LOCATION:Zoom
CATEGORIES:Heritage Preservation
END:VEVENT
BEGIN:VEVENT
DTSTART;TZID=America/Anchorage:20220127T120000
DTEND;TZID=America/Anchorage:20220127T130000
DTSTAMP:20260421T053755
CREATED:20220114T004900Z
LAST-MODIFIED:20220114T004900Z
UID:10004446-1643284800-1643288400@www.chugachmiut.org
SUMMARY:Virtual Cultural Workshop Series: Ornamental Mittens (Session 1)
DESCRIPTION:
URL:https://www.chugachmiut.org/event/virtual-cultural-workshop-series-ornamental-mittens-session-1/
LOCATION:Zoom
CATEGORIES:Heritage Preservation
END:VEVENT
BEGIN:VEVENT
DTSTART;TZID=America/Anchorage:20220124T120000
DTEND;TZID=America/Anchorage:20220124T130000
DTSTAMP:20260421T053755
CREATED:20220113T234721Z
LAST-MODIFIED:20220113T235100Z
UID:10004443-1643025600-1643029200@www.chugachmiut.org
SUMMARY:Virtual Cultural Workshop Series: Wolf Earrings
DESCRIPTION:
URL:https://www.chugachmiut.org/event/virtual-cultural-workshop-series-wolf-earrings/
LOCATION:Zoom
CATEGORIES:Heritage Preservation
END:VEVENT
BEGIN:VEVENT
DTSTART;TZID=America/Anchorage:20211221T120000
DTEND;TZID=America/Anchorage:20211221T130000
DTSTAMP:20260421T053755
CREATED:20211210T020105Z
LAST-MODIFIED:20211210T020105Z
UID:10004439-1640088000-1640091600@www.chugachmiut.org
SUMMARY:Virtual Cultural Workshop Series: Key Chains
DESCRIPTION:
URL:https://www.chugachmiut.org/event/virtual-cultural-workshop-series-key-chains/2021-12-21/
LOCATION:Zoom
CATEGORIES:Heritage Preservation
END:VEVENT
BEGIN:VEVENT
DTSTART;TZID=America/Anchorage:20211220T120000
DTEND;TZID=America/Anchorage:20211220T130000
DTSTAMP:20260421T053755
CREATED:20211210T020105Z
LAST-MODIFIED:20211210T020105Z
UID:10004438-1640001600-1640005200@www.chugachmiut.org
SUMMARY:Virtual Cultural Workshop Series: Key Chains
DESCRIPTION:
URL:https://www.chugachmiut.org/event/virtual-cultural-workshop-series-key-chains/2021-12-20/
LOCATION:Zoom
CATEGORIES:Heritage Preservation
END:VEVENT
END:VCALENDAR