BEGIN:VCALENDAR
VERSION:2.0
PRODID:-//Chugachmiut - ECPv6.15.17//NONSGML v1.0//EN
CALSCALE:GREGORIAN
METHOD:PUBLISH
X-WR-CALNAME:Chugachmiut
X-ORIGINAL-URL:https://www.chugachmiut.org
X-WR-CALDESC:Events for Chugachmiut
REFRESH-INTERVAL;VALUE=DURATION:PT1H
X-Robots-Tag:noindex
X-PUBLISHED-TTL:PT1H
BEGIN:VTIMEZONE
TZID:America/Anchorage
BEGIN:DAYLIGHT
TZOFFSETFROM:-0900
TZOFFSETTO:-0800
TZNAME:AKDT
DTSTART:20200308T110000
END:DAYLIGHT
BEGIN:STANDARD
TZOFFSETFROM:-0800
TZOFFSETTO:-0900
TZNAME:AKST
DTSTART:20201101T100000
END:STANDARD
BEGIN:DAYLIGHT
TZOFFSETFROM:-0900
TZOFFSETTO:-0800
TZNAME:AKDT
DTSTART:20210314T110000
END:DAYLIGHT
BEGIN:STANDARD
TZOFFSETFROM:-0800
TZOFFSETTO:-0900
TZNAME:AKST
DTSTART:20211107T100000
END:STANDARD
BEGIN:DAYLIGHT
TZOFFSETFROM:-0900
TZOFFSETTO:-0800
TZNAME:AKDT
DTSTART:20220313T110000
END:DAYLIGHT
BEGIN:STANDARD
TZOFFSETFROM:-0800
TZOFFSETTO:-0900
TZNAME:AKST
DTSTART:20221106T100000
END:STANDARD
END:VTIMEZONE
BEGIN:VEVENT
DTSTART;VALUE=DATE:20211019
DTEND;VALUE=DATE:20211020
DTSTAMP:20260420T111916
CREATED:20211004T232500Z
LAST-MODIFIED:20211004T232500Z
UID:10004118-1634601600-1634687999@www.chugachmiut.org
SUMMARY:Port Graham Dental Clinic
DESCRIPTION:Port Graham Dental Clinic is happening October 18th – 22nd! Give the clinic a call at 907-284-2241 to make an appointment.
URL:https://www.chugachmiut.org/event/port-graham-dental-clinic-3/
LOCATION:Port Graham – ANESIA ANAHONAK MOONIN CLINIC\, 5530 Main Street\, Port Graham\, AK\, 99603\, United States
CATEGORIES:Health Services
ATTACH;FMTTYPE=image/png:https://www.chugachmiut.org/wp-content/uploads/2021/06/Dental-Clinic-1.png
END:VEVENT
BEGIN:VEVENT
DTSTART;VALUE=DATE:20211018
DTEND;VALUE=DATE:20211019
DTSTAMP:20260420T111916
CREATED:20211002T000232Z
LAST-MODIFIED:20211002T000232Z
UID:10004117-1634515200-1634601599@www.chugachmiut.org
SUMMARY:Port Graham Dental Clinic
DESCRIPTION:Port Graham Dental Clinic is happening October 18th – 22nd! Give the clinic a call at 907-284-2241 to make an appointment.
URL:https://www.chugachmiut.org/event/port-graham-dental-clinic-2/
LOCATION:Port Graham – ANESIA ANAHONAK MOONIN CLINIC\, 5530 Main Street\, Port Graham\, AK\, 99603\, United States
CATEGORIES:Health Services
ATTACH;FMTTYPE=image/png:https://www.chugachmiut.org/wp-content/uploads/2021/06/Dental-Clinic-1.png
END:VEVENT
BEGIN:VEVENT
DTSTART;TZID=America/Anchorage:20210712T080000
DTEND;TZID=America/Anchorage:20210716T170000
DTSTAMP:20260420T111916
CREATED:20210708T192518Z
LAST-MODIFIED:20210708T192640Z
UID:10004074-1626076800-1626454800@www.chugachmiut.org
SUMMARY:Nanwalek Dental Clinic
DESCRIPTION:Nanwalek Dental Clinic is happening July 12th – 16th! Give the clinic a call at 907-281-2250 to make an appointment.
URL:https://www.chugachmiut.org/event/nanwalek-dental-clinic/
LOCATION:Nanwalek Clinic\, 1 Maqiq St\, Nanwalek\, AK\, 99603\, United States
CATEGORIES:Health Services
ATTACH;FMTTYPE=image/png:https://www.chugachmiut.org/wp-content/uploads/2021/06/Dental-Clinic-1.png
END:VEVENT
BEGIN:VEVENT
DTSTART;TZID=America/Anchorage:20210618T000000
DTEND;TZID=America/Anchorage:20210618T235900
DTSTAMP:20260420T111916
CREATED:20210602T180947Z
LAST-MODIFIED:20210603T235742Z
UID:10003578-1623974400-1624060740@www.chugachmiut.org
SUMMARY:Port Graham Dental Clinic
DESCRIPTION:Southcentral Foundation Dentist Dr. Craig Mullett and 2 Dental Assistants are visiting Port Graham on June 14th – 18th. Call the Port Graham Clinic to get added to the Dental schedule at 284-2241.   \n 
URL:https://www.chugachmiut.org/event/port-graham-dental-clinic/2021-06-18/
LOCATION:Port Graham – ANESIA ANAHONAK MOONIN CLINIC\, 5530 Main Street\, Port Graham\, AK\, 99603\, United States
CATEGORIES:Health Services
ATTACH;FMTTYPE=image/png:https://www.chugachmiut.org/wp-content/uploads/2021/06/Dental-Clinic-1.png
END:VEVENT
BEGIN:VEVENT
DTSTART;TZID=America/Anchorage:20210617T000000
DTEND;TZID=America/Anchorage:20210617T235900
DTSTAMP:20260420T111916
CREATED:20210602T180947Z
LAST-MODIFIED:20210603T235742Z
UID:10003577-1623888000-1623974340@www.chugachmiut.org
SUMMARY:Port Graham Dental Clinic
DESCRIPTION:Southcentral Foundation Dentist Dr. Craig Mullett and 2 Dental Assistants are visiting Port Graham on June 14th – 18th. Call the Port Graham Clinic to get added to the Dental schedule at 284-2241.   \n 
URL:https://www.chugachmiut.org/event/port-graham-dental-clinic/2021-06-17/
LOCATION:Port Graham – ANESIA ANAHONAK MOONIN CLINIC\, 5530 Main Street\, Port Graham\, AK\, 99603\, United States
CATEGORIES:Health Services
ATTACH;FMTTYPE=image/png:https://www.chugachmiut.org/wp-content/uploads/2021/06/Dental-Clinic-1.png
END:VEVENT
BEGIN:VEVENT
DTSTART;TZID=America/Anchorage:20210616T000000
DTEND;TZID=America/Anchorage:20210616T235900
DTSTAMP:20260420T111916
CREATED:20210602T180947Z
LAST-MODIFIED:20210603T235742Z
UID:10003576-1623801600-1623887940@www.chugachmiut.org
SUMMARY:Port Graham Dental Clinic
DESCRIPTION:Southcentral Foundation Dentist Dr. Craig Mullett and 2 Dental Assistants are visiting Port Graham on June 14th – 18th. Call the Port Graham Clinic to get added to the Dental schedule at 284-2241.   \n 
URL:https://www.chugachmiut.org/event/port-graham-dental-clinic/2021-06-16/
LOCATION:Port Graham – ANESIA ANAHONAK MOONIN CLINIC\, 5530 Main Street\, Port Graham\, AK\, 99603\, United States
CATEGORIES:Health Services
ATTACH;FMTTYPE=image/png:https://www.chugachmiut.org/wp-content/uploads/2021/06/Dental-Clinic-1.png
END:VEVENT
BEGIN:VEVENT
DTSTART;TZID=America/Anchorage:20210615T000000
DTEND;TZID=America/Anchorage:20210615T235900
DTSTAMP:20260420T111916
CREATED:20210602T180947Z
LAST-MODIFIED:20210603T235742Z
UID:10003575-1623715200-1623801540@www.chugachmiut.org
SUMMARY:Port Graham Dental Clinic
DESCRIPTION:Southcentral Foundation Dentist Dr. Craig Mullett and 2 Dental Assistants are visiting Port Graham on June 14th – 18th. Call the Port Graham Clinic to get added to the Dental schedule at 284-2241.   \n 
URL:https://www.chugachmiut.org/event/port-graham-dental-clinic/2021-06-15/
LOCATION:Port Graham – ANESIA ANAHONAK MOONIN CLINIC\, 5530 Main Street\, Port Graham\, AK\, 99603\, United States
CATEGORIES:Health Services
ATTACH;FMTTYPE=image/png:https://www.chugachmiut.org/wp-content/uploads/2021/06/Dental-Clinic-1.png
END:VEVENT
BEGIN:VEVENT
DTSTART;TZID=America/Anchorage:20210614T000000
DTEND;TZID=America/Anchorage:20210614T235900
DTSTAMP:20260420T111916
CREATED:20210602T180947Z
LAST-MODIFIED:20210603T235742Z
UID:10003574-1623628800-1623715140@www.chugachmiut.org
SUMMARY:Port Graham Dental Clinic
DESCRIPTION:Southcentral Foundation Dentist Dr. Craig Mullett and 2 Dental Assistants are visiting Port Graham on June 14th – 18th. Call the Port Graham Clinic to get added to the Dental schedule at 284-2241.   \n 
URL:https://www.chugachmiut.org/event/port-graham-dental-clinic/2021-06-14/
LOCATION:Port Graham – ANESIA ANAHONAK MOONIN CLINIC\, 5530 Main Street\, Port Graham\, AK\, 99603\, United States
CATEGORIES:Health Services
ATTACH;FMTTYPE=image/png:https://www.chugachmiut.org/wp-content/uploads/2021/06/Dental-Clinic-1.png
END:VEVENT
BEGIN:VEVENT
DTSTART;TZID=America/Anchorage:20210609T153000
DTEND;TZID=America/Anchorage:20210609T163000
DTSTAMP:20260420T111916
CREATED:20210603T230813Z
LAST-MODIFIED:20210603T231928Z
UID:10003585-1623252600-1623256200@www.chugachmiut.org
SUMMARY:COVID-19 Education & Awareness Virtual Community Health Meeting
DESCRIPTION:Get the latest COVID-19 updates and answers to your questions from Chugachmiut’s Health Service Team. \nJoin us on Zoom by clicking on the link below.https://www.chugachmiut-org.zoom.us/j/97296804164… \nMeeting ID: 972 9680 4164 \nPasscode: 929050 \nDial Toll-free: 877-853-5257
URL:https://www.chugachmiut.org/event/covid-19-education-awareness-virtual-community-health-meeting/
LOCATION:Zoom
CATEGORIES:Health Services
END:VEVENT
END:VCALENDAR