BEGIN:VCALENDAR
VERSION:2.0
PRODID:-//Chugachmiut - ECPv6.15.17//NONSGML v1.0//EN
CALSCALE:GREGORIAN
METHOD:PUBLISH
X-ORIGINAL-URL:https://www.chugachmiut.org
X-WR-CALDESC:Events for Chugachmiut
REFRESH-INTERVAL;VALUE=DURATION:PT1H
X-Robots-Tag:noindex
X-PUBLISHED-TTL:PT1H
BEGIN:VTIMEZONE
TZID:America/Anchorage
BEGIN:DAYLIGHT
TZOFFSETFROM:-0900
TZOFFSETTO:-0800
TZNAME:AKDT
DTSTART:20210314T110000
END:DAYLIGHT
BEGIN:STANDARD
TZOFFSETFROM:-0800
TZOFFSETTO:-0900
TZNAME:AKST
DTSTART:20211107T100000
END:STANDARD
BEGIN:DAYLIGHT
TZOFFSETFROM:-0900
TZOFFSETTO:-0800
TZNAME:AKDT
DTSTART:20220313T110000
END:DAYLIGHT
BEGIN:STANDARD
TZOFFSETFROM:-0800
TZOFFSETTO:-0900
TZNAME:AKST
DTSTART:20221106T100000
END:STANDARD
BEGIN:DAYLIGHT
TZOFFSETFROM:-0900
TZOFFSETTO:-0800
TZNAME:AKDT
DTSTART:20230312T110000
END:DAYLIGHT
BEGIN:STANDARD
TZOFFSETFROM:-0800
TZOFFSETTO:-0900
TZNAME:AKST
DTSTART:20231105T100000
END:STANDARD
BEGIN:DAYLIGHT
TZOFFSETFROM:-0900
TZOFFSETTO:-0800
TZNAME:AKDT
DTSTART:20240310T110000
END:DAYLIGHT
BEGIN:STANDARD
TZOFFSETFROM:-0800
TZOFFSETTO:-0900
TZNAME:AKST
DTSTART:20241103T100000
END:STANDARD
BEGIN:DAYLIGHT
TZOFFSETFROM:-0900
TZOFFSETTO:-0800
TZNAME:AKDT
DTSTART:20250309T110000
END:DAYLIGHT
BEGIN:STANDARD
TZOFFSETFROM:-0800
TZOFFSETTO:-0900
TZNAME:AKST
DTSTART:20251102T100000
END:STANDARD
BEGIN:DAYLIGHT
TZOFFSETFROM:-0900
TZOFFSETTO:-0800
TZNAME:AKDT
DTSTART:20260308T110000
END:DAYLIGHT
BEGIN:STANDARD
TZOFFSETFROM:-0800
TZOFFSETTO:-0900
TZNAME:AKST
DTSTART:20261101T100000
END:STANDARD
END:VTIMEZONE
BEGIN:VEVENT
DTSTART;TZID=America/Anchorage:20250617T100000
DTEND;TZID=America/Anchorage:20250617T120000
DTSTAMP:20260420T062851
CREATED:20250612T215825Z
LAST-MODIFIED:20250612T215825Z
UID:10005728-1750154400-1750161600@www.chugachmiut.org
SUMMARY:Open Archive Workshop #1 – Prince Williams Sound
DESCRIPTION:Join us for an Open Archive workshop #1 – Prince Williams Sound hosted by the Native Village of Eyak on Tuesday\, June 17\, from 10 am to noon on Zoom or at Chugachmiut’s office located at 1840 Bragaw Street\, Suite 110 in Anchorage. \nThe Native Village of Eyak is leading community-driven research on the “Chugach Collection” of ancestral belongings in the Ethnological Museum of Berlin. Join us for virtual Open Archive sessions where knowledge holders can help identify and share stories about these items. Chugachmiut is part of this project’s Advisory Committee and will be hosting space for Tribal members to join from Anchorage. \nRegister using the link below\, and be sure to add no-reply@zoom.us to your safe sender’s list so you don’t miss updates in your inbox! \nhttps://us06web.zoom.us/meeting/register/cXYCfq0yTi-OSBQ6PaKXOg \n \n 
URL:https://www.chugachmiut.org/event/open-archive-workshop-1-prince-williams-sound/
CATEGORIES:Heritage Preservation
END:VEVENT
BEGIN:VEVENT
DTSTART;TZID=America/Anchorage:20230729T110000
DTEND;TZID=America/Anchorage:20230729T123000
DTSTAMP:20260420T062851
CREATED:20230726T002132Z
LAST-MODIFIED:20230726T002651Z
UID:10004450-1690628400-1690633800@www.chugachmiut.org
SUMMARY:Traditional Qayaq Dedication Ceremony
DESCRIPTION:Cama’i! Please join us for a Traditional Qayaq Dedication Ceremony on Saturday\, July 29 at 11 am in Seward at the Kenai Fjords National Park Visitor Center! All are welcome. \nTentative Agenda (subject to change) \n\nWelcome & Land Acknowledgement by NPS staff Gillian Braver\nSugpiat Prayer video – Nellie Gregorieff\, 1961\nMark Hiratsuka – Chugachmiut Heritage Director\nPatrick Lewis\, Cultural Resources Program Manager\nTabios’ Family speaks\nTraditional Qayaq Build Video\nThank you from NPS Staff member\, possibly John Carroll\, KEFJ Superintendent\nInvitation to view the qayaq\nReading of the Dedication\nRefreshments
URL:https://www.chugachmiut.org/event/traditional-qayaq-dedication-ceremony/
LOCATION:Kenai Fjords National Park Visitor Center\, 1212 4th Ave.\, Seward\, AK\, 99677\, United States
CATEGORIES:Heritage Preservation
ATTACH;FMTTYPE=image/png:https://www.chugachmiut.org/wp-content/uploads/2023/07/KFNP-Qayaq-FacebookPost.png
END:VEVENT
BEGIN:VEVENT
DTSTART;TZID=America/Anchorage:20220909T090000
DTEND;TZID=America/Anchorage:20220909T100000
DTSTAMP:20260420T062851
CREATED:20220908T204955Z
LAST-MODIFIED:20220908T205034Z
UID:10004635-1662714000-1662717600@www.chugachmiut.org
SUMMARY:Online Sugpiaq Weaving Class
DESCRIPTION:Please join us Friday\, 9/9/2022\, at 9 am for a special Open Archive Workshop with Chugachmiut Heritage Preservation.\n\n\nThis week the Archive is honored to learn Sugpiaq-style grass weaving over Zoom from master weaver June Pardue. If you wish to practice weaving\, please bring your supplies. Per June\, raffia\, jute\, or twine can all be used during the weaving.\n\n\nZoom Info:\nJoin Zoom Meeting\nhttps://www.chugachmiut-org.zoom.us/j/85937637275…\n\n\nMeeting ID: 859 3763 7275\nPasscode: 970705\nCall In: 877-853-5257 (US Toll-free)
URL:https://www.chugachmiut.org/event/online-sugpiaq-weaving-class/
CATEGORIES:Heritage Preservation
END:VEVENT
BEGIN:VEVENT
DTSTART;TZID=America/Anchorage:20220826T090000
DTEND;TZID=America/Anchorage:20220826T100000
DTSTAMP:20260420T062851
CREATED:20220826T011457Z
LAST-MODIFIED:20220826T012825Z
UID:10004631-1661504400-1661508000@www.chugachmiut.org
SUMMARY:Open Archive Workshop
DESCRIPTION:Please join us at 9 am for our weekly Open Archive Workshop with Chugachmiut Heritage Preservation.\n\n\nThis week the Archive is discussing a newly digitized recording of a story called Nasqurlliinaq (“Only the Head”)\, initially told by Sergius Moonin.\n\n\n\nZoom Info:\nJoin Zoom Meeting\nhttps://www.chugachmiut-org.zoom.us/j/85008902651…\nMeeting ID: 850 0890 2651\nPasscode: 347431\n\nCall In: 877-853-5257 (US Toll-free)
URL:https://www.chugachmiut.org/event/open-archive-workshop-6/
LOCATION:Zoom
CATEGORIES:Heritage Preservation
END:VEVENT
BEGIN:VEVENT
DTSTART;TZID=America/Anchorage:20220527T090000
DTEND;TZID=America/Anchorage:20220527T220000
DTSTAMP:20260420T062851
CREATED:20220506T000037Z
LAST-MODIFIED:20220506T000037Z
UID:10004360-1653642000-1653688800@www.chugachmiut.org
SUMMARY:Open Archive Workshop
DESCRIPTION:
URL:https://www.chugachmiut.org/event/open-archive-workshop-5/
LOCATION:Zoom
CATEGORIES:Heritage Preservation
END:VEVENT
BEGIN:VEVENT
DTSTART;TZID=America/Anchorage:20220520T090000
DTEND;TZID=America/Anchorage:20220520T220000
DTSTAMP:20260420T062851
CREATED:20220506T000037Z
LAST-MODIFIED:20220506T000037Z
UID:10004359-1653037200-1653084000@www.chugachmiut.org
SUMMARY:Open Archive Workshop
DESCRIPTION:
URL:https://www.chugachmiut.org/event/open-archive-workshop-4/
LOCATION:Zoom
CATEGORIES:Heritage Preservation
END:VEVENT
BEGIN:VEVENT
DTSTART;TZID=America/Anchorage:20220518T103000
DTEND;TZID=America/Anchorage:20220518T113000
DTSTAMP:20260420T062851
CREATED:20220506T000022Z
LAST-MODIFIED:20220506T000022Z
UID:10004558-1652869800-1652873400@www.chugachmiut.org
SUMMARY:Virtual Elder Tea
DESCRIPTION:
URL:https://www.chugachmiut.org/event/virtual-elder-tea-2/
LOCATION:Zoom
CATEGORIES:Heritage Preservation
END:VEVENT
BEGIN:VEVENT
DTSTART;TZID=America/Anchorage:20220513T090000
DTEND;TZID=America/Anchorage:20220513T220000
DTSTAMP:20260420T062851
CREATED:20220506T000022Z
LAST-MODIFIED:20220506T000022Z
UID:10004557-1652432400-1652479200@www.chugachmiut.org
SUMMARY:Open Archive Workshop
DESCRIPTION:
URL:https://www.chugachmiut.org/event/open-archive-workshop-3/
LOCATION:Zoom
CATEGORIES:Heritage Preservation
END:VEVENT
BEGIN:VEVENT
DTSTART;TZID=America/Anchorage:20220506T090000
DTEND;TZID=America/Anchorage:20220506T220000
DTSTAMP:20260420T062851
CREATED:20220506T000022Z
LAST-MODIFIED:20220506T000022Z
UID:10004552-1651827600-1651874400@www.chugachmiut.org
SUMMARY:Open Archive Workshop
DESCRIPTION:
URL:https://www.chugachmiut.org/event/open-archive-workshop-2/
LOCATION:Zoom
CATEGORIES:Heritage Preservation
END:VEVENT
BEGIN:VEVENT
DTSTART;TZID=America/Anchorage:20220506T090000
DTEND;TZID=America/Anchorage:20220506T120000
DTSTAMP:20260420T062851
CREATED:20220506T000022Z
LAST-MODIFIED:20220506T000022Z
UID:10004554-1651827600-1651838400@www.chugachmiut.org
SUMMARY:Sea Week - Port Graham Arts/Crafts Activities
DESCRIPTION:
URL:https://www.chugachmiut.org/event/sea-week-port-graham-arts-crafts-activities/
LOCATION:In-person
CATEGORIES:Heritage Preservation
END:VEVENT
BEGIN:VEVENT
DTSTART;TZID=America/Anchorage:20220505T150000
DTEND;TZID=America/Anchorage:20220505T160000
DTSTAMP:20260420T062851
CREATED:20220506T000022Z
LAST-MODIFIED:20220506T000022Z
UID:10004551-1651762800-1651766400@www.chugachmiut.org
SUMMARY:Sea Week - Port Graham Aleut Baseball
DESCRIPTION:
URL:https://www.chugachmiut.org/event/sea-week-port-graham-aleut-baseball/
LOCATION:In-person
CATEGORIES:Heritage Preservation
END:VEVENT
BEGIN:VEVENT
DTSTART;TZID=America/Anchorage:20220505T130000
DTEND;TZID=America/Anchorage:20220505T140000
DTSTAMP:20260420T062851
CREATED:20220506T000007Z
LAST-MODIFIED:20220506T000007Z
UID:10004550-1651755600-1651759200@www.chugachmiut.org
SUMMARY:Sugt'stun Language Class - Port Graham
DESCRIPTION:
URL:https://www.chugachmiut.org/event/sugtstun-language-class-port-graham-2/
LOCATION:In-person
CATEGORIES:Heritage Preservation
END:VEVENT
BEGIN:VEVENT
DTSTART;TZID=America/Anchorage:20220505T090000
DTEND;TZID=America/Anchorage:20220505T120000
DTSTAMP:20260420T062851
CREATED:20220506T000007Z
LAST-MODIFIED:20220506T000007Z
UID:10004549-1651741200-1651752000@www.chugachmiut.org
SUMMARY:Sea Week - Port Graham Subsistence Activities
DESCRIPTION:
URL:https://www.chugachmiut.org/event/sea-week-port-graham-subsistence-activities/
LOCATION:In-person
CATEGORIES:Heritage Preservation
END:VEVENT
BEGIN:VEVENT
DTSTART;TZID=America/Anchorage:20220504T130000
DTEND;TZID=America/Anchorage:20220504T160000
DTSTAMP:20260420T062851
CREATED:20220506T000007Z
LAST-MODIFIED:20220506T000007Z
UID:10004548-1651669200-1651680000@www.chugachmiut.org
SUMMARY:Sea Week - Port Graham Foods From the Sea Cooking Groups with Students
DESCRIPTION:
URL:https://www.chugachmiut.org/event/sea-week-port-graham-foods-from-the-sea-cooking-groups-with-students/
LOCATION:In-person
CATEGORIES:Heritage Preservation
END:VEVENT
BEGIN:VEVENT
DTSTART;TZID=America/Anchorage:20220504T110000
DTEND;TZID=America/Anchorage:20220504T120000
DTSTAMP:20260420T062851
CREATED:20220506T000006Z
LAST-MODIFIED:20220506T000006Z
UID:10004547-1651662000-1651665600@www.chugachmiut.org
SUMMARY:Sea Week - Port Graham Fish Pie
DESCRIPTION:
URL:https://www.chugachmiut.org/event/sea-week-port-graham-fish-pie/
LOCATION:In-person
CATEGORIES:Heritage Preservation
END:VEVENT
BEGIN:VEVENT
DTSTART;TZID=America/Anchorage:20220504T103000
DTEND;TZID=America/Anchorage:20220504T113000
DTSTAMP:20260420T062851
CREATED:20220506T000005Z
LAST-MODIFIED:20220506T000005Z
UID:10004545-1651660200-1651663800@www.chugachmiut.org
SUMMARY:Virtual Elder Tea
DESCRIPTION:
URL:https://www.chugachmiut.org/event/virtual-elder-tea/
LOCATION:Zoom
CATEGORIES:Heritage Preservation
END:VEVENT
BEGIN:VEVENT
DTSTART;TZID=America/Anchorage:20220504T103000
DTEND;TZID=America/Anchorage:20220504T105000
DTSTAMP:20260420T062851
CREATED:20220506T000006Z
LAST-MODIFIED:20220506T000006Z
UID:10004546-1651660200-1651661400@www.chugachmiut.org
SUMMARY:Sugt'stun Language Class - Port Graham Head Start
DESCRIPTION:
URL:https://www.chugachmiut.org/event/sugtstun-language-class-port-graham-head-start-26/
LOCATION:In-person
CATEGORIES:Heritage Preservation
END:VEVENT
BEGIN:VEVENT
DTSTART;TZID=America/Anchorage:20220503T130000
DTEND;TZID=America/Anchorage:20220503T140000
DTSTAMP:20260420T062851
CREATED:20220506T000005Z
LAST-MODIFIED:20220506T000005Z
UID:10004544-1651582800-1651586400@www.chugachmiut.org
SUMMARY:Sugt'stun Language Class - Port Graham
DESCRIPTION:
URL:https://www.chugachmiut.org/event/sugtstun-language-class-port-graham/
LOCATION:In-person
CATEGORIES:Heritage Preservation
END:VEVENT
BEGIN:VEVENT
DTSTART;TZID=America/Anchorage:20220503T103000
DTEND;TZID=America/Anchorage:20220503T105000
DTSTAMP:20260420T062851
CREATED:20220506T000005Z
LAST-MODIFIED:20220506T000005Z
UID:10004543-1651573800-1651575000@www.chugachmiut.org
SUMMARY:Sugt'stun Language Class - Port Graham Head Start
DESCRIPTION:
URL:https://www.chugachmiut.org/event/sugtstun-language-class-port-graham-head-start-25/
LOCATION:In-person
CATEGORIES:Heritage Preservation
END:VEVENT
BEGIN:VEVENT
DTSTART;TZID=America/Anchorage:20220502T130000
DTEND;TZID=America/Anchorage:20220502T143000
DTSTAMP:20260420T062851
CREATED:20220506T000004Z
LAST-MODIFIED:20220506T000004Z
UID:10004542-1651496400-1651501800@www.chugachmiut.org
SUMMARY:Sug'stun Language Class - Port Graham
DESCRIPTION:
URL:https://www.chugachmiut.org/event/sugstun-language-class-port-graham/
LOCATION:In-person
CATEGORIES:Heritage Preservation
END:VEVENT
BEGIN:VEVENT
DTSTART;TZID=America/Anchorage:20220502T090000
DTEND;TZID=America/Anchorage:20220502T120000
DTSTAMP:20260420T062851
CREATED:20220506T000004Z
LAST-MODIFIED:20220506T000004Z
UID:10004541-1651482000-1651492800@www.chugachmiut.org
SUMMARY:Sea Week - Port Graham School Beach Walk
DESCRIPTION:
URL:https://www.chugachmiut.org/event/sea-week-port-graham-school-beach-walk/
LOCATION:In-person
CATEGORIES:Heritage Preservation
END:VEVENT
BEGIN:VEVENT
DTSTART;TZID=America/Anchorage:20220318T090000
DTEND;TZID=America/Anchorage:20220318T100000
DTSTAMP:20260420T062851
CREATED:20220210T232607Z
LAST-MODIFIED:20220210T233102Z
UID:10004475-1647594000-1647597600@www.chugachmiut.org
SUMMARY:Open Archive Workshop
DESCRIPTION:Attention all Elders/Recognized Experts!\n\n\nEvery Friday at 9 am\, our Archive team conducts an Open Archive Workshop. We want to hear your stories and knowledge specific to the items in the Archive!\n\n\nAccess the Zoom link here: https://www.chugachmiut-org.zoom.us/j/85008902651…
URL:https://www.chugachmiut.org/event/open-archive-workshop/2022-03-18/
LOCATION:Zoom
CATEGORIES:Heritage Preservation
END:VEVENT
BEGIN:VEVENT
DTSTART;TZID=America/Anchorage:20220315T080000
DTEND;TZID=America/Anchorage:20220317T170000
DTSTAMP:20260420T062851
CREATED:20220226T005512Z
LAST-MODIFIED:20220226T005512Z
UID:10004524-1647331200-1647536400@www.chugachmiut.org
SUMMARY:Chugachmiut Heritage - Spring Quarterly Meeting
DESCRIPTION:
URL:https://www.chugachmiut.org/event/chugachmiut-heritage-spring-quarterly-meeting/
LOCATION:Zoom
CATEGORIES:Heritage Preservation
END:VEVENT
BEGIN:VEVENT
DTSTART;TZID=America/Anchorage:20220311T090000
DTEND;TZID=America/Anchorage:20220311T100000
DTSTAMP:20260420T062851
CREATED:20220210T232607Z
LAST-MODIFIED:20220210T233102Z
UID:10004474-1646989200-1646992800@www.chugachmiut.org
SUMMARY:Open Archive Workshop
DESCRIPTION:Attention all Elders/Recognized Experts!\n\n\nEvery Friday at 9 am\, our Archive team conducts an Open Archive Workshop. We want to hear your stories and knowledge specific to the items in the Archive!\n\n\nAccess the Zoom link here: https://www.chugachmiut-org.zoom.us/j/85008902651…
URL:https://www.chugachmiut.org/event/open-archive-workshop/2022-03-11/
LOCATION:Zoom
CATEGORIES:Heritage Preservation
END:VEVENT
BEGIN:VEVENT
DTSTART;TZID=America/Anchorage:20220304T090000
DTEND;TZID=America/Anchorage:20220304T100000
DTSTAMP:20260420T062851
CREATED:20220210T232607Z
LAST-MODIFIED:20220210T233102Z
UID:10004473-1646384400-1646388000@www.chugachmiut.org
SUMMARY:Open Archive Workshop
DESCRIPTION:Attention all Elders/Recognized Experts!\n\n\nEvery Friday at 9 am\, our Archive team conducts an Open Archive Workshop. We want to hear your stories and knowledge specific to the items in the Archive!\n\n\nAccess the Zoom link here: https://www.chugachmiut-org.zoom.us/j/85008902651…
URL:https://www.chugachmiut.org/event/open-archive-workshop/2022-03-04/
LOCATION:Zoom
CATEGORIES:Heritage Preservation
END:VEVENT
BEGIN:VEVENT
DTSTART;TZID=America/Anchorage:20220225T090000
DTEND;TZID=America/Anchorage:20220225T100000
DTSTAMP:20260420T062851
CREATED:20220210T232607Z
LAST-MODIFIED:20220210T233102Z
UID:10004472-1645779600-1645783200@www.chugachmiut.org
SUMMARY:Open Archive Workshop
DESCRIPTION:Attention all Elders/Recognized Experts!\n\n\nEvery Friday at 9 am\, our Archive team conducts an Open Archive Workshop. We want to hear your stories and knowledge specific to the items in the Archive!\n\n\nAccess the Zoom link here: https://www.chugachmiut-org.zoom.us/j/85008902651…
URL:https://www.chugachmiut.org/event/open-archive-workshop/2022-02-25/
LOCATION:Zoom
CATEGORIES:Heritage Preservation
END:VEVENT
BEGIN:VEVENT
DTSTART;TZID=America/Anchorage:20220224T130000
DTEND;TZID=America/Anchorage:20220224T140000
DTSTAMP:20260420T062851
CREATED:20220215T222706Z
LAST-MODIFIED:20220215T222706Z
UID:10004523-1645707600-1645711200@www.chugachmiut.org
SUMMARY:Sugt'stun Archive Dictionary Audio Recording
DESCRIPTION:
URL:https://www.chugachmiut.org/event/sugtstun-archive-dictionary-audio-recording-4/
LOCATION:Zoom
CATEGORIES:Heritage Preservation
END:VEVENT
BEGIN:VEVENT
DTSTART;TZID=America/Anchorage:20220222T130000
DTEND;TZID=America/Anchorage:20220222T140000
DTSTAMP:20260420T062851
CREATED:20220215T184652Z
LAST-MODIFIED:20220215T222507Z
UID:10004522-1645534800-1645538400@www.chugachmiut.org
SUMMARY:Sugt'stun Archive Dictionary Audio Recording
DESCRIPTION:
URL:https://www.chugachmiut.org/event/sugtstun-archive-dictionary-audio-recording-3/
LOCATION:Zoom
CATEGORIES:Heritage Preservation
END:VEVENT
BEGIN:VEVENT
DTSTART;TZID=America/Anchorage:20220218T090000
DTEND;TZID=America/Anchorage:20220218T100000
DTSTAMP:20260420T062851
CREATED:20220210T232607Z
LAST-MODIFIED:20220210T233102Z
UID:10004471-1645174800-1645178400@www.chugachmiut.org
SUMMARY:Open Archive Workshop
DESCRIPTION:Attention all Elders/Recognized Experts!\n\n\nEvery Friday at 9 am\, our Archive team conducts an Open Archive Workshop. We want to hear your stories and knowledge specific to the items in the Archive!\n\n\nAccess the Zoom link here: https://www.chugachmiut-org.zoom.us/j/85008902651…
URL:https://www.chugachmiut.org/event/open-archive-workshop/2022-02-18/
LOCATION:Zoom
CATEGORIES:Heritage Preservation
END:VEVENT
BEGIN:VEVENT
DTSTART;TZID=America/Anchorage:20220217T130000
DTEND;TZID=America/Anchorage:20220217T140000
DTSTAMP:20260420T062851
CREATED:20220215T184314Z
LAST-MODIFIED:20220215T222543Z
UID:10004521-1645102800-1645106400@www.chugachmiut.org
SUMMARY:Sugt'stun Archive Dictionary Audio Recording
DESCRIPTION:
URL:https://www.chugachmiut.org/event/sugtstun-archive-dictionary-audio-recording-2/
LOCATION:Zoom
CATEGORIES:Heritage Preservation
END:VEVENT
END:VCALENDAR