BEGIN:VCALENDAR
VERSION:2.0
PRODID:-//Chugachmiut - ECPv6.15.17//NONSGML v1.0//EN
CALSCALE:GREGORIAN
METHOD:PUBLISH
X-ORIGINAL-URL:https://www.chugachmiut.org
X-WR-CALDESC:Events for Chugachmiut
REFRESH-INTERVAL;VALUE=DURATION:PT1H
X-Robots-Tag:noindex
X-PUBLISHED-TTL:PT1H
BEGIN:VTIMEZONE
TZID:America/Anchorage
BEGIN:DAYLIGHT
TZOFFSETFROM:-0900
TZOFFSETTO:-0800
TZNAME:AKDT
DTSTART:20200308T110000
END:DAYLIGHT
BEGIN:STANDARD
TZOFFSETFROM:-0800
TZOFFSETTO:-0900
TZNAME:AKST
DTSTART:20201101T100000
END:STANDARD
BEGIN:DAYLIGHT
TZOFFSETFROM:-0900
TZOFFSETTO:-0800
TZNAME:AKDT
DTSTART:20210314T110000
END:DAYLIGHT
BEGIN:STANDARD
TZOFFSETFROM:-0800
TZOFFSETTO:-0900
TZNAME:AKST
DTSTART:20211107T100000
END:STANDARD
BEGIN:DAYLIGHT
TZOFFSETFROM:-0900
TZOFFSETTO:-0800
TZNAME:AKDT
DTSTART:20220313T110000
END:DAYLIGHT
BEGIN:STANDARD
TZOFFSETFROM:-0800
TZOFFSETTO:-0900
TZNAME:AKST
DTSTART:20221106T100000
END:STANDARD
END:VTIMEZONE
BEGIN:VEVENT
DTSTART;TZID=America/Anchorage:20210712T080000
DTEND;TZID=America/Anchorage:20210716T170000
DTSTAMP:20260422T025741
CREATED:20210708T192518Z
LAST-MODIFIED:20210708T192640Z
UID:10004074-1626076800-1626454800@www.chugachmiut.org
SUMMARY:Nanwalek Dental Clinic
DESCRIPTION:Nanwalek Dental Clinic is happening July 12th – 16th! Give the clinic a call at 907-281-2250 to make an appointment.
URL:https://www.chugachmiut.org/event/nanwalek-dental-clinic/
LOCATION:Nanwalek Clinic\, 1 Maqiq St\, Nanwalek\, AK\, 99603\, United States
CATEGORIES:Health Services
ATTACH;FMTTYPE=image/png:https://www.chugachmiut.org/wp-content/uploads/2021/06/Dental-Clinic-1.png
END:VEVENT
BEGIN:VEVENT
DTSTART;TZID=America/Anchorage:20210617T000000
DTEND;TZID=America/Anchorage:20210617T000000
DTSTAMP:20260422T025741
CREATED:20210602T182705Z
LAST-MODIFIED:20210607T190256Z
UID:10003582-1623888000-1623888000@www.chugachmiut.org
SUMMARY:Registered Dietitian visits Nanwalek
DESCRIPTION:Joseph Nyholm\, Registered Dietitian\, will be visiting Nanwalek and open schedule 6/14 to 6/17.
URL:https://www.chugachmiut.org/event/registered-dietitian-visits-nanwalek/2021-06-17/
LOCATION:Nanwalek Clinic\, 1 Maqiq St\, Nanwalek\, AK\, 99603\, United States
CATEGORIES:Health Services
ATTACH;FMTTYPE=image/png:https://www.chugachmiut.org/wp-content/uploads/2021/06/Dietitian-Thumb.png
END:VEVENT
BEGIN:VEVENT
DTSTART;TZID=America/Anchorage:20210616T000000
DTEND;TZID=America/Anchorage:20210616T000000
DTSTAMP:20260422T025741
CREATED:20210602T182705Z
LAST-MODIFIED:20210607T190256Z
UID:10003581-1623801600-1623801600@www.chugachmiut.org
SUMMARY:Registered Dietitian visits Nanwalek
DESCRIPTION:Joseph Nyholm\, Registered Dietitian\, will be visiting Nanwalek and open schedule 6/14 to 6/17.
URL:https://www.chugachmiut.org/event/registered-dietitian-visits-nanwalek/2021-06-16/
LOCATION:Nanwalek Clinic\, 1 Maqiq St\, Nanwalek\, AK\, 99603\, United States
CATEGORIES:Health Services
ATTACH;FMTTYPE=image/png:https://www.chugachmiut.org/wp-content/uploads/2021/06/Dietitian-Thumb.png
END:VEVENT
BEGIN:VEVENT
DTSTART;TZID=America/Anchorage:20210615T000000
DTEND;TZID=America/Anchorage:20210615T000000
DTSTAMP:20260422T025741
CREATED:20210602T182705Z
LAST-MODIFIED:20210607T190256Z
UID:10003580-1623715200-1623715200@www.chugachmiut.org
SUMMARY:Registered Dietitian visits Nanwalek
DESCRIPTION:Joseph Nyholm\, Registered Dietitian\, will be visiting Nanwalek and open schedule 6/14 to 6/17.
URL:https://www.chugachmiut.org/event/registered-dietitian-visits-nanwalek/2021-06-15/
LOCATION:Nanwalek Clinic\, 1 Maqiq St\, Nanwalek\, AK\, 99603\, United States
CATEGORIES:Health Services
ATTACH;FMTTYPE=image/png:https://www.chugachmiut.org/wp-content/uploads/2021/06/Dietitian-Thumb.png
END:VEVENT
BEGIN:VEVENT
DTSTART;TZID=America/Anchorage:20210614T000000
DTEND;TZID=America/Anchorage:20210614T000000
DTSTAMP:20260422T025741
CREATED:20210602T182705Z
LAST-MODIFIED:20210607T190256Z
UID:10003579-1623628800-1623628800@www.chugachmiut.org
SUMMARY:Registered Dietitian visits Nanwalek
DESCRIPTION:Joseph Nyholm\, Registered Dietitian\, will be visiting Nanwalek and open schedule 6/14 to 6/17.
URL:https://www.chugachmiut.org/event/registered-dietitian-visits-nanwalek/2021-06-14/
LOCATION:Nanwalek Clinic\, 1 Maqiq St\, Nanwalek\, AK\, 99603\, United States
CATEGORIES:Health Services
ATTACH;FMTTYPE=image/png:https://www.chugachmiut.org/wp-content/uploads/2021/06/Dietitian-Thumb.png
END:VEVENT
END:VCALENDAR