BEGIN:VCALENDAR
VERSION:2.0
PRODID:-//Chugachmiut - ECPv6.15.17//NONSGML v1.0//EN
CALSCALE:GREGORIAN
METHOD:PUBLISH
X-WR-CALNAME:Chugachmiut
X-ORIGINAL-URL:https://www.chugachmiut.org
X-WR-CALDESC:Events for Chugachmiut
REFRESH-INTERVAL;VALUE=DURATION:PT1H
X-Robots-Tag:noindex
X-PUBLISHED-TTL:PT1H
BEGIN:VTIMEZONE
TZID:America/Anchorage
BEGIN:DAYLIGHT
TZOFFSETFROM:-0900
TZOFFSETTO:-0800
TZNAME:AKDT
DTSTART:20230312T110000
END:DAYLIGHT
BEGIN:STANDARD
TZOFFSETFROM:-0800
TZOFFSETTO:-0900
TZNAME:AKST
DTSTART:20231105T100000
END:STANDARD
BEGIN:DAYLIGHT
TZOFFSETFROM:-0900
TZOFFSETTO:-0800
TZNAME:AKDT
DTSTART:20240310T110000
END:DAYLIGHT
BEGIN:STANDARD
TZOFFSETFROM:-0800
TZOFFSETTO:-0900
TZNAME:AKST
DTSTART:20241103T100000
END:STANDARD
BEGIN:DAYLIGHT
TZOFFSETFROM:-0900
TZOFFSETTO:-0800
TZNAME:AKDT
DTSTART:20250309T110000
END:DAYLIGHT
BEGIN:STANDARD
TZOFFSETFROM:-0800
TZOFFSETTO:-0900
TZNAME:AKST
DTSTART:20251102T100000
END:STANDARD
BEGIN:DAYLIGHT
TZOFFSETFROM:-0900
TZOFFSETTO:-0800
TZNAME:AKDT
DTSTART:20260308T110000
END:DAYLIGHT
BEGIN:STANDARD
TZOFFSETFROM:-0800
TZOFFSETTO:-0900
TZNAME:AKST
DTSTART:20261101T100000
END:STANDARD
END:VTIMEZONE
BEGIN:VEVENT
DTSTART;TZID=America/Anchorage:20251015T103000
DTEND;TZID=America/Anchorage:20251015T133000
DTSTAMP:20260422T051658
CREATED:20251014T225440Z
LAST-MODIFIED:20251014T225440Z
UID:10005743-1760524200-1760535000@www.chugachmiut.org
SUMMARY:477 Program Community Visit
DESCRIPTION:Ryan Clayton with Chugachmiut’s 477 Program will be at the Nanwalek Community Center on Wednesday\, October 15\, 10:30 AM–1:30 PM.Stop by with your questions about General Assistance\, scholarships\, or other support programs. Light refreshments provided!
URL:https://www.chugachmiut.org/event/477-program-community-visit/
LOCATION:Nanwalek Community Building\, Nanwalek\, AK\, United States
CATEGORIES:Social Services
END:VEVENT
BEGIN:VEVENT
DTSTART;TZID=America/Anchorage:20250807T110000
DTEND;TZID=America/Anchorage:20250807T150000
DTSTAMP:20260422T051658
CREATED:20250709T003511Z
LAST-MODIFIED:20250801T222152Z
UID:10005730-1754564400-1754578800@www.chugachmiut.org
SUMMARY:Nanwalek Health Fair
DESCRIPTION:*Attention: Nanwalek Residents* \nJoin us for the annual community health fair in Nanwalek on Thursday\, August 7\, from 11 am-3 pm! 🌿Join us for exciting activities\, including health screenings\, program information sessions\, and wellness workshops designed to enhance your health and well-being. \nThe Homer Farmer’s Market will be hosting a pop-up shop\, and SNAP users can TRIPLE their benefits! \nWe look forward to seeing you there!
URL:https://www.chugachmiut.org/event/nanwalek-health-fair-2/
LOCATION:Nanwalek Community Building\, Nanwalek\, AK\, United States
CATEGORIES:Health Services
END:VEVENT
BEGIN:VEVENT
DTSTART;TZID=America/Anchorage:20250502T110000
DTEND;TZID=America/Anchorage:20250502T130000
DTSTAMP:20260422T051658
CREATED:20250501T003857Z
LAST-MODIFIED:20250501T004130Z
UID:10005723-1746183600-1746190800@www.chugachmiut.org
SUMMARY:Community Talking Circle
DESCRIPTION:We invite you to join us for a Community Talking Circle at the Nanwalek Community Center on Friday\, May 2 at 11 a.m. This will be a safe space to come together\, reflect\, and support one another. \nIn the wake of a recent crisis\, we invite community members to come together in a safe and supportive space for a Talking Circle — a time for shared reflection\, connection\, and healing. This circle will be led by Kelly Campbell\, LCSW\, with Southcentral Foundation. Kelly brings extensive training and experience in community crisis debriefing and Critical Incident Stress Management. She will be joined by Victoria Clark\, Behavioral Health Provider with Chugachmiut\, who will offer additional support.
URL:https://www.chugachmiut.org/event/community-talking-circle/
LOCATION:Nanwalek Community Building\, Nanwalek\, AK\, United States
CATEGORIES:Health Services
END:VEVENT
BEGIN:VEVENT
DTSTART;VALUE=DATE:20240808
DTEND;VALUE=DATE:20240809
DTSTAMP:20260422T051658
CREATED:20240725T171032Z
LAST-MODIFIED:20240725T171110Z
UID:10005648-1723075200-1723161599@www.chugachmiut.org
SUMMARY:Nanwalek Health Fair
DESCRIPTION:Join us for the annual community health fair in Nanwalek on Thursday\, August 8! 🌿Join us for a day of exciting activities\, including health screenings\, program information sessions\, and wellness workshops designed to enhance your health and well-being. Win prizes for floor bingo and survey drawings! 🎉 \nIf you have any questions\, contact Joseph Nyholm\, MS\, RDN\, Registered Dietitian\, at JosephN@Chugachmiut.org.
URL:https://www.chugachmiut.org/event/nanwalek-health-fair/
LOCATION:Nanwalek Community Building\, Nanwalek\, AK\, United States
CATEGORIES:Health Services
END:VEVENT
END:VCALENDAR