BEGIN:VCALENDAR
VERSION:2.0
PRODID:-//Chugachmiut - ECPv6.15.17//NONSGML v1.0//EN
CALSCALE:GREGORIAN
METHOD:PUBLISH
X-WR-CALNAME:Chugachmiut
X-ORIGINAL-URL:https://www.chugachmiut.org
X-WR-CALDESC:Events for Chugachmiut
REFRESH-INTERVAL;VALUE=DURATION:PT1H
X-Robots-Tag:noindex
X-PUBLISHED-TTL:PT1H
BEGIN:VTIMEZONE
TZID:America/Anchorage
BEGIN:DAYLIGHT
TZOFFSETFROM:-0900
TZOFFSETTO:-0800
TZNAME:AKDT
DTSTART:20250309T110000
END:DAYLIGHT
BEGIN:STANDARD
TZOFFSETFROM:-0800
TZOFFSETTO:-0900
TZNAME:AKST
DTSTART:20251102T100000
END:STANDARD
BEGIN:DAYLIGHT
TZOFFSETFROM:-0900
TZOFFSETTO:-0800
TZNAME:AKDT
DTSTART:20260308T110000
END:DAYLIGHT
BEGIN:STANDARD
TZOFFSETFROM:-0800
TZOFFSETTO:-0900
TZNAME:AKST
DTSTART:20261101T100000
END:STANDARD
BEGIN:DAYLIGHT
TZOFFSETFROM:-0900
TZOFFSETTO:-0800
TZNAME:AKDT
DTSTART:20270314T110000
END:DAYLIGHT
BEGIN:STANDARD
TZOFFSETFROM:-0800
TZOFFSETTO:-0900
TZNAME:AKST
DTSTART:20271107T100000
END:STANDARD
END:VTIMEZONE
BEGIN:VEVENT
DTSTART;VALUE=DATE:20260503
DTEND;VALUE=DATE:20260519
DTSTAMP:20260420T032212
CREATED:20260302T224908Z
LAST-MODIFIED:20260302T231754Z
UID:10005782-1777766400-1779148799@www.chugachmiut.org
SUMMARY:Llangarwik Recovery Camp
DESCRIPTION:Healing\, connection\, and support are at the heart of Llangarwik Recovery Camp. \nLlangarwik Recovery Camp\nMay 3-18\, 2026\nSoldotna \nWhether you’re facing alcoholism\, addiction\, depression\, anxiety\, or trauma\, you don’t have to walk this path alone. Join us for two weeks of healing and wellness that blend proven approaches with meditation\, art\, crafts\, singing\, games\, and time on the land. \nParticipants will: \n\nBuild a supportive circle of friends\nShare stories\, laughter\, tears\, and hope\nEnjoy nutritious homemade meals\nTake time for reflection\, dialogue\, and cultural respect\nGain tools to move forward on a positive path\n\nApplications are available at your local clinic. \n \nInterested or have questions?\nContact Alicia Ambrosio\n(907) 334-0157 | Toll-free (800) 478-4155\nAliciaA@chugachmiut.org
URL:https://www.chugachmiut.org/event/llangarwik-recovery-camp-6/
LOCATION:Soldotna\, Alaska\, Soldotna\, AK\, United States
CATEGORIES:Social Services
END:VEVENT
END:VCALENDAR