BEGIN:VCALENDAR
VERSION:2.0
PRODID:-//Chugachmiut - ECPv6.15.17//NONSGML v1.0//EN
CALSCALE:GREGORIAN
METHOD:PUBLISH
X-WR-CALNAME:Chugachmiut
X-ORIGINAL-URL:https://www.chugachmiut.org
X-WR-CALDESC:Events for Chugachmiut
REFRESH-INTERVAL;VALUE=DURATION:PT1H
X-Robots-Tag:noindex
X-PUBLISHED-TTL:PT1H
BEGIN:VTIMEZONE
TZID:America/Anchorage
BEGIN:DAYLIGHT
TZOFFSETFROM:-0900
TZOFFSETTO:-0800
TZNAME:AKDT
DTSTART:20220313T110000
END:DAYLIGHT
BEGIN:STANDARD
TZOFFSETFROM:-0800
TZOFFSETTO:-0900
TZNAME:AKST
DTSTART:20221106T100000
END:STANDARD
BEGIN:DAYLIGHT
TZOFFSETFROM:-0900
TZOFFSETTO:-0800
TZNAME:AKDT
DTSTART:20230312T110000
END:DAYLIGHT
BEGIN:STANDARD
TZOFFSETFROM:-0800
TZOFFSETTO:-0900
TZNAME:AKST
DTSTART:20231105T100000
END:STANDARD
BEGIN:DAYLIGHT
TZOFFSETFROM:-0900
TZOFFSETTO:-0800
TZNAME:AKDT
DTSTART:20240310T110000
END:DAYLIGHT
BEGIN:STANDARD
TZOFFSETFROM:-0800
TZOFFSETTO:-0900
TZNAME:AKST
DTSTART:20241103T100000
END:STANDARD
BEGIN:DAYLIGHT
TZOFFSETFROM:-0900
TZOFFSETTO:-0800
TZNAME:AKDT
DTSTART:20250309T110000
END:DAYLIGHT
BEGIN:STANDARD
TZOFFSETFROM:-0800
TZOFFSETTO:-0900
TZNAME:AKST
DTSTART:20251102T100000
END:STANDARD
BEGIN:DAYLIGHT
TZOFFSETFROM:-0900
TZOFFSETTO:-0800
TZNAME:AKDT
DTSTART:20260308T110000
END:DAYLIGHT
BEGIN:STANDARD
TZOFFSETFROM:-0800
TZOFFSETTO:-0900
TZNAME:AKST
DTSTART:20261101T100000
END:STANDARD
END:VTIMEZONE
BEGIN:VEVENT
DTSTART;VALUE=DATE:20250317
DTEND;VALUE=DATE:20250319
DTSTAMP:20260422T043540
CREATED:20250311T180006Z
LAST-MODIFIED:20250311T180006Z
UID:10005717-1742169600-1742342399@www.chugachmiut.org
SUMMARY:Tatitlek Health Fair
DESCRIPTION:Join us at the Prince William Sound Health Fair in Tatitlek on March 17-18! 🌿 Enjoy exciting activities\, including health and safety information\, a cooking demonstration\, a community meal\, health screenings\, and special activities for men and women. If you have any questions\, contact Joe Nyholm\, a Registered Dietitian with the Chugachmiut Diabetes Program\, at (907) 224-4904 or JosephN@Chugachmiut.org.
URL:https://www.chugachmiut.org/event/tatitlek-health-fair/
LOCATION:tatitlek
CATEGORIES:Health Services
END:VEVENT
BEGIN:VEVENT
DTSTART;VALUE=DATE:20230515
DTEND;VALUE=DATE:20230530
DTSTAMP:20260422T043540
CREATED:20230417T194607Z
LAST-MODIFIED:20230417T194607Z
UID:10004636-1684108800-1685404799@www.chugachmiut.org
SUMMARY:Llargarwik Recovery Camp in Tatitlek
DESCRIPTION:Our two-week Llargarwik Recovery Camp is coming up on May 15 in Tatitlek. Llangarwik – “A place of awakening” provides 14 days of wellness to the people of the Chugach Region. This residential program focuses on personal development. \nContact Eydie at 907-602-8644 or eydief@chugachmiut.org for more info and to sign up. Please help spread the word to those who may suffer from alcoholism and other addictions. Quyanaa & AwA’ahdah!
URL:https://www.chugachmiut.org/event/llargarwik-recovery-camp-in-tatitlek/
LOCATION:tatitlek
CATEGORIES:Social Services
ATTACH;FMTTYPE=image/jpeg:https://www.chugachmiut.org/wp-content/uploads/2023/04/Llargarwik-Recovery-Camp-in-Tatitlek-5-23.jpg
END:VEVENT
END:VCALENDAR